BEGIN:VCALENDAR
VERSION:2.0
PRODID:-//American Young Coder - ECPv6.10.1.1//NONSGML v1.0//EN
CALSCALE:GREGORIAN
METHOD:PUBLISH
X-WR-CALNAME:American Young Coder
X-ORIGINAL-URL:https://www.ayclogic.com
X-WR-CALDESC:Events for American Young Coder
REFRESH-INTERVAL;VALUE=DURATION:PT1H
X-Robots-Tag:noindex
X-PUBLISHED-TTL:PT1H
BEGIN:VTIMEZONE
TZID:America/Los_Angeles
BEGIN:DAYLIGHT
TZOFFSETFROM:-0800
TZOFFSETTO:-0700
TZNAME:PDT
DTSTART:20240310T100000
END:DAYLIGHT
BEGIN:STANDARD
TZOFFSETFROM:-0700
TZOFFSETTO:-0800
TZNAME:PST
DTSTART:20241103T090000
END:STANDARD
END:VTIMEZONE
BEGIN:VEVENT
DTSTART;TZID=America/Los_Angeles:20240720T090000
DTEND;TZID=America/Los_Angeles:20240720T100000
DTSTAMP:20260421T224456
CREATED:20240720T030410Z
LAST-MODIFIED:20240720T030410Z
UID:26036-1721466000-1721469600@www.ayclogic.com
SUMMARY:9 AM - Indo - Python Game Development - Joel
DESCRIPTION:Today we did:\n\nWe continued working on the final project\nWe continued ShootBalloon and fixed the collision function for the bug\, and some hitbox issues with the target and bug.\n\nHomework:\n\nFor the final project\, make sure to add the main title in the game_landing_page. You can use draw_big_text if you want\, make it as nice as possible (up to you).\nAlso in the final project\, find the sound effects you want to use for three things\, and apply them:\nJumping\nShooting\nWhen the snowball hits a zombie\nFor ShootBalloon\, make the coliision function for the balloon\, and make sure the hitbox does not include the string.\n\nIf you have any questions\, feel free to email me at joel@ayclogic.com. \n 
URL:https://www.ayclogic.com/event/9-am-indo-python-game-development-joel-9/
END:VEVENT
BEGIN:VEVENT
DTSTART;TZID=America/Los_Angeles:20240720T100000
DTEND;TZID=America/Los_Angeles:20240720T110000
DTSTAMP:20260421T224456
CREATED:20240720T041308Z
LAST-MODIFIED:20240720T041308Z
UID:26039-1721469600-1721473200@www.ayclogic.com
SUMMARY:10 AM - Python Game Dev - Indo Gamas
DESCRIPTION:Today We Did\n\nWe added fireball to the screen.\nWe launch fireball only when user press SPACE key.\nWe added player’s animation.\n\nHomework\n\nIn player.py\, when you run\, you now get list index out of range error. Fix this error. You have to reset self.img_index when it is bigger than the last index of the list.\nIn bird.py\, you have to add bird animation. This is very similar to how to add animation on player.
URL:https://www.ayclogic.com/event/10-am-python-game-dev-indo-gamas/
END:VEVENT
BEGIN:VEVENT
DTSTART;TZID=America/Los_Angeles:20240720T103000
DTEND;TZID=America/Los_Angeles:20240720T113000
DTSTAMP:20260421T224456
CREATED:20240724T015753Z
LAST-MODIFIED:20240724T015753Z
UID:26100-1721471400-1721475000@www.ayclogic.com
SUMMARY:10:30 AM - Intro To Python - Bill
DESCRIPTION:Your HW:\n\nMake our rectangle function have 1 more parameter\, color\nMake it so the rectangle will be drawn and filled with the color provided by the color parameter
URL:https://www.ayclogic.com/event/1030-am-intro-to-python-bill-24/
END:VEVENT
BEGIN:VEVENT
DTSTART;TZID=America/Los_Angeles:20240720T113000
DTEND;TZID=America/Los_Angeles:20240720T123000
DTSTAMP:20260421T224456
CREATED:20240724T015853Z
LAST-MODIFIED:20240724T015853Z
UID:26103-1721475000-1721478600@www.ayclogic.com
SUMMARY:11:30 PM - Unity Game Development - Bill
DESCRIPTION:Your HW:\n\nDownload blender\nhttps://www.blender.org/
URL:https://www.ayclogic.com/event/1130-pm-unity-game-development-bill/
END:VEVENT
BEGIN:VEVENT
DTSTART;TZID=America/Los_Angeles:20240720T120000
DTEND;TZID=America/Los_Angeles:20240720T130000
DTSTAMP:20260421T224456
CREATED:20240720T195928Z
LAST-MODIFIED:20240720T195928Z
UID:26060-1721476800-1721480400@www.ayclogic.com
SUMMARY:12 PM - AI and ML - Gamas
DESCRIPTION:Today We Did\n\nWe learned more how to utilize Fast.AI prediction result object by getting the accuracy as well investigating other breed accuracy value.\nWe learned how to iterate the input data inside Kaggle and do random image prediction.\n\nHomework\n\nResearch what does enumerate means in python.\nModify extract_breed function to return  CAT or DOG prefix.\n\nFor example\, DOG – Bengal\, CAT – Perssian\, DOG – Chihuahua\n\n\nDeploy this CAT and DOG classifier into streamlit\n\nExport the PKL file\nCreate Pycharm project\, look at your previous Pycharm project for Cat and Dog prediction project.\nRun streamlit locally.
URL:https://www.ayclogic.com/event/12-pm-ai-and-ml-gamas/
END:VEVENT
BEGIN:VEVENT
DTSTART;TZID=America/Los_Angeles:20240720T140000
DTEND;TZID=America/Los_Angeles:20240720T150000
DTSTAMP:20260421T224456
CREATED:20240720T215958Z
LAST-MODIFIED:20240720T215958Z
UID:26063-1721484000-1721487600@www.ayclogic.com
SUMMARY:2 PM - Python Game Dev - Gamas
DESCRIPTION:Today We Did\n\nWe made all balloons popped when we kill the bug.\n\nHomework\n\nMax\, tonight on July 20\, do the last 2 items on your final project and text Gamas at (626) 532-7844\nMerinda\, fix the player1_win_mode and player2_win_mode and add website: www.ayclopgic.com in the credit.\nDereck\, fix the problem when time runs out and both players never touch each other.\nEveryone\,\n\nDo last week Shoot Balloon homework if you have not done it.\nWhen the bug is hit by player\, make the bug falls down. Look at the flappy duck on how to do this.\nAnd create explosion for each balloon that is destroyed when user click the bug.
URL:https://www.ayclogic.com/event/2-pm-python-game-dev-gamas-4/
END:VEVENT
BEGIN:VEVENT
DTSTART;TZID=America/Los_Angeles:20240720T143000
DTEND;TZID=America/Los_Angeles:20240720T153000
DTSTAMP:20260421T224456
CREATED:20240724T015936Z
LAST-MODIFIED:20240724T015936Z
UID:26105-1721485800-1721489400@www.ayclogic.com
SUMMARY:2:30 PM - Unity Game Development - Bill
DESCRIPTION:Your HW:\n\nNone
URL:https://www.ayclogic.com/event/230-pm-unity-game-development-bill-6/
END:VEVENT
BEGIN:VEVENT
DTSTART;TZID=America/Los_Angeles:20240720T180000
DTEND;TZID=America/Los_Angeles:20240720T190000
DTSTAMP:20260421T224456
CREATED:20240724T020120Z
LAST-MODIFIED:20240724T020120Z
UID:26107-1721498400-1721502000@www.ayclogic.com
SUMMARY:6 PM - Python Game Development - Bill
DESCRIPTION:Your HW:\n\nAdd more detail to your plan/agenda for the next 9 weeks\nStart working on your project\, email Mr. Gamas when you have found your assets and are ready to buy them ASAP\n\n 
URL:https://www.ayclogic.com/event/6-pm-python-game-development-bill-3/
END:VEVENT
BEGIN:VEVENT
DTSTART;TZID=America/Los_Angeles:20240720T183000
DTEND;TZID=America/Los_Angeles:20240720T193000
DTSTAMP:20260421T224456
CREATED:20240721T011215Z
LAST-MODIFIED:20240721T011215Z
UID:26069-1721500200-1721503800@www.ayclogic.com
SUMMARY:SAT – 6:30 PM – Intro To Java – Darin
DESCRIPTION:What We Did Today:\n\nDid the first quiz in Java.\n\nHomework:\n\nNone!\n\nIf you have any questions\, you can reach out to me at ddjapri@ayclogic.com
URL:https://www.ayclogic.com/event/sat-630-pm-intro-to-java-darin/
CATEGORIES:Introduction To Java,Java
END:VEVENT
END:VCALENDAR