BEGIN:VCALENDAR
VERSION:2.0
PRODID:-//American Young Coder - ECPv6.10.1.1//NONSGML v1.0//EN
CALSCALE:GREGORIAN
METHOD:PUBLISH
X-ORIGINAL-URL:https://www.ayclogic.com
X-WR-CALDESC:Events for American Young Coder
REFRESH-INTERVAL;VALUE=DURATION:PT1H
X-Robots-Tag:noindex
X-PUBLISHED-TTL:PT1H
BEGIN:VTIMEZONE
TZID:America/Los_Angeles
BEGIN:DAYLIGHT
TZOFFSETFROM:-0800
TZOFFSETTO:-0700
TZNAME:PDT
DTSTART:20240310T100000
END:DAYLIGHT
BEGIN:STANDARD
TZOFFSETFROM:-0700
TZOFFSETTO:-0800
TZNAME:PST
DTSTART:20241103T090000
END:STANDARD
END:VTIMEZONE
BEGIN:VEVENT
DTSTART;TZID=America/Los_Angeles:20240729T160000
DTEND;TZID=America/Los_Angeles:20240729T170000
DTSTAMP:20260421T210633
CREATED:20240729T184000Z
LAST-MODIFIED:20240730T010734Z
UID:26178-1722268800-1722272400@www.ayclogic.com
SUMMARY:4 PM – Python OOP – Darin
DESCRIPTION:Today We Did:\n\nSetup PyCharm to use for the Python OOP class.\nLearnt a bit about a new data structure: Dictionary\n\nHomework:\nCreate a new file called July29_DictionaryCopyHW.py and upload it into the google drive when you are finished. \n\nCopy the code from pages 92 – 97\nYou start from (A simple dictionary) to (using get() to access values)\n\nAlso for Jensen\, make sure you are able to screen share by next week. \nNOTES:\nYou can contact me via ddjapri@ayclogic.com for any questions or concerns. \nExpected holidays: https://www.ayclogic.com/observed-holidays/
URL:https://www.ayclogic.com/event/5-pm-python-oop-darin-4/
CATEGORIES:OOP Python,Python Class
END:VEVENT
BEGIN:VEVENT
DTSTART;TZID=America/Los_Angeles:20240729T170000
DTEND;TZID=America/Los_Angeles:20240729T180000
DTSTAMP:20260421T210633
CREATED:20240729T201207Z
LAST-MODIFIED:20240730T012003Z
UID:26181-1722272400-1722276000@www.ayclogic.com
SUMMARY:5 PM – Python Game Dev – Darin
DESCRIPTION:Today We Did:\n\nWe reviewed each individual project.\nWe continued on Shoot Balloon project by making target class complete and able to shoot down balloons.\nAdded a score display for our score after popping balloons.\n\nHomework:\nContinue working on your individual project according to the assignment listed in your project proposal. \n\n\n\nChris\n\nUpdate your project proposal to detail what you are adding due August 5.\nCrop all the 16 player images using fire alpaca for Player animation.\nAnimate the player movement using 4 different lists depending on a new direction variable\nMake the player\, enemy\, and projectiles smaller so the arena is larger.\nAdd more than one enemy in one field as they are small to ramp up difficulty.\n\n\nBrandon\nnote: I recommend finding ways for projectiles to curve (perhaps by using the concept of gravity that we learnt in flappy bird)\nExtra idea: introduce homing projectiles \nUpdate your project proposal for what you are going to do due on August 5\, as well as what you have accomplished.\n\nprojectile.py: \n\nMake two classes\, one for straight projectiles\, and one for curving projectiles.\nMake the projectile appear from left or right\nAdd collision detection between player and projectile. If a player get hit\, make player’s health goes down\, and make the projectile disappear.\nAdd game modes – landing page\, credits page\, game over page.\nAfter this\, you need to make the game more complicated\, perhaps by introducing levels after a timer runs up.\n\n\nDakota\n\nUpdate the project proposal.\nCreate different game modes for landing page\, game in session\, credits page\, game over.\nmake the projectiles have special effects\nAttempt to create an explode class that appears when a collision happens\, and disappears (by using self.kill() in the explode class) after perhaps 3 seconds\n\n\n\n\n\nIMPORTANT NOTES:\nYou can contact me via ddjapri@ayclogic.com for any questions or concerns. \nThe final project is due August 19.
URL:https://www.ayclogic.com/event/5-pm-python-game-dev-darin/
CATEGORIES:Python Class,Python Game Development
END:VEVENT
BEGIN:VEVENT
DTSTART;TZID=America/Los_Angeles:20240729T190000
DTEND;TZID=America/Los_Angeles:20240729T200000
DTSTAMP:20260421T210633
CREATED:20240729T201344Z
LAST-MODIFIED:20240729T201344Z
UID:26182-1722279600-1722283200@www.ayclogic.com
SUMMARY:7 PM – Intro To Java – Darin
DESCRIPTION:What We Did Today:\n\nDid our quiz for the course!\nYou will receive your grade within the next day.\n\nHomework:\n\nNone! Enjoy the week’s break before we start diving into new topics next week.\n\nNotes:\nIf you have any questions\, you can email me at ddjapri@ayclogic.com \nAYC Logic’s observed holidays: https://www.ayclogic.com/observed-holidays/
URL:https://www.ayclogic.com/event/7-pm-intro-to-java-darin-11/
END:VEVENT
BEGIN:VEVENT
DTSTART;TZID=America/Los_Angeles:20240729T193000
DTEND;TZID=America/Los_Angeles:20240729T203000
DTSTAMP:20260421T210633
CREATED:20240731T181039Z
LAST-MODIFIED:20240731T181039Z
UID:26231-1722281400-1722285000@www.ayclogic.com
SUMMARY:7:30 PM - Python Game Development - Bill
DESCRIPTION:Your HW:\n\nWork on your projects\, complete the plans for Week2 you’ve made\nMake sure to commit and push when you are done
URL:https://www.ayclogic.com/event/730-pm-python-game-development-bill-22/
END:VEVENT
END:VCALENDAR