BEGIN:VCALENDAR
VERSION:2.0
PRODID:-//American Young Coder - ECPv6.10.1.1//NONSGML v1.0//EN
CALSCALE:GREGORIAN
METHOD:PUBLISH
X-ORIGINAL-URL:https://www.ayclogic.com
X-WR-CALDESC:Events for American Young Coder
REFRESH-INTERVAL;VALUE=DURATION:PT1H
X-Robots-Tag:noindex
X-PUBLISHED-TTL:PT1H
BEGIN:VTIMEZONE
TZID:America/Los_Angeles
BEGIN:DAYLIGHT
TZOFFSETFROM:-0800
TZOFFSETTO:-0700
TZNAME:PDT
DTSTART:20240310T100000
END:DAYLIGHT
BEGIN:STANDARD
TZOFFSETFROM:-0700
TZOFFSETTO:-0800
TZNAME:PST
DTSTART:20241103T090000
END:STANDARD
END:VTIMEZONE
BEGIN:VEVENT
DTSTART;TZID=America/Los_Angeles:20240809T190000
DTEND;TZID=America/Los_Angeles:20240809T200000
DTSTAMP:20260422T003124
CREATED:20240809T150210Z
LAST-MODIFIED:20240809T150210Z
UID:26392-1723230000-1723233600@www.ayclogic.com
SUMMARY:7 PM - Indo - Intro to Python - Joel
DESCRIPTION:Today we did:\n\nWe continued the final project and started working on the GrocerySystem.\n\nHomework:\n\nContinue working on the rest of the objects in the final project. Remember that you need to make a function for each object\, and whether it is draw like a polygon (using goto) or using circle and/or rectangle functions\, it still needs ot have an x\, y\, parameter\, and the other coordinates based off of it (for example\, x-10\, y-10\, etc.) Next week we will work on changing the colors together.\nCreate a new file called Aug9_RobuxShoppingCart and with this menu:\nmenu = “””\nWhat do you want to do:\n1. Buy hat 100 Robux\n2. Buy hair 150 Robux\n3. VIP Server 500 Robux\n4. Add more Robux\n5. Exit\nEnter your selection: “””\nJust like with GrocerySystem\, make a list for storing the items\, and a variable for storing the total price. Do at least the 5th and 1st selections.\n\nIf you have any questions\, feel free to email me at joel@ayclogic.com.
URL:https://www.ayclogic.com/event/7-pm-indo-intro-to-python-joel-13/
END:VEVENT
END:VCALENDAR