BEGIN:VCALENDAR
VERSION:2.0
PRODID:-//American Young Coder - ECPv6.10.1.1//NONSGML v1.0//EN
CALSCALE:GREGORIAN
METHOD:PUBLISH
X-ORIGINAL-URL:https://www.ayclogic.com
X-WR-CALDESC:Events for American Young Coder
REFRESH-INTERVAL;VALUE=DURATION:PT1H
X-Robots-Tag:noindex
X-PUBLISHED-TTL:PT1H
BEGIN:VTIMEZONE
TZID:America/Los_Angeles
BEGIN:DAYLIGHT
TZOFFSETFROM:-0800
TZOFFSETTO:-0700
TZNAME:PDT
DTSTART:20240310T100000
END:DAYLIGHT
BEGIN:STANDARD
TZOFFSETFROM:-0700
TZOFFSETTO:-0800
TZNAME:PST
DTSTART:20241103T090000
END:STANDARD
END:VTIMEZONE
BEGIN:VEVENT
DTSTART;TZID=America/Los_Angeles:20240813T090000
DTEND;TZID=America/Los_Angeles:20240813T100000
DTSTAMP:20260421T224836
CREATED:20240813T160138Z
LAST-MODIFIED:20240813T170549Z
UID:26433-1723539600-1723543200@www.ayclogic.com
SUMMARY:9 AM – Intro To Java – Darin
DESCRIPTION:What We Did Today:\n\nAdded a Spinner element for the drop down menu to change conversion types\nSuccessfully implemented a way for us to grab the items selected from the spinner and test print out\nLearnt a bit about the “implements” keyword\n\nHomework:\n\nAdd an underline to the output either by manually putting in a new TextView or restructuring the code to use Number (Decimal) instead.\n\nNotes:\nIf you have any questions\, feel free to contact me at ddjapri@ayclogic.com.
URL:https://www.ayclogic.com/event/9-am-intro-to-java-darin-4/
CATEGORIES:Introduction To Java,Java
END:VEVENT
BEGIN:VEVENT
DTSTART;TZID=America/Los_Angeles:20240813T180000
DTEND;TZID=America/Los_Angeles:20240813T190000
DTSTAMP:20260421T224836
CREATED:20240814T004253Z
LAST-MODIFIED:20240814T023815Z
UID:26437-1723572000-1723575600@www.ayclogic.com
SUMMARY:6 PM – Python OOP – Darin
DESCRIPTION:What We Did Today:\n\nContinued monster inheritance project\nCreated the sword attack method as well as started on the magic attack method\, implementing inheritance\n\nHomework:\n\nFor Ian and Miki: Work on the hw from last week\, copying from pages 168 to 170 for inheritance in a new file.\nIn your monster inheritance project\, create a new arrow attack method and add the option in the attackMenu. You want to deal 5-20 damage for the arrow attack.\n\nNotes:\n\nIf you have any questions\, you can contact me at ddjapri@ayclogic.com
URL:https://www.ayclogic.com/event/6-pm-python-oop-darin-5/
CATEGORIES:OOP Python,Python Class
END:VEVENT
BEGIN:VEVENT
DTSTART;TZID=America/Los_Angeles:20240813T180000
DTEND;TZID=America/Los_Angeles:20240813T190000
DTSTAMP:20260421T224836
CREATED:20240814T015724Z
LAST-MODIFIED:20240814T015735Z
UID:26438-1723572000-1723575600@www.ayclogic.com
SUMMARY:6 PM – Intro to Python – Daniel
DESCRIPTION:What We Did\n\nWe reviewed the Try it Yourself String homework\nDid some examples with if and else statements\nDid an example with if elif\, and talked about the difference with using if statements\n\nHomework\n\nCreate a file called August_13_IfElseHW.py and do pages 78-81 in your textbook.\nIf you have any questions\, email me at dmeng@ayclogic.com
URL:https://www.ayclogic.com/event/6-pm-intro-to-python-daniel-14/
END:VEVENT
BEGIN:VEVENT
DTSTART;TZID=America/Los_Angeles:20240813T180000
DTEND;TZID=America/Los_Angeles:20240813T190000
DTSTAMP:20260421T224836
CREATED:20240814T022958Z
LAST-MODIFIED:20240814T022958Z
UID:26442-1723572000-1723575600@www.ayclogic.com
SUMMARY:6 PM – Intro To Python – Shawn
DESCRIPTION:What We Did\n\nLearned how to do the Magic 8 Ball project (version 2) using random.choice\nLearned about Python errors (AKA bugs) and how to correct them\n\nHomework\n\nCorey:\n\nCreate a new file called Aug13_StarWars:\n\nSolve all problems #1-4 from https://www.ayclogic.com/intro-to-python/star-wars-problem\nIn your own words\, answer these questions by writing them as comments in Python (Remember: you can write comments by putting a # in front of words in Thonny)\n\nWhat is the difference between functions with return values and functions without return values?\nWhat is the purpose of functions? How are they helpful?\n\n\n\n\n\n\nEveryone:\n\nCreate a new file called Aug13_Magic8Ball_V2_Answers\n\nCopy and paste the code from the “Aug13_Magic8Ball_V2_Answers” file found in our class Google Drive. (This was the class code we reviewed)\nStore this file along with your class lesson notes/code so you can study it in the future if needed\n\n\nCreate a new file called Aug13_PythonBugs1\n\nFix all errors in the code from https://www.ayclogic.com/fixing-python-bugs\n\n\nCreate a new file called Aug13_PythonBugs2\n\nFix all errors in the code from https://www.ayclogic.com/fix-python-bugs-2\n\n\nCreate a new file called Aug13_Quiz2Preparation\n\nSolve all problems #1-4 from https://www.ayclogic.com/intro-to-python-exercises-for-quiz-2\\n\n\nHint: Remember these steps to fix Python errors\n\nClick the bottom blue line\nRead the error message\nFix the error and rerun\n\n\n\n\nContact us at gamas@ayclogic.com or allison@ayclogic.com if you have any questions or need any help
URL:https://www.ayclogic.com/event/6-pm-intro-to-python-shawn-54/
CATEGORIES:Python Class,Python Level 1
END:VEVENT
BEGIN:VEVENT
DTSTART;TZID=America/Los_Angeles:20240813T180000
DTEND;TZID=America/Los_Angeles:20240813T190000
DTSTAMP:20260421T224836
CREATED:20240814T030234Z
LAST-MODIFIED:20240814T030234Z
UID:26452-1723572000-1723575600@www.ayclogic.com
SUMMARY:6 PM – Scratch 2 – Yitong
DESCRIPTION:Today we:\n\nReviewed the Practice Test.\n\nHomework:\n\nNo homework! Review for the Final Test.\n\nSpaceship\nFireball Fight\nCheese Chase\nIntro to List\n\n\n\nIf you have any questions\, email me at yitong@ayclogic.com
URL:https://www.ayclogic.com/event/6-pm-scratch-2-yitong-37/
CATEGORIES:Scratch Class,Scratch Class Level 2
END:VEVENT
BEGIN:VEVENT
DTSTART;TZID=America/Los_Angeles:20240813T190000
DTEND;TZID=America/Los_Angeles:20240813T200000
DTSTAMP:20260421T224836
CREATED:20240814T024823Z
LAST-MODIFIED:20240814T025110Z
UID:26446-1723575600-1723579200@www.ayclogic.com
SUMMARY:7 PM – Intro To Python – Darin
DESCRIPTION:What We Did Today:\n\nFinished the Grocery System program.\nGot started on the Robux System program\, which takes the Grocery System program one step further by using functions and global keywords.\n\nHomework:\nYour final project is due August 27 \nCreate 75% progress on your final project. This means you want to finish at least 2 objects (a combination of shapes) by next week. \nRequirements: \nhttps://www.ayclogic.com/intro-to-python-final-project-criteria/ \nNOTES:\nIf you have any questions\, you can contact me at ddjapri@ayclogic.com \nYou can look up specific color codes here: https://htmlcolorcodes.com/ \nColor code example: #A12345
URL:https://www.ayclogic.com/event/7-pm-intro-to-python-darin-8/
CATEGORIES:Python Class,Python Level 1
END:VEVENT
BEGIN:VEVENT
DTSTART;TZID=America/Los_Angeles:20240813T190000
DTEND;TZID=America/Los_Angeles:20240813T200000
DTSTAMP:20260421T224836
CREATED:20240814T025317Z
LAST-MODIFIED:20240814T025339Z
UID:26448-1723575600-1723579200@www.ayclogic.com
SUMMARY:7 PM – Scratch 1 – Yitong
DESCRIPTION:Today We Did\n\nWent over the Practice Test.\n\nHomework\n\nNo homework! Review for the Final Test.\n\nAnimal Crossing\nVirtual Snow\nDove Flying\nSpace Dog and Hen Party\n\n\n\n\nEmail me for help: yitong@ayclogic.com
URL:https://www.ayclogic.com/event/7-pm-scratch-1-yitong-3/
CATEGORIES:Scratch Class,Scratch Class Level 1
END:VEVENT
BEGIN:VEVENT
DTSTART;TZID=America/Los_Angeles:20240813T190000
DTEND;TZID=America/Los_Angeles:20240813T200000
DTSTAMP:20260421T224836
CREATED:20240818T001057Z
LAST-MODIFIED:20240818T001057Z
UID:26526-1723575600-1723579200@www.ayclogic.com
SUMMARY:7 PM – Advanced Python Game Development – Sebastian
DESCRIPTION:Today We Did \n\nCreated Shield\nFind the code for the Tank Game here: https://gitlab.com/latishasumardy/tankgame_tues6pm \nAYC Logic’s observed holidays: https://www.ayclogic.com/observed-holidays/\nIn case you need anything\, please email me at latisha@ayclogic.com\n\nHomework\n1. if the tank and enemy bullet collide\, then make both of them disappear and switch the game_mode to GAME_OVER\n2. if player_shield and enemy bullet collide\, the bullet should disappear. if enemy_shield and player bullet collide\, the bullet should disappear.\n3. play "assets/audio/Military Tension (Loop Version).wav" as background music\n4. when bullet and wall collide\, play the sound "assets/audio/hit1.wav"
URL:https://www.ayclogic.com/event/7-pm-advanced-python-game-development-sebastian-9/
END:VEVENT
END:VCALENDAR