BEGIN:VCALENDAR
VERSION:2.0
PRODID:-//American Young Coder - ECPv6.10.1.1//NONSGML v1.0//EN
CALSCALE:GREGORIAN
METHOD:PUBLISH
X-ORIGINAL-URL:https://www.ayclogic.com
X-WR-CALDESC:Events for American Young Coder
REFRESH-INTERVAL;VALUE=DURATION:PT1H
X-Robots-Tag:noindex
X-PUBLISHED-TTL:PT1H
BEGIN:VTIMEZONE
TZID:America/Los_Angeles
BEGIN:DAYLIGHT
TZOFFSETFROM:-0800
TZOFFSETTO:-0700
TZNAME:PDT
DTSTART:20240310T100000
END:DAYLIGHT
BEGIN:STANDARD
TZOFFSETFROM:-0700
TZOFFSETTO:-0800
TZNAME:PST
DTSTART:20241103T090000
END:STANDARD
END:VTIMEZONE
BEGIN:VEVENT
DTSTART;TZID=America/Los_Angeles:20240816T190000
DTEND;TZID=America/Los_Angeles:20240816T200000
DTSTAMP:20260422T002049
CREATED:20240816T151141Z
LAST-MODIFIED:20240816T152116Z
UID:26483-1723834800-1723838400@www.ayclogic.com
SUMMARY:7 PM - Indo - Intro to Python - Joel
DESCRIPTION:Today we did:\n\nWe fixed our final project.\n\nHomework:\n\nMake sure to change your code for the fish (example in the Google Drive) and the penguin. Remember that there should only be one function for each object\, like penguin\, and inside the function\, other functions are called\, like the circle and rectangle functions\, or the penguin_beak\, penguin_hand functions. Remember\, make sure that no two functions have the same name\, and for the penguin’s hands\, make sure to specify the left and right hand functions.\nUsing the example in the Google Drive\, finish making all the functions for each letter.\nCreate a new file called Aug16_RobuxShoppingCart and with this menu:\nmenu = “””\nWhat do you want to do:\n1. Buy hat 100 Robux\n2. Buy hair 150 Robux\n3. VIP Server 500 Robux\n4. Add more Robux\n5. Exit\nEnter your selection: “””\nThe file in the Google Drive for the examples is called Dom_Final_Project.\nJust like with GrocerySystem\, make a list for storing the items\, and a variable for storing the total price. Do at least the 5th and 1st selections.\nMake sure upload the homework to the Google Drive before the next lesson.\nThe turtle project must be finished by next week\, so if you ever get stuck or are not sure\, please make sure that you contact me at joel@ayclogic.com.
URL:https://www.ayclogic.com/event/7-pm-indo-intro-to-python-joel-14/
END:VEVENT
END:VCALENDAR