BEGIN:VCALENDAR
VERSION:2.0
PRODID:-//American Young Coder - ECPv6.10.1.1//NONSGML v1.0//EN
CALSCALE:GREGORIAN
METHOD:PUBLISH
X-WR-CALNAME:American Young Coder
X-ORIGINAL-URL:https://www.ayclogic.com
X-WR-CALDESC:Events for American Young Coder
REFRESH-INTERVAL;VALUE=DURATION:PT1H
X-Robots-Tag:noindex
X-PUBLISHED-TTL:PT1H
BEGIN:VTIMEZONE
TZID:America/Los_Angeles
BEGIN:DAYLIGHT
TZOFFSETFROM:-0800
TZOFFSETTO:-0700
TZNAME:PDT
DTSTART:20240310T100000
END:DAYLIGHT
BEGIN:STANDARD
TZOFFSETFROM:-0700
TZOFFSETTO:-0800
TZNAME:PST
DTSTART:20241103T090000
END:STANDARD
END:VTIMEZONE
BEGIN:VEVENT
DTSTART;TZID=America/Los_Angeles:20240820T180000
DTEND;TZID=America/Los_Angeles:20240820T190000
DTSTAMP:20260421T224458
CREATED:20240820T210920Z
LAST-MODIFIED:20240821T040101Z
UID:26543-1724176800-1724180400@www.ayclogic.com
SUMMARY:6 PM – Python OOP – Darin
DESCRIPTION:What We Did Today:\n\nContinued monster inheritance project\nImplemented inheritance through the magic attack system where a Dragon (child of the Monster class) is immune to fire magic.\n\nHomework:\n\nCreate a Slime class that inherits from the Monster class\, and this time make the slime immune to water but takes double the damage for fire magic.\n\nNotes:\n\nIf you have any questions\, you can contact me at ddjapri@ayclogic.com
URL:https://www.ayclogic.com/event/6-pm-python-oop-darin-6/
CATEGORIES:OOP Python,Python Class
END:VEVENT
BEGIN:VEVENT
DTSTART;TZID=America/Los_Angeles:20240820T180000
DTEND;TZID=America/Los_Angeles:20240820T190000
DTSTAMP:20260421T224458
CREATED:20240821T015746Z
LAST-MODIFIED:20240821T045143Z
UID:26561-1724176800-1724180400@www.ayclogic.com
SUMMARY:6 PM – Intro to Python – Daniel
DESCRIPTION:What We Did\n\nWe reviewed the input homework with If statements and Input from user\nWe started learning about lists and how to index through them\n\nHomework\n\nCreate a file named August_20_InputHw2.py and do page 117 TRY IT YOURSELF 7-1 and 7-2\nIf you have any questions\, email me at dmeng@ayclogic.com
URL:https://www.ayclogic.com/event/6-pm-intro-to-python-daniel-16/
END:VEVENT
BEGIN:VEVENT
DTSTART;TZID=America/Los_Angeles:20240820T180000
DTEND;TZID=America/Los_Angeles:20240820T190000
DTSTAMP:20260421T224458
CREATED:20240821T022347Z
LAST-MODIFIED:20240821T022347Z
UID:26565-1724176800-1724180400@www.ayclogic.com
SUMMARY:6 PM – Intro To Python – Shawn
DESCRIPTION:What We Did\n\nReviewed and prepared for the second quiz next week\n\nHomework\n\nStudy for your quiz next week\n\nStudy these concepts\n\nFunctions without return values\nFunctions with return values\nHow to correct python errors\nrandom.randint\nrandom.choice\nFor loops and while loops\nData types\nGetting user input\n\n\nReview these homework\n\nQuiz Preparation\nStar Wars\nMagic 8 Ball\n\n\n\n\nContact us at gamas@ayclogic.com or allison@ayclogic.com if you have any questions or need any help
URL:https://www.ayclogic.com/event/6-pm-intro-to-python-shawn-55/
CATEGORIES:Python Class,Python Level 1
END:VEVENT
BEGIN:VEVENT
DTSTART;TZID=America/Los_Angeles:20240820T190000
DTEND;TZID=America/Los_Angeles:20240820T200000
DTSTAMP:20260421T224458
CREATED:20240820T211021Z
LAST-MODIFIED:20240820T211021Z
UID:26546-1724180400-1724184000@www.ayclogic.com
SUMMARY:7 PM – Intro To Python – Darin
DESCRIPTION:What We Did Today:\n\nContinued and finished the Robux System.\nStarted reviewing for the final exam.\n\nHomework:\nYour final project is due August 27 \nFinish 100% of your final project. \nRequirements: \nhttps://www.ayclogic.com/intro-to-python-final-project-criteria/ \nNOTES:\nIf you have any questions\, you can contact me at ddjapri@ayclogic.com \nYou can look up specific color codes here: https://htmlcolorcodes.com/ \nColor code example: #A12345
URL:https://www.ayclogic.com/event/7-pm-intro-to-python-darin-9/
CATEGORIES:Python Class,Python Level 1
END:VEVENT
BEGIN:VEVENT
DTSTART;TZID=America/Los_Angeles:20240820T190000
DTEND;TZID=America/Los_Angeles:20240820T200000
DTSTAMP:20260421T224458
CREATED:20240821T031821Z
LAST-MODIFIED:20240821T031821Z
UID:26567-1724180400-1724184000@www.ayclogic.com
SUMMARY:7 PM - Adv Python Game Dev - Gamas
DESCRIPTION:Today We Did\n\nWe learned about simpleai python library https://pypi.org/project/simpleai/\nWe learned how to use A* algorithm inside simpleai.\n\nHomework\n\nWhen player’s bullet hit enemy. Do not switch to GAME_OVER.\nInstead\, make the enemy disappear\nCreate tank_explosion.py\nMake tank_explosion sprite appear for 5 seconds and disappear.\ntank_explosion sprite need to have animation from all images under “assets/Tank_Explosion” folder.\nThis is very similar to what we did in ShootBalloon project when we pop the balloon.
URL:https://www.ayclogic.com/event/7-pm-adv-python-game-dev-gamas/
END:VEVENT
END:VCALENDAR