BEGIN:VCALENDAR
VERSION:2.0
PRODID:-//American Young Coder - ECPv6.10.1.1//NONSGML v1.0//EN
CALSCALE:GREGORIAN
METHOD:PUBLISH
X-WR-CALNAME:American Young Coder
X-ORIGINAL-URL:https://www.ayclogic.com
X-WR-CALDESC:Events for American Young Coder
REFRESH-INTERVAL;VALUE=DURATION:PT1H
X-Robots-Tag:noindex
X-PUBLISHED-TTL:PT1H
BEGIN:VTIMEZONE
TZID:America/Los_Angeles
BEGIN:DAYLIGHT
TZOFFSETFROM:-0800
TZOFFSETTO:-0700
TZNAME:PDT
DTSTART:20240310T100000
END:DAYLIGHT
BEGIN:STANDARD
TZOFFSETFROM:-0700
TZOFFSETTO:-0800
TZNAME:PST
DTSTART:20241103T090000
END:STANDARD
END:VTIMEZONE
BEGIN:VEVENT
DTSTART;TZID=America/Los_Angeles:20240821T170000
DTEND;TZID=America/Los_Angeles:20240821T180000
DTSTAMP:20260422T002730
CREATED:20240822T010005Z
LAST-MODIFIED:20240822T010005Z
UID:26575-1724259600-1724263200@www.ayclogic.com
SUMMARY:5 PM - AI and ML - Gamas
DESCRIPTION:Today We Did\n\nWe learned about Python pandas library and its many different features.\nWe continued with Titanic Survivorship project.\n\nHomework\n\nResearch about Fast.ai TabularDataLoaders.from_df function.\nResearch about these preprocessing steps inside fast.ai library.\n\nCategorify\nFillMissing\nNormalize
URL:https://www.ayclogic.com/event/5-pm-ai-and-ml-gamas/
END:VEVENT
BEGIN:VEVENT
DTSTART;TZID=America/Los_Angeles:20240821T180000
DTEND;TZID=America/Los_Angeles:20240821T190000
DTSTAMP:20260422T002730
CREATED:20240822T015815Z
LAST-MODIFIED:20240822T015942Z
UID:26574-1724263200-1724266800@www.ayclogic.com
SUMMARY:6 PM – Intro to Python – Daniel
DESCRIPTION:What We Did\n\nWe reviewed the functions today with the random module from the homework\nStarted going over python bugs and how to fix them\nQuickly reviewed any topics that will be on the quiz\n\nHomework\n\nCreate a file called August_21_FixingBugsHw.py and do https://www.ayclogic.com/fixing-python-bugs/\nIn the same file do these problems\, https://www.ayclogic.com/fix-python-bugs-2/\nIf you have any questions\, email me at dmeng@ayclogic.com
URL:https://www.ayclogic.com/event/6-pm-intro-to-python-daniel-17/
END:VEVENT
BEGIN:VEVENT
DTSTART;TZID=America/Los_Angeles:20240821T190000
DTEND;TZID=America/Los_Angeles:20240821T200000
DTSTAMP:20260422T002730
CREATED:20240822T030309Z
LAST-MODIFIED:20240822T030309Z
UID:26581-1724266800-1724270400@www.ayclogic.com
SUMMARY:7 PM – Intro To Java – Darin
DESCRIPTION:What We Did Today:\n\nFinished the temperature converter class\, fully implementing the spinner class.\n\nHomework:\nNone this week! \nNotes:\n\nIf you have any questions\, you may reach out to me at ddjapri@ayclogic.com.
URL:https://www.ayclogic.com/event/7-pm-intro-to-java-darin-18/
CATEGORIES:Introduction To Java,Java
END:VEVENT
END:VCALENDAR