BEGIN:VCALENDAR
VERSION:2.0
PRODID:-//American Young Coder - ECPv6.10.1.1//NONSGML v1.0//EN
CALSCALE:GREGORIAN
METHOD:PUBLISH
X-WR-CALNAME:American Young Coder
X-ORIGINAL-URL:https://www.ayclogic.com
X-WR-CALDESC:Events for American Young Coder
REFRESH-INTERVAL;VALUE=DURATION:PT1H
X-Robots-Tag:noindex
X-PUBLISHED-TTL:PT1H
BEGIN:VTIMEZONE
TZID:America/Los_Angeles
BEGIN:DAYLIGHT
TZOFFSETFROM:-0800
TZOFFSETTO:-0700
TZNAME:PDT
DTSTART:20240310T100000
END:DAYLIGHT
BEGIN:STANDARD
TZOFFSETFROM:-0700
TZOFFSETTO:-0800
TZNAME:PST
DTSTART:20241103T090000
END:STANDARD
END:VTIMEZONE
BEGIN:VEVENT
DTSTART;TZID=America/Los_Angeles:20240822T080000
DTEND;TZID=America/Los_Angeles:20240822T170000
DTSTAMP:20260422T002827
CREATED:20240823T021027Z
LAST-MODIFIED:20240830T005152Z
UID:26595-1724313600-1724346000@www.ayclogic.com
SUMMARY:6 PM – Intro to Python – Joshua
DESCRIPTION:Today We Did – Reviewing Quiz\n\n\nRemember to indent for while\, for\, if \,else \,elif\nRemember\, if you are using a variable\, you have to create it somewhere beforehand\nfor a in range(list_name)\n\nFor the above code\, use a (or whatever variable name you decide”) to access the specific part of the list the for loop is on\n\n\n\n\n\n\n Homework (If you haven’t done it yet)\n\nCopy code on pages 100-103 Label it (“August_22_copy.py)\nlook over your quiz and look at the right answers\nUpload your answer to google drive before next week Wednesday night.\n\nIf you have any questions feel free to email me jwidjanarko@ayclogic.com
URL:https://www.ayclogic.com/event/6-pm-intro-to-python-joshua-12/
END:VEVENT
BEGIN:VEVENT
DTSTART;TZID=America/Los_Angeles:20240822T180000
DTEND;TZID=America/Los_Angeles:20240822T190000
DTSTAMP:20260422T002827
CREATED:20240823T015701Z
LAST-MODIFIED:20240823T020014Z
UID:26587-1724349600-1724353200@www.ayclogic.com
SUMMARY:6 PM – Intro to Python – Daniel
DESCRIPTION:What We Did\n\nWe went over the homework asking for input and using the user input in an if else statement.\nWe reviewed how to make a list and add or delete to it using .append()\, and del\nWe started to learn about for each loops and for loop with range on lists.\n\nHomework\n\nCreate a file called August_22_ListHw.py and copy down pages 37-41 and do not do the TRY IT YOURSELF.\nIf you have any questions\, email me at dmeng@ayclogic.com
URL:https://www.ayclogic.com/event/6-pm-intro-to-python-daniel-18/
END:VEVENT
BEGIN:VEVENT
DTSTART;TZID=America/Los_Angeles:20240822T190000
DTEND;TZID=America/Los_Angeles:20240822T200000
DTSTAMP:20260422T002827
CREATED:20240824T002101Z
LAST-MODIFIED:20240824T002101Z
UID:26601-1724353200-1724356800@www.ayclogic.com
SUMMARY:7 PM - Intro To Java - Bill
DESCRIPTION:Your HW:\n\nAdd the rest of the conversions to the list of string in strings.xml like we did in class\n\nCelsius to Kelvin\nKelvin to Celsius\nFahrenheit to Kelvin\nKelvin to Fahrenheit
URL:https://www.ayclogic.com/event/7-pm-intro-to-java-bill-18/
END:VEVENT
END:VCALENDAR