BEGIN:VCALENDAR
VERSION:2.0
PRODID:-//American Young Coder - ECPv6.10.1.1//NONSGML v1.0//EN
CALSCALE:GREGORIAN
METHOD:PUBLISH
X-ORIGINAL-URL:https://www.ayclogic.com
X-WR-CALDESC:Events for American Young Coder
REFRESH-INTERVAL;VALUE=DURATION:PT1H
X-Robots-Tag:noindex
X-PUBLISHED-TTL:PT1H
BEGIN:VTIMEZONE
TZID:America/Los_Angeles
BEGIN:DAYLIGHT
TZOFFSETFROM:-0800
TZOFFSETTO:-0700
TZNAME:PDT
DTSTART:20240310T100000
END:DAYLIGHT
BEGIN:STANDARD
TZOFFSETFROM:-0700
TZOFFSETTO:-0800
TZNAME:PST
DTSTART:20241103T090000
END:STANDARD
END:VTIMEZONE
BEGIN:VEVENT
DTSTART;TZID=America/Los_Angeles:20240824T100000
DTEND;TZID=America/Los_Angeles:20240824T110000
DTSTAMP:20260424T024027
CREATED:20240824T040113Z
LAST-MODIFIED:20240824T040113Z
UID:26606-1724493600-1724497200@www.ayclogic.com
SUMMARY:10 AM - Python Game Dev - Indo - Gamas
DESCRIPTION:Today We Did\n\nWe added collision detection between fireball and bird.\nIncrease score when they collide\nDisplay score on the screen\n\nHomework\n\nAdd collision detection between fireball and diagonal bird. Increase score by 2 when they collide.\nAdd collision detection between diagonal bird and player. Make the player disappear.
URL:https://www.ayclogic.com/event/10-am-python-game-dev-indo-gamas-5/
END:VEVENT
BEGIN:VEVENT
DTSTART;TZID=America/Los_Angeles:20240824T100000
DTEND;TZID=America/Los_Angeles:20240824T110000
DTSTAMP:20260424T024027
CREATED:20240904T040854Z
LAST-MODIFIED:20240905T000500Z
UID:26668-1724493600-1724497200@www.ayclogic.com
SUMMARY:10AM - Intro To Python - Gamas
DESCRIPTION:Today We Did\n\nWe reviewed functions homeworks.\nWe created draw_rectangle function that can be rotated.\n\nHomework\n\nCreate aug_24_function_hw.py\n\ncopy codes from book page 132.\nTRY IT YOURSELF page 137: 8.3\, 8.4\, 8.5
URL:https://www.ayclogic.com/event/10am-intro-to-python-gamas/
END:VEVENT
BEGIN:VEVENT
DTSTART;TZID=America/Los_Angeles:20240824T103000
DTEND;TZID=America/Los_Angeles:20240824T113000
DTSTAMP:20260424T024027
CREATED:20240826T220900Z
LAST-MODIFIED:20240826T220900Z
UID:26616-1724495400-1724499000@www.ayclogic.com
SUMMARY:10:30 AM- Intro To Python - Bill
DESCRIPTION:Your HW:\n\nStart working on your turtle projects\nIf you don’t know where to start\, work on the background and any background object functions (tree\, clouds\, etc.)
URL:https://www.ayclogic.com/event/1030-am-intro-to-python-bill-29/
END:VEVENT
BEGIN:VEVENT
DTSTART;TZID=America/Los_Angeles:20240824T143000
DTEND;TZID=America/Los_Angeles:20240824T153000
DTSTAMP:20260424T024027
CREATED:20240826T221109Z
LAST-MODIFIED:20240826T221109Z
UID:26618-1724509800-1724513400@www.ayclogic.com
SUMMARY:2:30 PM - Unity Game Development - Bill
DESCRIPTION:Your HW:\n\nSeparate the visuals into a child object for the player prefab like we did for the dinosaur\nCreate a separate hitbox for the player’s feet\n\n 
URL:https://www.ayclogic.com/event/230-pm-unity-game-development-bill-11/
END:VEVENT
BEGIN:VEVENT
DTSTART;TZID=America/Los_Angeles:20240824T150000
DTEND;TZID=America/Los_Angeles:20240824T160000
DTSTAMP:20260424T024027
CREATED:20240824T230302Z
LAST-MODIFIED:20240824T230309Z
UID:26608-1724511600-1724515200@www.ayclogic.com
SUMMARY:3 PM – Intro To Python – Daniel (Darin Sub)
DESCRIPTION:What We Did:\n\nLearnt how to use a while loop to achieve various effects of drawing to create a Kaleidoscope effect.\nImplemented a text based program – Grocery System – that tests the knowledge gained in the class so far on loops\, conditionals\, and lists.\n\nHomework:\n\n Continue on your file called Project.py and continue working on the project.\nThe project is due on 09/21\, by next week (08/24)\, you should have your project 50% completed.\n\nNotes:\nYou can email at ddjapri@ayclogic.com or dmeng@ayclogic.com if you have any questions!
URL:https://www.ayclogic.com/event/3-pm-intro-to-python-daniel-4/
CATEGORIES:Python Class,Python Level 1
END:VEVENT
BEGIN:VEVENT
DTSTART;TZID=America/Los_Angeles:20240824T183000
DTEND;TZID=America/Los_Angeles:20240824T193000
DTSTAMP:20260424T024027
CREATED:20240824T211524Z
LAST-MODIFIED:20240826T165044Z
UID:26609-1724524200-1724527800@www.ayclogic.com
SUMMARY:6:30 PM – Intro To Java – Darin
DESCRIPTION:No Class Next Week due to Holiday!\nWhat We Did Today:\n\nExplored android studio\, how the two main files (activity_main.xml and MainActivity.java works)\nNext time we meet\, we will utilize the ID’s to control the elements on the screen\n\nHomework:\n\nAdd ID’s to the elements of the android studio project Temperature Converter.\nFahrenheit: originalTempLabel\nCelsius: convertedTempLabel\nInput underline: originalTempValue\noutput TextView: convertedTempValue\nButton: convertButton\n\nNotes:\nYou can email me at ddjapri@ayclogic.com if you have any questions!
URL:https://www.ayclogic.com/event/630-pm-intro-to-java-darin-5/
CATEGORIES:Introduction To Java,Java
END:VEVENT
END:VCALENDAR