BEGIN:VCALENDAR
VERSION:2.0
PRODID:-//American Young Coder - ECPv6.10.1.1//NONSGML v1.0//EN
CALSCALE:GREGORIAN
METHOD:PUBLISH
X-ORIGINAL-URL:https://www.ayclogic.com
X-WR-CALDESC:Events for American Young Coder
REFRESH-INTERVAL;VALUE=DURATION:PT1H
X-Robots-Tag:noindex
X-PUBLISHED-TTL:PT1H
BEGIN:VTIMEZONE
TZID:America/Los_Angeles
BEGIN:DAYLIGHT
TZOFFSETFROM:-0800
TZOFFSETTO:-0700
TZNAME:PDT
DTSTART:20240310T100000
END:DAYLIGHT
BEGIN:STANDARD
TZOFFSETFROM:-0700
TZOFFSETTO:-0800
TZNAME:PST
DTSTART:20241103T090000
END:STANDARD
END:VTIMEZONE
BEGIN:VEVENT
DTSTART;TZID=America/Los_Angeles:20240826T160000
DTEND;TZID=America/Los_Angeles:20240826T170000
DTSTAMP:20260421T224837
CREATED:20240827T191026Z
LAST-MODIFIED:20240827T191026Z
UID:26625-1724688000-1724691600@www.ayclogic.com
SUMMARY:4 PM – Python OOP – Darin
DESCRIPTION:Today We:\n\nStarted the grocery system v2 project\nLearned how to better store information about each item within dictionaries\nSimplified the main if statement\n\nYour HW:\n\nAdd another dictionary called item_is_frozen where the keys are the number ids like for item_names and item_prices and the values are booleans\n\nTrue for when an item needs to be in a fridge (milk\, ice cream)\nFalse for when it doesn’t
URL:https://www.ayclogic.com/event/4-pm-python-oop-darin-4/
END:VEVENT
BEGIN:VEVENT
DTSTART;TZID=America/Los_Angeles:20240826T170000
DTEND;TZID=America/Los_Angeles:20240826T180000
DTSTAMP:20260421T224837
CREATED:20240827T010432Z
LAST-MODIFIED:20240901T034145Z
UID:26621-1724691600-1724695200@www.ayclogic.com
SUMMARY:5 PM - Python Game Dev - Darin
DESCRIPTION:Gamas Sub \nHomework\n\nDakota\n\nThe explosion animation was not working.\nReset player bullet when replay\n\n\nChris\n\nCredit page was not done.\nOutline the key image to have bright outline so it is easier to find.\nShoot Balloon project\n\nBalloon should not be resized\nBalloon hit box should only be the balloon portion.\nExplosion is not showing the point.\n\n\n\n\nBrandon\n\nCredit button half of it is not clickable\nKill the sprite after they left the screen.\n\n\nEveryone in Shoot Balloon project\n\nAdd count down on the screen. Look at how we did it in Flappy Duck project.\nCreate Game Over page.\nCreate Game Win page\nWhen count down goes to 0\, check if score >= 5 then display Game Win page.\nWhen count down goes to 0\, if score < 5 then display Game Lose page.\ngo to loading.io and create your custom PNG loader image sequence and upload to “assets/loader” folder inside your Shoot Balloon project.
URL:https://www.ayclogic.com/event/26621/
END:VEVENT
BEGIN:VEVENT
DTSTART;TZID=America/Los_Angeles:20240826T190000
DTEND;TZID=America/Los_Angeles:20240826T200000
DTSTAMP:20260421T224837
CREATED:20240901T035631Z
LAST-MODIFIED:20240901T035631Z
UID:26657-1724698800-1724702400@www.ayclogic.com
SUMMARY:7 PM - Intro To Java - Darin
DESCRIPTION:Gamas Sub \nToday We Did\n\nWe installed Android Studio\nWe started Temperature Converter project.\n\nHomework\n\nMake changes to activity_main.xml file so you can have a user interface similar to below
URL:https://www.ayclogic.com/event/7-pm-intro-to-java-darin-20/
CATEGORIES:Introduction To Java,Java
END:VEVENT
BEGIN:VEVENT
DTSTART;TZID=America/Los_Angeles:20240826T193000
DTEND;TZID=America/Los_Angeles:20240826T203000
DTSTAMP:20260421T224837
CREATED:20240827T191126Z
LAST-MODIFIED:20240827T191126Z
UID:26627-1724700600-1724704200@www.ayclogic.com
SUMMARY:7:30 PM - Python Game Development - Bill
DESCRIPTION:Your HW:\n\nWork on your projects (week 6)
URL:https://www.ayclogic.com/event/730-pm-python-game-development-bill-26/
END:VEVENT
END:VCALENDAR