BEGIN:VCALENDAR
VERSION:2.0
PRODID:-//American Young Coder - ECPv6.10.1.1//NONSGML v1.0//EN
CALSCALE:GREGORIAN
METHOD:PUBLISH
X-WR-CALNAME:American Young Coder
X-ORIGINAL-URL:https://www.ayclogic.com
X-WR-CALDESC:Events for American Young Coder
REFRESH-INTERVAL;VALUE=DURATION:PT1H
X-Robots-Tag:noindex
X-PUBLISHED-TTL:PT1H
BEGIN:VTIMEZONE
TZID:America/Los_Angeles
BEGIN:DAYLIGHT
TZOFFSETFROM:-0800
TZOFFSETTO:-0700
TZNAME:PDT
DTSTART:20240310T100000
END:DAYLIGHT
BEGIN:STANDARD
TZOFFSETFROM:-0700
TZOFFSETTO:-0800
TZNAME:PST
DTSTART:20241103T090000
END:STANDARD
END:VTIMEZONE
BEGIN:VEVENT
DTSTART;TZID=America/Los_Angeles:20240827T080000
DTEND;TZID=America/Los_Angeles:20240827T170000
DTSTAMP:20260422T002831
CREATED:20240828T015439Z
LAST-MODIFIED:20240828T015439Z
UID:26629-1724745600-1724778000@www.ayclogic.com
SUMMARY:6 PM – Intro to Python – Daniel (Joshua Sub)
DESCRIPTION:What We Did\n\nWe Looked into Loops and how to use structure them\nreviewed/practice if/ else within loops\n\nRemember to indent correctly\n\n\ndid some input practice\n\nHomework\n\nCreate a file named August_20_loop_listHw2.py\n\nCopy Page  54-55\nTry it yourself 56\n\n\nIf you have any questions\, email me at dmeng@ayclogic.com
URL:https://www.ayclogic.com/event/6-pm-intro-to-python-daniel-joshua-sub-2/
END:VEVENT
BEGIN:VEVENT
DTSTART;TZID=America/Los_Angeles:20240827T180000
DTEND;TZID=America/Los_Angeles:20240827T190000
DTSTAMP:20260422T002831
CREATED:20240828T210202Z
LAST-MODIFIED:20240828T210202Z
UID:26631-1724781600-1724785200@www.ayclogic.com
SUMMARY:6 PM – Python OOP – Darin
DESCRIPTION:Today We:\n\nAdded the function to heal a monster\nGave the monster class receive sword and receive arrow damage methods\nCreated a pigeon class that is immune to sword attacks\nMade it so when you lose all your health the game exits\nFinished the monster inheritance project\n\nYour HW:\n\nStudy for your final quiz\nDo the practice quiz if you forgot last week\n\nhttps://docs.google.com/forms/d/1OhKBN8q59La_rmyNiMu1iSrQks5ssOIMDH0cACNV1Z0/edit
URL:https://www.ayclogic.com/event/6-pm-python-oop-darin-7/
END:VEVENT
END:VCALENDAR