BEGIN:VCALENDAR
VERSION:2.0
PRODID:-//American Young Coder - ECPv6.10.1.1//NONSGML v1.0//EN
CALSCALE:GREGORIAN
METHOD:PUBLISH
X-WR-CALNAME:American Young Coder
X-ORIGINAL-URL:https://www.ayclogic.com
X-WR-CALDESC:Events for American Young Coder
REFRESH-INTERVAL;VALUE=DURATION:PT1H
X-Robots-Tag:noindex
X-PUBLISHED-TTL:PT1H
BEGIN:VTIMEZONE
TZID:America/Los_Angeles
BEGIN:DAYLIGHT
TZOFFSETFROM:-0800
TZOFFSETTO:-0700
TZNAME:PDT
DTSTART:20240310T100000
END:DAYLIGHT
BEGIN:STANDARD
TZOFFSETFROM:-0700
TZOFFSETTO:-0800
TZNAME:PST
DTSTART:20241103T090000
END:STANDARD
END:VTIMEZONE
BEGIN:VEVENT
DTSTART;TZID=America/Los_Angeles:20240829T080000
DTEND;TZID=America/Los_Angeles:20240829T170000
DTSTAMP:20260421T224432
CREATED:20240830T020036Z
LAST-MODIFIED:20240830T020036Z
UID:26635-1724918400-1724950800@www.ayclogic.com
SUMMARY:6pm - Intro To Python - Joshua Widjanarko
DESCRIPTION:Today We Did\n\n\nFunctions \n\nHow we prevent rewriting redundant code and hide complicated logic\nhow to write a function: def function_name(put information you need the function to have here)\nreturn how we can take information outside of function into a variable\n\n  \nHomework and Reminders \n\nCopy Page 100-103\,and then do https://www.ayclogic.com/list-inputs-if-and-else-loops-and-function/ number 4 to 6.\nName it functions_august_29_hw_functions.py\nUpload your answer to google drive before next week Wednesday night.\nJuly 4th is a  holiday\, we will not have class next week\n\nIf you have any questions feel free to email me jwidjanarko@ayclogic.com
URL:https://www.ayclogic.com/event/6pm-intro-to-python-joshua-widjanarko/
END:VEVENT
BEGIN:VEVENT
DTSTART;TZID=America/Los_Angeles:20240829T180000
DTEND;TZID=America/Los_Angeles:20240829T190000
DTSTAMP:20260421T224432
CREATED:20240830T020452Z
LAST-MODIFIED:20240830T020452Z
UID:26637-1724954400-1724958000@www.ayclogic.com
SUMMARY:6 PM - Intro To Python - Daniel
DESCRIPTION:Gamas sub \nToday We Did\n\nWe reviewed for loop homework.\nWe learned about for loop in range.\n\nHomework\n\nCreate Aug_29_animal_list_for_loop_hw.py\n\nDo exercise from https://www.ayclogic.com/animal-list-and-for-loop-exercises/\n\n\nCreate Aug_29_for_loop_in_range_hw.py\n\nPage 56 to 58
URL:https://www.ayclogic.com/event/6-pm-intro-to-python-daniel-19/
END:VEVENT
BEGIN:VEVENT
DTSTART;TZID=America/Los_Angeles:20240829T190000
DTEND;TZID=America/Los_Angeles:20240829T200000
DTSTAMP:20260421T224432
CREATED:20240831T015056Z
LAST-MODIFIED:20240831T015056Z
UID:26642-1724958000-1724961600@www.ayclogic.com
SUMMARY:7 PM - Intro To Java - Bill
DESCRIPTION:Your HW:\n\nSet aside 2 hours to take the practice final\n\nhttps://docs.google.com/forms/d/1-9XuzlnuzbEp6QkzNYcqxG_TQsjYA4USsBET27kgguA/edit\n\n\nIt is worth 10% of your grade so make sure to do it\nIt is open book so you can look at old files\nMake sure to keep track of the parts you have trouble with so you can ask me next Thursday to review
URL:https://www.ayclogic.com/event/7-pm-intro-to-java-bill-19/
END:VEVENT
END:VCALENDAR