BEGIN:VCALENDAR
VERSION:2.0
PRODID:-//American Young Coder - ECPv6.10.1.1//NONSGML v1.0//EN
CALSCALE:GREGORIAN
METHOD:PUBLISH
X-ORIGINAL-URL:https://www.ayclogic.com
X-WR-CALDESC:Events for American Young Coder
REFRESH-INTERVAL;VALUE=DURATION:PT1H
X-Robots-Tag:noindex
X-PUBLISHED-TTL:PT1H
BEGIN:VTIMEZONE
TZID:America/Los_Angeles
BEGIN:DAYLIGHT
TZOFFSETFROM:-0800
TZOFFSETTO:-0700
TZNAME:PDT
DTSTART:20240310T100000
END:DAYLIGHT
BEGIN:STANDARD
TZOFFSETFROM:-0700
TZOFFSETTO:-0800
TZNAME:PST
DTSTART:20241103T090000
END:STANDARD
END:VTIMEZONE
BEGIN:VEVENT
DTSTART;TZID=America/Los_Angeles:20240906T183000
DTEND;TZID=America/Los_Angeles:20240906T193000
DTSTAMP:20260424T132212
CREATED:20240907T023005Z
LAST-MODIFIED:20240907T023005Z
UID:26702-1725647400-1725651000@www.ayclogic.com
SUMMARY:6:30 PM – Scratch 2 – Yitong
DESCRIPTION:Today we:\n\nContinued the Spaceship project.\n\nHomework:\n\nMake a Game Over Banner sprite. When the game starts\, make it hide. When the Spaceship sprite hits the Meteor sprite\, make it show up.\nDo the code for the BombPowerUp sprite. Copy the code from the FireballPowerUp sprite and change it.\n\nIf you have any questions\, email me at yitong@ayclogic.com
URL:https://www.ayclogic.com/event/630-pm-scratch-2-yitong-2/
CATEGORIES:Scratch Class,Scratch Class Level 2
END:VEVENT
BEGIN:VEVENT
DTSTART;TZID=America/Los_Angeles:20240906T190000
DTEND;TZID=America/Los_Angeles:20240906T200000
DTSTAMP:20260424T132212
CREATED:20240907T021943Z
LAST-MODIFIED:20240907T021943Z
UID:26700-1725649200-1725652800@www.ayclogic.com
SUMMARY:7 PM - Python Game Dev - Gamas
DESCRIPTION:Today We Did\nTBD \nHomework\n\nAdd collision detection between player and coin.\n\nThe coin will disappear\nPlay assets/collect5.wav\n\n\nAdd score attribute\n\nDisplay score on the screen\nincrease score when player collide with the coin.
URL:https://www.ayclogic.com/event/7-pm-python-game-dev-gamas-16/
END:VEVENT
END:VCALENDAR