BEGIN:VCALENDAR
VERSION:2.0
PRODID:-//American Young Coder - ECPv6.10.1.1//NONSGML v1.0//EN
CALSCALE:GREGORIAN
METHOD:PUBLISH
X-ORIGINAL-URL:https://www.ayclogic.com
X-WR-CALDESC:Events for American Young Coder
REFRESH-INTERVAL;VALUE=DURATION:PT1H
X-Robots-Tag:noindex
X-PUBLISHED-TTL:PT1H
BEGIN:VTIMEZONE
TZID:America/Los_Angeles
BEGIN:DAYLIGHT
TZOFFSETFROM:-0800
TZOFFSETTO:-0700
TZNAME:PDT
DTSTART:20240310T100000
END:DAYLIGHT
BEGIN:STANDARD
TZOFFSETFROM:-0700
TZOFFSETTO:-0800
TZNAME:PST
DTSTART:20241103T090000
END:STANDARD
END:VTIMEZONE
BEGIN:VEVENT
DTSTART;TZID=America/Los_Angeles:20240907T080000
DTEND;TZID=America/Los_Angeles:20240907T090000
DTSTAMP:20260424T102306
CREATED:20240907T015725Z
LAST-MODIFIED:20240907T041441Z
UID:26698-1725696000-1725699600@www.ayclogic.com
SUMMARY:8 AM - Python Game Dev - Joel
DESCRIPTION:Gamas Sub \nToday We Did\n\nWe finished game landing page\nWe finished bird chirping sound (except when count down goes to zero)\n\nHomework\n\nWhen you pop the balloon\, play the assets/plop.wav\nWhen you pop the bug\, play the assets/collect5.wav\nAdd the credit page.
URL:https://www.ayclogic.com/event/8-am-python-game-dev-joel-2/
END:VEVENT
BEGIN:VEVENT
DTSTART;TZID=America/Los_Angeles:20240907T100000
DTEND;TZID=America/Los_Angeles:20240907T110000
DTSTAMP:20260424T102306
CREATED:20240907T040040Z
LAST-MODIFIED:20240907T040040Z
UID:26705-1725703200-1725706800@www.ayclogic.com
SUMMARY:10 AM - Python Game Dev - Gamas
DESCRIPTION:Today We Did\n\nWe fixed the giant fireball spawn location\nWe started creating landing page and game in session\n\nHomework\nCurrently in landing page there is only play button. You need to do more stuff on landing page \n\nCenter the play_button\nAdd title image above the play_button\nSpawn birds\nSpawn clouds.
URL:https://www.ayclogic.com/event/10-am-python-game-dev-gamas-2/
END:VEVENT
BEGIN:VEVENT
DTSTART;TZID=America/Los_Angeles:20240907T103000
DTEND;TZID=America/Los_Angeles:20240907T113000
DTSTAMP:20260424T102306
CREATED:20240909T032613Z
LAST-MODIFIED:20240909T033727Z
UID:26721-1725705000-1725708600@www.ayclogic.com
SUMMARY:10:30 AM - Intro To Python - Bill
DESCRIPTION:Your HW:\n\nContinue to work on your turtle projects (Week 2)\nDue 9/21
URL:https://www.ayclogic.com/event/1030-am-intro-to-python-bill-30/
END:VEVENT
BEGIN:VEVENT
DTSTART;TZID=America/Los_Angeles:20240907T113000
DTEND;TZID=America/Los_Angeles:20240907T123000
DTSTAMP:20260424T102306
CREATED:20240909T032943Z
LAST-MODIFIED:20240909T032943Z
UID:26723-1725708600-1725712200@www.ayclogic.com
SUMMARY:11:30 AM - Unity Game Development - Bill
DESCRIPTION:Your HW:\n\nAdd a pause button that stops the game like in the platformer\nCreate a small paused menu with an unpause button in it that will pop up when you click the pause button
URL:https://www.ayclogic.com/event/1130-am-unity-game-development-bill-18/
END:VEVENT
BEGIN:VEVENT
DTSTART;TZID=America/Los_Angeles:20240907T120000
DTEND;TZID=America/Los_Angeles:20240907T130000
DTSTAMP:20260424T102306
CREATED:20240907T200312Z
LAST-MODIFIED:20240907T200312Z
UID:26707-1725710400-1725714000@www.ayclogic.com
SUMMARY:12 PM - AI and ML - Gamas
DESCRIPTION:Today We Did\n\nWe continued with Titanic Survival project\nWe were able to feed a training CSV file into our learning model and predicts the survival of each of the person inside training CSV and save the result back into another CSV file\n\nHomework\n\nResearch on how to display a chart that will show the percentage of survival base on their age. The type of chart that I expect you to do would be like the following\n\nYou should use import matplotlib.pyplot as plt for creating chart.
URL:https://www.ayclogic.com/event/12-pm-ai-and-ml-gamas-3/
END:VEVENT
BEGIN:VEVENT
DTSTART;TZID=America/Los_Angeles:20240907T143000
DTEND;TZID=America/Los_Angeles:20240907T153000
DTSTAMP:20260424T102306
CREATED:20240909T033349Z
LAST-MODIFIED:20240909T033349Z
UID:26725-1725719400-1725723000@www.ayclogic.com
SUMMARY:2:30 PM - Unity Game Development - Bill
DESCRIPTION:Your HW:\n\nCreate a new main menu scene\nGive it a canvas and display the logo image on that canvas\nCreate a button with text that says “Play”\n\nYou do not have to code any of it yet just lay out the UI elements
URL:https://www.ayclogic.com/event/230-pm-unity-game-development-bill-12/
END:VEVENT
BEGIN:VEVENT
DTSTART;TZID=America/Los_Angeles:20240907T150000
DTEND;TZID=America/Los_Angeles:20240907T160000
DTSTAMP:20260424T102306
CREATED:20240907T231909Z
LAST-MODIFIED:20240907T232038Z
UID:26710-1725721200-1725724800@www.ayclogic.com
SUMMARY:3 PM – Intro To Python – Daniel (Darin Sub)
DESCRIPTION:Your final exam will be on Sep 21. \nWhat We Did:\n\nImplemented a more advanced text based program – Robux System – that tests the knowledge gained in the class so far on loops\, conditionals\, lists\, functions\, code efficiency.\n\nHomework:\n\n Continue on your file called Project.py and continue working on the project.\nThe project is due on 09/21\, by next week (08/24)\, you should have your project 75% completed.\n\nNotes:\nYou can email at ddjapri@ayclogic.com or dmeng@ayclogic.com if you have any questions!
URL:https://www.ayclogic.com/event/3-pm-intro-to-python-daniel-darin-sub/
CATEGORIES:Python Class,Python Level 1
END:VEVENT
BEGIN:VEVENT
DTSTART;TZID=America/Los_Angeles:20240907T183000
DTEND;TZID=America/Los_Angeles:20240907T193000
DTSTAMP:20260424T102306
CREATED:20240908T023641Z
LAST-MODIFIED:20240908T024424Z
UID:26714-1725733800-1725737400@www.ayclogic.com
SUMMARY:6:30 PM – Intro To Java – Darin
DESCRIPTION:What We Did Today:\n\nLearnt how to grab an element by its id using findViewById().\nUtilized ID’s to change the text of other elements on our screen\nImplemented the math to convert the input value for Fahrenheit to an output value of Celsius and displayed them accordingly on the screen using the ID’s.\nAdded a spinner class that’s left for us to implement next week!\n\nHomework:\n\nContinue on your TemperatureConverter Project.\nCreate two new elements ( a button (that says “changeText”) and a textview (that says “changeMe”) ) and place them WITH constraints to the edges of the screen below the convertButton in activity_main.xml.\nIn MainActivity.java\, create a new function called button2OnClick\, and make it so that the new textview element changes to your name when the changeText button is clicked.\n\nNotes:\nYou can email me at ddjapri@ayclogic.com if you have any questions!
URL:https://www.ayclogic.com/event/26714/
CATEGORIES:Introduction To Java,Java
END:VEVENT
END:VCALENDAR