BEGIN:VCALENDAR
VERSION:2.0
PRODID:-//American Young Coder - ECPv6.10.1.1//NONSGML v1.0//EN
CALSCALE:GREGORIAN
METHOD:PUBLISH
X-WR-CALNAME:American Young Coder
X-ORIGINAL-URL:https://www.ayclogic.com
X-WR-CALDESC:Events for American Young Coder
REFRESH-INTERVAL;VALUE=DURATION:PT1H
X-Robots-Tag:noindex
X-PUBLISHED-TTL:PT1H
BEGIN:VTIMEZONE
TZID:America/Los_Angeles
BEGIN:DAYLIGHT
TZOFFSETFROM:-0800
TZOFFSETTO:-0700
TZNAME:PDT
DTSTART:20240310T100000
END:DAYLIGHT
BEGIN:STANDARD
TZOFFSETFROM:-0700
TZOFFSETTO:-0800
TZNAME:PST
DTSTART:20241103T090000
END:STANDARD
END:VTIMEZONE
BEGIN:VEVENT
DTSTART;TZID=America/Los_Angeles:20240913T183000
DTEND;TZID=America/Los_Angeles:20240913T193000
DTSTAMP:20260424T012303
CREATED:20240914T023310Z
LAST-MODIFIED:20240914T023310Z
UID:26779-1726252200-1726255800@www.ayclogic.com
SUMMARY:6:30 PM – Scratch 2 – Yitong
DESCRIPTION:Today we:\n\nFinished the Spaceship project.\nStarted the Cheese Chase project.\n\nHomework:\n\nDo pages 54-55 steps #6-11 in your yellow coding book.\n\nIf you have any questions\, email me at yitong@ayclogic.com
URL:https://www.ayclogic.com/event/630-pm-scratch-2-yitong-3/
CATEGORIES:Scratch Class,Scratch Class Level 2
END:VEVENT
BEGIN:VEVENT
DTSTART;TZID=America/Los_Angeles:20240913T190000
DTEND;TZID=America/Los_Angeles:20240913T200000
DTSTAMP:20260424T012303
CREATED:20240914T041810Z
LAST-MODIFIED:20240914T041810Z
UID:26782-1726254000-1726257600@www.ayclogic.com
SUMMARY:7 PM - Python Game Dev - Gamas
DESCRIPTION:Today We Did\n\nWe learned how to do count down in flappy bird.\nWe added sound effect when the player collide with coins.\n\nHomework\n\nCreate landing page\nWhen user click on the play button\, start the game.
URL:https://www.ayclogic.com/event/7-pm-python-game-dev-gamas-17/
END:VEVENT
END:VCALENDAR