BEGIN:VCALENDAR
VERSION:2.0
PRODID:-//American Young Coder - ECPv6.10.1.1//NONSGML v1.0//EN
CALSCALE:GREGORIAN
METHOD:PUBLISH
X-ORIGINAL-URL:https://www.ayclogic.com
X-WR-CALDESC:Events for American Young Coder
REFRESH-INTERVAL;VALUE=DURATION:PT1H
X-Robots-Tag:noindex
X-PUBLISHED-TTL:PT1H
BEGIN:VTIMEZONE
TZID:America/Los_Angeles
BEGIN:DAYLIGHT
TZOFFSETFROM:-0800
TZOFFSETTO:-0700
TZNAME:PDT
DTSTART:20240310T100000
END:DAYLIGHT
BEGIN:STANDARD
TZOFFSETFROM:-0700
TZOFFSETTO:-0800
TZNAME:PST
DTSTART:20241103T090000
END:STANDARD
END:VTIMEZONE
BEGIN:VEVENT
DTSTART;TZID=America/Los_Angeles:20240914T073000
DTEND;TZID=America/Los_Angeles:20240914T083000
DTSTAMP:20260424T064511
CREATED:20240914T012938Z
LAST-MODIFIED:20240914T012938Z
UID:26777-1726299000-1726302600@www.ayclogic.com
SUMMARY:7:30 AM - Python Game Dev - Gamas
DESCRIPTION:Today We Did\n\nWe learned how to display loader images\nwe learned how to create loading image page.\n\nHomework\n\ndisplay the loader images in the center of the screen\ndisplay “LOADING …” text under the loader images. This should be very similar to credit page.\nGo here: https://www.ayclogic.com/coding-roadmap-2/\n\nReview Adv Python Game Dev course page.\nReview Intro To Java course page.\nReview AI course page\nReview Unity course page.
URL:https://www.ayclogic.com/event/730-am-python-game-dev-gamas/
END:VEVENT
BEGIN:VEVENT
DTSTART;TZID=America/Los_Angeles:20240914T100000
DTEND;TZID=America/Los_Angeles:20240914T110000
DTSTAMP:20260424T064511
CREATED:20240914T042316Z
LAST-MODIFIED:20240914T042316Z
UID:26784-1726308000-1726311600@www.ayclogic.com
SUMMARY:10 AM - Python Game Dev - Indo - Gamas
DESCRIPTION:Today We Did\n\nWe learned how to detect mouse clicking on top of the play button.\nWe learned how to switch between LANDING_PAGE to GAME_IN_SESSION.\nWhen player collide with bir\, switch to LANDING_PAGE.\n\nHomework\n\nAiden\, please make sure the diagonal bird is facing the right direction.\nEveryone else\, no homework.
URL:https://www.ayclogic.com/event/10-am-python-game-dev-indo-gamas-7/
END:VEVENT
BEGIN:VEVENT
DTSTART;TZID=America/Los_Angeles:20240914T103000
DTEND;TZID=America/Los_Angeles:20240914T113000
DTSTAMP:20260424T064511
CREATED:20240916T212701Z
LAST-MODIFIED:20240916T212701Z
UID:26793-1726309800-1726313400@www.ayclogic.com
SUMMARY:10:30 AM - Intro To Python - Bill
DESCRIPTION:Your HW:\n\nContinue to work on your turtle projects\nDue next week (9/21)
URL:https://www.ayclogic.com/event/1030-am-intro-to-python-bill-31/
END:VEVENT
BEGIN:VEVENT
DTSTART;TZID=America/Los_Angeles:20240914T113000
DTEND;TZID=America/Los_Angeles:20240914T123000
DTSTAMP:20260424T064511
CREATED:20240916T212839Z
LAST-MODIFIED:20240916T212839Z
UID:26797-1726313400-1726317000@www.ayclogic.com
SUMMARY:11:30 AM - Unity Game Development - Bill
DESCRIPTION:Your HW:\n\nNone
URL:https://www.ayclogic.com/event/1130-am-unity-game-development-bill-19/
END:VEVENT
BEGIN:VEVENT
DTSTART;TZID=America/Los_Angeles:20240914T143000
DTEND;TZID=America/Los_Angeles:20240914T153000
DTSTAMP:20260424T064511
CREATED:20240916T213034Z
LAST-MODIFIED:20240916T213034Z
UID:26799-1726324200-1726327800@www.ayclogic.com
SUMMARY:2:30 PM - Unity Game Development - Bill
DESCRIPTION:Your HW:\n\nMake the X button on the pause screen send the user to the main menu\nCreate a new scene for when the user wins (copy and paste the main menu scene)
URL:https://www.ayclogic.com/event/230-pm-unity-game-development-bill-13/
END:VEVENT
BEGIN:VEVENT
DTSTART;TZID=America/Los_Angeles:20240914T150000
DTEND;TZID=America/Los_Angeles:20240914T170000
DTSTAMP:20260424T064511
CREATED:20240914T222723Z
LAST-MODIFIED:20240914T222723Z
UID:26788-1726326000-1726333200@www.ayclogic.com
SUMMARY:SAT 3 PM - Intro To Python - Daniel (Darin Sub)
DESCRIPTION:What We Did Today:\n\nDid our final exam!\n\nHomework:\n\nNone!\n\nNotes:\nYou can email me at ddjapri@ayclogic.com if you have any questions!
URL:https://www.ayclogic.com/event/sat-3-pm-intro-to-python-daniel-darin-sub/
CATEGORIES:Python Class,Python Level 1
END:VEVENT
BEGIN:VEVENT
DTSTART;TZID=America/Los_Angeles:20240914T180000
DTEND;TZID=America/Los_Angeles:20240914T190000
DTSTAMP:20260424T064511
CREATED:20240921T211900Z
LAST-MODIFIED:20240921T211900Z
UID:26841-1726336800-1726340400@www.ayclogic.com
SUMMARY:6 PM - AI / Machine Learning - Gamas
DESCRIPTION:Today We Did\n\nWe learned how to use the Titanic Survivorship Model to predict new data.\n\nHomework\n\nUtilize Titanic Survivorship learning model in streamlit.
URL:https://www.ayclogic.com/event/6-pm-ai-machine-learning-gamas/
END:VEVENT
BEGIN:VEVENT
DTSTART;TZID=America/Los_Angeles:20240914T183000
DTEND;TZID=America/Los_Angeles:20240914T193000
DTSTAMP:20260424T064511
CREATED:20240914T222649Z
LAST-MODIFIED:20240915T024108Z
UID:26786-1726338600-1726342200@www.ayclogic.com
SUMMARY:6:30 PM – Intro To Java – Darin
DESCRIPTION:What We Did Today:\n\nImplemented the spinner class\, learning about listeners\, attaching the listener to our MainActivity program\, to change appearances of our application.\nImplemented the functionality to change the headers.\nNext week we will change the math.\n\nHomework:\n\nChange the app name to its korean (or other language) equivalent\, by use of the app_name string in the strings.xml file found under the res folder.\nAdd the functionality to change the headers back to “Fahrenheit to Celsius” and “Fahrenheit to Kelvin”.\n\nNotes:\nYou can email me at ddjapri@ayclogic.com if you have any questions!
URL:https://www.ayclogic.com/event/630-pm-intro-to-java-darin-6/
CATEGORIES:Introduction To Java,Java
END:VEVENT
END:VCALENDAR