BEGIN:VCALENDAR
VERSION:2.0
PRODID:-//American Young Coder - ECPv6.10.1.1//NONSGML v1.0//EN
CALSCALE:GREGORIAN
METHOD:PUBLISH
X-ORIGINAL-URL:https://www.ayclogic.com
X-WR-CALDESC:Events for American Young Coder
REFRESH-INTERVAL;VALUE=DURATION:PT1H
X-Robots-Tag:noindex
X-PUBLISHED-TTL:PT1H
BEGIN:VTIMEZONE
TZID:America/Los_Angeles
BEGIN:DAYLIGHT
TZOFFSETFROM:-0800
TZOFFSETTO:-0700
TZNAME:PDT
DTSTART:20240310T100000
END:DAYLIGHT
BEGIN:STANDARD
TZOFFSETFROM:-0700
TZOFFSETTO:-0800
TZNAME:PST
DTSTART:20241103T090000
END:STANDARD
END:VTIMEZONE
BEGIN:VEVENT
DTSTART;TZID=America/Los_Angeles:20240916T160000
DTEND;TZID=America/Los_Angeles:20240916T170000
DTSTAMP:20260424T024036
CREATED:20240917T031200Z
LAST-MODIFIED:20240917T031200Z
UID:26801-1726502400-1726506000@www.ayclogic.com
SUMMARY:4 PM – Python OOP – Darin
DESCRIPTION:Today We:\n\nReviewed the idea of classes and objects (object oriented programming)\, and learnt how to use classes and create objects out of them.\nLearnt more about attributes (variables of the class) and methods (functions of the class) through the Dog class.\n\nHomework:\n(1) IF you haven’t already: \n\nCreate a new file called Sep9_RobuxSystem.py and modify your robux system from thonny (you can get the code from the google drive notes if you don’t have the file anymore) to use a dictionary to keep track of the names of the items and the price of the items\, and modify the code inside of the while True loop to be similar to how you did in the grocery system to use the dictionary instead.\nYou do not need to modify the function at all for this assignment.\n\n(2) MAIN homework\, do the following: \n\nDo Try It Yourself page 162 in a new file called Sep16_ClassesHW.py\nCopy pages 163 to 166 in the same file as the above^\n\nNotes:\nEmail me at ddjapri@ayclogic.com if you have any questions.
URL:https://www.ayclogic.com/event/4-pm-python-oop-darin-6/
CATEGORIES:OOP Python,Python Class
END:VEVENT
BEGIN:VEVENT
DTSTART;TZID=America/Los_Angeles:20240916T170000
DTEND;TZID=America/Los_Angeles:20240916T180000
DTSTAMP:20260424T024036
CREATED:20240917T030505Z
LAST-MODIFIED:20240917T030505Z
UID:26804-1726506000-1726509600@www.ayclogic.com
SUMMARY:5 PM – Python Game Dev – Darin
DESCRIPTION:Today We Did:\n\nFinished Shoot Balloon\, implementing multithreading as a concept to make the game optimized.\n\nIMPORTANT NOTES:\nYou can contact me via ddjapri@ayclogic.com for any questions or concerns.
URL:https://www.ayclogic.com/event/5-pm-python-game-dev-darin-6/
CATEGORIES:Python Class,Python Game Development
END:VEVENT
BEGIN:VEVENT
DTSTART;TZID=America/Los_Angeles:20240916T190000
DTEND;TZID=America/Los_Angeles:20240916T200000
DTSTAMP:20260424T024036
CREATED:20240917T030409Z
LAST-MODIFIED:20240917T030409Z
UID:26802-1726513200-1726516800@www.ayclogic.com
SUMMARY:7 PM – Intro To Java – Darin
DESCRIPTION:Today We Did:\n\nContinued in Android Studio\, reviewing the homework to implement the math.\nAdded elements to the spinner and learnt about listeners.\nAttached the listener to the spinner to check for selection.\n\nHomework:\nNone for this week! \nNotes:\nEmail me at ddjapri@ayclogic.com if you have any questions.
URL:https://www.ayclogic.com/event/7-pm-intro-to-java-darin-24/
CATEGORIES:Introduction To Java,Java
END:VEVENT
BEGIN:VEVENT
DTSTART;TZID=America/Los_Angeles:20240916T193000
DTEND;TZID=America/Los_Angeles:20240916T203000
DTSTAMP:20260424T024036
CREATED:20240923T184345Z
LAST-MODIFIED:20240923T184345Z
UID:26858-1726515000-1726518600@www.ayclogic.com
SUMMARY:7:30 PM - Python Game Development - Bill
DESCRIPTION:Your HW:\n\nContinue working on your projects (Week 8)\nDue September 30th
URL:https://www.ayclogic.com/event/730-pm-python-game-development-bill-28/
END:VEVENT
END:VCALENDAR