BEGIN:VCALENDAR
VERSION:2.0
PRODID:-//American Young Coder - ECPv6.10.1.1//NONSGML v1.0//EN
CALSCALE:GREGORIAN
METHOD:PUBLISH
X-WR-CALNAME:American Young Coder
X-ORIGINAL-URL:https://www.ayclogic.com
X-WR-CALDESC:Events for American Young Coder
REFRESH-INTERVAL;VALUE=DURATION:PT1H
X-Robots-Tag:noindex
X-PUBLISHED-TTL:PT1H
BEGIN:VTIMEZONE
TZID:America/Los_Angeles
BEGIN:DAYLIGHT
TZOFFSETFROM:-0800
TZOFFSETTO:-0700
TZNAME:PDT
DTSTART:20240310T100000
END:DAYLIGHT
BEGIN:STANDARD
TZOFFSETFROM:-0700
TZOFFSETTO:-0800
TZNAME:PST
DTSTART:20241103T090000
END:STANDARD
END:VTIMEZONE
BEGIN:VEVENT
DTSTART;TZID=America/Los_Angeles:20240919T180000
DTEND;TZID=America/Los_Angeles:20240919T190000
DTSTAMP:20260424T012205
CREATED:20240920T015917Z
LAST-MODIFIED:20240923T175439Z
UID:26822-1726768800-1726772400@www.ayclogic.com
SUMMARY:6pm – Intro To Python – Joshua Widjanarko
DESCRIPTION:Today We Did:\n\nReviewed the homework(magic 8 ball choice\nBrushed up on what functions are with/without return values\, inputs\,\nremember if you are using random to put the following code\n\nimport random\n\n\nCreated Random Passwords\nRandom int\n\nrandom.randint(1\,4)\nrandom.randchoice([“name”\,”other_name”])\n\n\n\nHomework:\nIn one new file\, “Sep19_FunctionsRandom”\, do the following: \n\nhttps://www.ayclogic.com/intro-to-python/star-wars-problem/\n\nemail jwidjanarko@ayclogic.com for questions
URL:https://www.ayclogic.com/event/6pm-intro-to-python-joshua-widjanarko-3/
END:VEVENT
BEGIN:VEVENT
DTSTART;TZID=America/Los_Angeles:20240919T180000
DTEND;TZID=America/Los_Angeles:20240919T190000
DTSTAMP:20260424T012205
CREATED:20240920T020244Z
LAST-MODIFIED:20240920T020244Z
UID:26821-1726768800-1726772400@www.ayclogic.com
SUMMARY:6 PM – Intro to Python – Daniel (Darin Sub)
DESCRIPTION:What We Did Today:\n\nLearnt about functions\, why we use functions.\nLearnt about functions without and with return values\, highlighting a couple examples.\n\nHomework:\nMake a new file called Sep19_FunctionsWithoutRV_HW.py and submit it into the google drive when you are finished. Label your questions with comments for the hw below: \n\nhttps://www.ayclogic.com/list-inputs-if-and-else-loops-and-function/ number 4 to 6.\n130\, 131 (TRY IT YOURSELF)\, 132 : 13th week\nIf you have any questions about the review or quiz\, email me at dmeng@ayclogic.com
URL:https://www.ayclogic.com/event/6-pm-intro-to-python-daniel-darin-sub-3/
CATEGORIES:Python Class,Python Level 1
END:VEVENT
BEGIN:VEVENT
DTSTART;TZID=America/Los_Angeles:20240919T183000
DTEND;TZID=America/Los_Angeles:20240919T193000
DTSTAMP:20260424T012205
CREATED:20240920T023525Z
LAST-MODIFIED:20240920T023525Z
UID:26828-1726770600-1726774200@www.ayclogic.com
SUMMARY:6:30 PM – Intro to Python – Sebastian
DESCRIPTION:Today We Did \n\nReviewed variables and data types\nReviewed the functions from homework like upper()\, lower()\, and title()\nBegan learning about conditional statements (if\, elif\, else)\nThursday 6:30PM class code:\nhttps://drive.google.com/drive/folders/1qlUjB3gRXHSK5kRzjKzDD2qIz-OqB2bK?usp=sharing\n\nAYC Logic’s observed holidays: https://www.ayclogic.com/observed-holidays/\nIn case you need anything\, feel free to email me at sebastian@ayclogic.com\n\nHomework\n\nPlease submit your homework into your Google Drive\nHomework: Create SEP19_string_hw2.py\n\nOn page 25\, complete the following sections:\n TRY IT YOURSELF: 2-3\, 2-4\, 2-5 and 2-6
URL:https://www.ayclogic.com/event/630-pm-intro-to-python-sebastian-25/
CATEGORIES:Python Class,Python Level 1
END:VEVENT
BEGIN:VEVENT
DTSTART;TZID=America/Los_Angeles:20240919T190000
DTEND;TZID=America/Los_Angeles:20240919T200000
DTSTAMP:20260424T012205
CREATED:20240920T030552Z
LAST-MODIFIED:20240920T030631Z
UID:26826-1726772400-1726776000@www.ayclogic.com
SUMMARY:7 PM – Intro to Python – Joshua
DESCRIPTION:Today We Did\n\n Showed how to input your homework into google drive\nConnected those that were not connected to the drive\nshowed how to do copying homework\nPractice if\,else\,elif\n\nIf\, Else\, and elif statements\n\nDon’t forget the : only at the end and the tab (space infront of code you want attached to if \,else\,elif\n\n\nHow to compare Variables\, Strings and Numbers\n\n ==\,>\,<\,<=\,>=\n\n\nAnd/Or statements to check for multiple conditions\n\n\n\n\n\nPages 78-81 from the textbook\, put it in a file called september19_IfElseHomework.py: 3rd week or 4th week\n\nReminder These are found in your Python Textbook\n\n\nUpload your answer to google drive before next week Wednesday night.\n\nIf you have any questions feel free to email me jwidjanarko@ayclogic.com
URL:https://www.ayclogic.com/event/6-pm-intro-to-python-joshua-13/
END:VEVENT
END:VCALENDAR