BEGIN:VCALENDAR
VERSION:2.0
PRODID:-//American Young Coder - ECPv6.10.1.1//NONSGML v1.0//EN
CALSCALE:GREGORIAN
METHOD:PUBLISH
X-ORIGINAL-URL:https://www.ayclogic.com
X-WR-CALDESC:Events for American Young Coder
REFRESH-INTERVAL;VALUE=DURATION:PT1H
X-Robots-Tag:noindex
X-PUBLISHED-TTL:PT1H
BEGIN:VTIMEZONE
TZID:America/Los_Angeles
BEGIN:DAYLIGHT
TZOFFSETFROM:-0800
TZOFFSETTO:-0700
TZNAME:PDT
DTSTART:20240310T100000
END:DAYLIGHT
BEGIN:STANDARD
TZOFFSETFROM:-0700
TZOFFSETTO:-0800
TZNAME:PST
DTSTART:20241103T090000
END:STANDARD
END:VTIMEZONE
BEGIN:VEVENT
DTSTART;TZID=America/Los_Angeles:20240921T103000
DTEND;TZID=America/Los_Angeles:20240921T113000
DTSTAMP:20260424T024038
CREATED:20240923T184754Z
LAST-MODIFIED:20240923T185608Z
UID:26860-1726914600-1726918200@www.ayclogic.com
SUMMARY:10:30 AM - Intro To Python - Bill
DESCRIPTION:Your HW:\n\nStart working on the robux shopping cart system\n\nMake it continously ask the user for a response to the menu:\n\n\nWhat do you want to do: \n1. Buy hat 100 Robux\n2. Buy hair 150 Robux\n3. VIP Server 500 Robux\n4. Add more Robux\nEnter your selection. Enter “done” when finish:\n\n\n\nIf the user enters “done” make the system stop asking for response\n\n\nFinish your turtle project if you are not done\n\nNeeds to have something that changes color over time\nNeeds some form of text\nLow code duplication\, use functions properly
URL:https://www.ayclogic.com/event/1030-am-intro-to-python-bill-32/
END:VEVENT
BEGIN:VEVENT
DTSTART;TZID=America/Los_Angeles:20240921T113000
DTEND;TZID=America/Los_Angeles:20240921T113000
DTSTAMP:20260424T024038
CREATED:20240923T185023Z
LAST-MODIFIED:20240923T185023Z
UID:26862-1726918200-1726918200@www.ayclogic.com
SUMMARY:11:30 AM - Unity Game Development - Bill
DESCRIPTION:Your HW:\n\nOn your mobile device\, download Unity Remote 5\nIf you have an iphone\, also download itunes on your computer
URL:https://www.ayclogic.com/event/1130-am-unity-game-development-bill-20/
END:VEVENT
BEGIN:VEVENT
DTSTART;TZID=America/Los_Angeles:20240921T143000
DTEND;TZID=America/Los_Angeles:20240921T153000
DTSTAMP:20260424T024038
CREATED:20240923T185349Z
LAST-MODIFIED:20240923T185349Z
UID:26864-1726929000-1726932600@www.ayclogic.com
SUMMARY:2:30 PM - Unity Game Development - Bill
DESCRIPTION:Your HW:\n\nOn your mobile device\, download Unity Remote 5\nIf you have an iphone\, also download itunes on your computer
URL:https://www.ayclogic.com/event/230-pm-unity-game-development-bill-14/
END:VEVENT
BEGIN:VEVENT
DTSTART;TZID=America/Los_Angeles:20240921T150000
DTEND;TZID=America/Los_Angeles:20240921T160000
DTSTAMP:20260424T024038
CREATED:20240921T225917Z
LAST-MODIFIED:20240921T225917Z
UID:26848-1726930800-1726934400@www.ayclogic.com
SUMMARY:3 PM - AI / Machine Learning - Gamas
DESCRIPTION:Today We Did\n\nWe deploy our Titanic Survivorship project into streamlit.\n\nHomework\n\nCreate a proposal for your individual project.\n\nFind an interesting case and its dataset in Kaggle.com\nCreate proposal for either computer vision or tabular data project.
URL:https://www.ayclogic.com/event/3-pm-ai-machine-learning-gamas/
END:VEVENT
BEGIN:VEVENT
DTSTART;TZID=America/Los_Angeles:20240921T183000
DTEND;TZID=America/Los_Angeles:20240921T193000
DTSTAMP:20260424T024038
CREATED:20240922T012726Z
LAST-MODIFIED:20240922T052955Z
UID:26850-1726943400-1726947000@www.ayclogic.com
SUMMARY:6:30 PM – Intro To Java – Darin
DESCRIPTION:What We Did Today:\n\nCompleted the temperature converter project\, implementing the math change\, as well as debugging a couple things.\n\nHomework:\n\nDo the practice final exam sent to your emails! It is worth 10% of your final grade\, and prepare well for your final exam next week!\n\nNotes:\nYou can email me at ddjapri@ayclogic.com if you have any questions!
URL:https://www.ayclogic.com/event/630-pm-intro-to-java-darin-7/
CATEGORIES:Introduction To Java,Java
END:VEVENT
END:VCALENDAR