BEGIN:VCALENDAR
VERSION:2.0
PRODID:-//American Young Coder - ECPv6.10.1.1//NONSGML v1.0//EN
CALSCALE:GREGORIAN
METHOD:PUBLISH
X-WR-CALNAME:American Young Coder
X-ORIGINAL-URL:https://www.ayclogic.com
X-WR-CALDESC:Events for American Young Coder
REFRESH-INTERVAL;VALUE=DURATION:PT1H
X-Robots-Tag:noindex
X-PUBLISHED-TTL:PT1H
BEGIN:VTIMEZONE
TZID:America/Los_Angeles
BEGIN:DAYLIGHT
TZOFFSETFROM:-0800
TZOFFSETTO:-0700
TZNAME:PDT
DTSTART:20240310T100000
END:DAYLIGHT
BEGIN:STANDARD
TZOFFSETFROM:-0700
TZOFFSETTO:-0800
TZNAME:PST
DTSTART:20241103T090000
END:STANDARD
END:VTIMEZONE
BEGIN:VEVENT
DTSTART;TZID=America/Los_Angeles:20240923T160000
DTEND;TZID=America/Los_Angeles:20240923T170000
DTSTAMP:20260424T023849
CREATED:20240923T234208Z
LAST-MODIFIED:20240924T002351Z
UID:26867-1727107200-1727110800@www.ayclogic.com
SUMMARY:4 PM – Python OOP – Darin
DESCRIPTION:Today We:\n\nChanged the grocery system program to use classes to minimize the number of dictionaries needed for our program.\nReviewed how dictionaries work.\n\nHomework:\n(1) IF you haven’t already: \n\nDo Try It Yourself page 162 in a new file called Sep16_ClassesHW.py\nCopy pages 163 to 166 in the same file as the above^\n\n(2) MAIN homework\, do the following: \n\nDo Try It Yourself page 167 numbers 9-4 and 9-5 in the same file as the above^.\nA default value means something like __init__(self\, name\, price = 10)\, where price is a default value (an optional value)\n\nNotes:\nEmail me at ddjapri@ayclogic.com if you have any questions.
URL:https://www.ayclogic.com/event/4-pm-python-oop-darin-7/
CATEGORIES:OOP Python,Python Class
END:VEVENT
BEGIN:VEVENT
DTSTART;TZID=America/Los_Angeles:20240923T190000
DTEND;TZID=America/Los_Angeles:20240923T200000
DTSTAMP:20260424T023849
CREATED:20240924T030141Z
LAST-MODIFIED:20240924T030141Z
UID:26873-1727118000-1727121600@www.ayclogic.com
SUMMARY:7 PM – Intro To Java – Darin
DESCRIPTION:Today We Did:\n\nContinued in Android Studio\, implementing the rest of the spinner conversion types.\nChanged the headers when selecting an item from the spinner (drop down menu)\nNext week we will change the math depending on the selected item from the spinner.\n\nHomework:\nImplement the rest of the header changing for the other two options! \nYou might want to start studying for your final exam which is in two weeks! \nNotes:\nEmail me at ddjapri@ayclogic.com if you have any questions.
URL:https://www.ayclogic.com/event/7-pm-intro-to-java-darin-25/
CATEGORIES:Introduction To Java,Java
END:VEVENT
BEGIN:VEVENT
DTSTART;TZID=America/Los_Angeles:20240923T190000
DTEND;TZID=America/Los_Angeles:20240923T200000
DTSTAMP:20260424T023849
CREATED:20240928T170016Z
LAST-MODIFIED:20240928T170016Z
UID:26919-1727118000-1727121600@www.ayclogic.com
SUMMARY:7:30 PM - Python Game Development - Bill
DESCRIPTION:Your HW:\n\nFinish up your projects\nDue 9/30\nMake sure it has a credits page\nAdvaith:\n\nMake a logo\nYou win page
URL:https://www.ayclogic.com/event/730-pm-python-game-development-bill-29/
END:VEVENT
END:VCALENDAR