BEGIN:VCALENDAR
VERSION:2.0
PRODID:-//American Young Coder - ECPv6.10.1.1//NONSGML v1.0//EN
CALSCALE:GREGORIAN
METHOD:PUBLISH
X-WR-CALNAME:American Young Coder
X-ORIGINAL-URL:https://www.ayclogic.com
X-WR-CALDESC:Events for American Young Coder
REFRESH-INTERVAL;VALUE=DURATION:PT1H
X-Robots-Tag:noindex
X-PUBLISHED-TTL:PT1H
BEGIN:VTIMEZONE
TZID:America/Los_Angeles
BEGIN:DAYLIGHT
TZOFFSETFROM:-0800
TZOFFSETTO:-0700
TZNAME:PDT
DTSTART:20240310T100000
END:DAYLIGHT
BEGIN:STANDARD
TZOFFSETFROM:-0700
TZOFFSETTO:-0800
TZNAME:PST
DTSTART:20241103T090000
END:STANDARD
END:VTIMEZONE
BEGIN:VEVENT
DTSTART;TZID=America/Los_Angeles:20240925T170000
DTEND;TZID=America/Los_Angeles:20240925T180000
DTSTAMP:20260424T023847
CREATED:20240926T010744Z
LAST-MODIFIED:20240926T010744Z
UID:26889-1727283600-1727287200@www.ayclogic.com
SUMMARY:5 PM - Scratch 1 - Abigail
DESCRIPTION:Today We\n\nWe finished working on the Animal Race project.\nWe introduced the Ask Gobo project.\n\nHomework\n\nDo page 63\, on your pink Scratch book.\n\nIf you have any questions\, email me at abigail@ayclogic.com
URL:https://www.ayclogic.com/event/5-pm-scratch-1-abigail-4/
CATEGORIES:Scratch Class,Scratch Class Level 1
END:VEVENT
BEGIN:VEVENT
DTSTART;TZID=America/Los_Angeles:20240925T180000
DTEND;TZID=America/Los_Angeles:20240925T190000
DTSTAMP:20260424T023847
CREATED:20240926T020018Z
LAST-MODIFIED:20240926T022252Z
UID:26895-1727287200-1727290800@www.ayclogic.com
SUMMARY:6 PM - Intro To Java - Gamas
DESCRIPTION:Today We Did\n\nWe learned about variables\, datatypes and Scanner\n\nHomework\n\nCreate a new Java file Sep25_StringVariableHW.java\nUpload your homework to your assigned google drive folder on Tuesday night.\nAnswer questions from https://www.ayclogic.com/java-variables-datatypes/
URL:https://www.ayclogic.com/event/6-pm-intro-to-java-gamas-4/
END:VEVENT
BEGIN:VEVENT
DTSTART;TZID=America/Los_Angeles:20240925T180000
DTEND;TZID=America/Los_Angeles:20240925T190000
DTSTAMP:20260424T023847
CREATED:20240926T020041Z
LAST-MODIFIED:20240926T020041Z
UID:26894-1727287200-1727290800@www.ayclogic.com
SUMMARY:6 PM – Intro to Python – Daniel
DESCRIPTION:What We Did\n\nReviewed the shapes homework from last week\nWorked on the robot builder together in class\n\nHomework\n\nFinish the right arm function for the robot builder in the same file\nIf you have any questions\, email me at dmeng@ayclogic.com
URL:https://www.ayclogic.com/event/6-pm-intro-to-python-daniel-26/
END:VEVENT
END:VCALENDAR