BEGIN:VCALENDAR
VERSION:2.0
PRODID:-//American Young Coder - ECPv6.10.1.1//NONSGML v1.0//EN
CALSCALE:GREGORIAN
METHOD:PUBLISH
X-ORIGINAL-URL:https://www.ayclogic.com
X-WR-CALDESC:Events for American Young Coder
REFRESH-INTERVAL;VALUE=DURATION:PT1H
X-Robots-Tag:noindex
X-PUBLISHED-TTL:PT1H
BEGIN:VTIMEZONE
TZID:America/Los_Angeles
BEGIN:DAYLIGHT
TZOFFSETFROM:-0800
TZOFFSETTO:-0700
TZNAME:PDT
DTSTART:20240310T100000
END:DAYLIGHT
BEGIN:STANDARD
TZOFFSETFROM:-0700
TZOFFSETTO:-0800
TZNAME:PST
DTSTART:20241103T090000
END:STANDARD
END:VTIMEZONE
BEGIN:VEVENT
DTSTART;TZID=America/Los_Angeles:20240927T183000
DTEND;TZID=America/Los_Angeles:20240927T193000
DTSTAMP:20260424T040746
CREATED:20240928T022741Z
LAST-MODIFIED:20240928T022741Z
UID:26913-1727461800-1727465400@www.ayclogic.com
SUMMARY:6:30 PM – Scratch 2 – Yitong
DESCRIPTION:Today we:\n\nContinued the Cheese Chase project.\n\nHomework:\n\nMake a Game Over Banner sprite. You need to draw it.\nMake a Level Banner sprite.\n\nYou need to draw 2 costumes: Level 1 and Level 2.\n\n\n\nIf you have any questions\, email me at yitong@ayclogic.com
URL:https://www.ayclogic.com/event/630-pm-scratch-2-yitong-5/
CATEGORIES:Scratch Class,Scratch Class Level 2
END:VEVENT
BEGIN:VEVENT
DTSTART;TZID=America/Los_Angeles:20240927T190000
DTEND;TZID=America/Los_Angeles:20240927T200000
DTSTAMP:20260424T040746
CREATED:20240928T043931Z
LAST-MODIFIED:20240928T043931Z
UID:26917-1727463600-1727467200@www.ayclogic.com
SUMMARY:7 PM - Python Game Dev - Gamas
DESCRIPTION:Today We Did\n\nWe went over each individual project proposal.\nWe finished Flappy duck project.\n\nHomework\nMake progress on your each individual project. The due date is Nov 29\, 2024. \n\nEugene\n\nSubmit your proposal as soon as possible and text me.\ngit clone this project – https://gitlab.com/gsugiart/20240927-eugene-pygame-project in your pycharm.\nAdd all of your images and audio files into your project assets folder.\nRun your project\n\n\n Riley\n\nAdd all of your images and audio files into your project assets folder.\nCreate config.py and move some of the constants like screen’s WIDTH\, HEIGHT\, FPS to config.py and change the code inside main.py accordingly.\nDisplay your background image on the screen.\nCreate tetris_block.py and create TetrisBlock sprite.\nDisplay the TetrisBlock sprite on the screen. You can use one of the tetris block for now. No need to display all of the Tetris block.\n\n\nRyan\n\nCrop all of your player’s images to be sequence of images. According to https://opengameart.org/content/modern-rpg-guy\, you need to have 4 images for each of the directions. So total you will have 16 images\, 4 sequence of images per direction.\nAdd all of your images and audio files into your project assets folder.\nCreate config.py and move some of the constants like screen’s WIDTH\, HEIGHT\, FPS to config.py and change the code inside main.py accordingly.\nDisplay your background image on the screen.\nCreate player.py and display the player on the screen.
URL:https://www.ayclogic.com/event/7-pm-python-game-dev-gamas-19/
END:VEVENT
END:VCALENDAR