BEGIN:VCALENDAR
VERSION:2.0
PRODID:-//American Young Coder - ECPv6.10.1.1//NONSGML v1.0//EN
CALSCALE:GREGORIAN
METHOD:PUBLISH
X-WR-CALNAME:American Young Coder
X-ORIGINAL-URL:https://www.ayclogic.com
X-WR-CALDESC:Events for American Young Coder
REFRESH-INTERVAL;VALUE=DURATION:PT1H
X-Robots-Tag:noindex
X-PUBLISHED-TTL:PT1H
BEGIN:VTIMEZONE
TZID:America/Los_Angeles
BEGIN:DAYLIGHT
TZOFFSETFROM:-0800
TZOFFSETTO:-0700
TZNAME:PDT
DTSTART:20240310T100000
END:DAYLIGHT
BEGIN:STANDARD
TZOFFSETFROM:-0700
TZOFFSETTO:-0800
TZNAME:PST
DTSTART:20241103T090000
END:STANDARD
END:VTIMEZONE
BEGIN:VEVENT
DTSTART;TZID=America/Los_Angeles:20240928T100000
DTEND;TZID=America/Los_Angeles:20240928T110000
DTSTAMP:20260424T023855
CREATED:20240928T041735Z
LAST-MODIFIED:20240928T041735Z
UID:26915-1727517600-1727521200@www.ayclogic.com
SUMMARY:10 AM - Python Game Dev - Indo - Gamas
DESCRIPTION:Today We Did\n\nWe reviewed Dragon Birdie project\nHow to create a sprite\nHow to do animation\nHow to display image on the screen.\n\nHomework\n\nWe will have a quiz next week. It is 20% of their grades.
URL:https://www.ayclogic.com/event/10-am-python-game-dev-indo-gamas-8/
END:VEVENT
BEGIN:VEVENT
DTSTART;TZID=America/Los_Angeles:20240928T103000
DTEND;TZID=America/Los_Angeles:20240928T113000
DTSTAMP:20260424T023855
CREATED:20240930T002654Z
LAST-MODIFIED:20240930T002654Z
UID:26930-1727519400-1727523000@www.ayclogic.com
SUMMARY:10:30 AM - Intro To Python - Bill
DESCRIPTION:Your HW:\n\nWork on the add more robux function of the robux system\n\nAsk the user for their credit card number (no need to check if it is valid)\nAsk the user for how much to add\nAdd that amount to robux variable\n\n\nSubmit your project on google drive if you did not already
URL:https://www.ayclogic.com/event/1030-am-intro-to-python-bill-33/
END:VEVENT
BEGIN:VEVENT
DTSTART;TZID=America/Los_Angeles:20240928T113000
DTEND;TZID=America/Los_Angeles:20240928T123000
DTSTAMP:20260424T023855
CREATED:20240930T002847Z
LAST-MODIFIED:20240930T002847Z
UID:26932-1727523000-1727526600@www.ayclogic.com
SUMMARY:11:30 AM - Unity Game Development - Bill
DESCRIPTION:Your HW:\n\nAdd to the game in session scene’s pause menu a button to get the user back to the main menu\nMake sure to end the game before doing so to save the collected coins
URL:https://www.ayclogic.com/event/1130-am-unity-game-development-bill-21/
END:VEVENT
BEGIN:VEVENT
DTSTART;TZID=America/Los_Angeles:20240928T120000
DTEND;TZID=America/Los_Angeles:20240928T130000
DTSTAMP:20260424T023855
CREATED:20240929T234206Z
LAST-MODIFIED:20240929T234217Z
UID:26926-1727524800-1727528400@www.ayclogic.com
SUMMARY:12 PM - AI / Machine Learning - Gamas
DESCRIPTION:Today We Did\n\nWe learned about Boston Housing Market project.\nWe discussed about individual project.\n\nHomework\n\nMake progress on your individual project. The due date is end of October 2024.
URL:https://www.ayclogic.com/event/12-pm-ai-machine-learning-gamas/
END:VEVENT
BEGIN:VEVENT
DTSTART;TZID=America/Los_Angeles:20240928T143000
DTEND;TZID=America/Los_Angeles:20240928T153000
DTSTAMP:20260424T023855
CREATED:20240930T002928Z
LAST-MODIFIED:20240930T002928Z
UID:26934-1727533800-1727537400@www.ayclogic.com
SUMMARY:2:30 PM - Unity Game Development - Bill
DESCRIPTION:Your HW:\n\nNone
URL:https://www.ayclogic.com/event/230-pm-unity-game-development-bill-15/
END:VEVENT
BEGIN:VEVENT
DTSTART;TZID=America/Los_Angeles:20240928T150000
DTEND;TZID=America/Los_Angeles:20240928T160000
DTSTAMP:20260424T023855
CREATED:20240929T234457Z
LAST-MODIFIED:20240929T234457Z
UID:26928-1727535600-1727539200@www.ayclogic.com
SUMMARY:3 PM - Website Creation - Gamas
DESCRIPTION:Today We Did\n\nWe created an account in mochahost.com\nWe created each individual domain name.\nWe created custom email for each domain name.\nWe created under construction page.\n\nHomework\n\nNo homework
URL:https://www.ayclogic.com/event/3-pm-website-creation-gamas/
END:VEVENT
BEGIN:VEVENT
DTSTART;TZID=America/Los_Angeles:20240928T183000
DTEND;TZID=America/Los_Angeles:20240928T193000
DTSTAMP:20260424T023855
CREATED:20240929T004739Z
LAST-MODIFIED:20240929T004739Z
UID:26921-1727548200-1727551800@www.ayclogic.com
SUMMARY:6:30 PM – Intro To Java – Darin
DESCRIPTION:Your Final Exam is next week on October 5 2024!!\nWhat We Did Today:\n\nReviewed the practice final exam\, going over concepts such as inheritance as a review for next weeks final exam.\n\nHomework:\n\nStudy well for your final exam next week!\n\nNotes:\nYou can email me at ddjapri@ayclogic.com if you have any questions!
URL:https://www.ayclogic.com/event/630-pm-intro-to-java-darin-8/
CATEGORIES:Introduction To Java,Java
END:VEVENT
END:VCALENDAR