BEGIN:VCALENDAR
VERSION:2.0
PRODID:-//American Young Coder - ECPv6.10.1.1//NONSGML v1.0//EN
CALSCALE:GREGORIAN
METHOD:PUBLISH
X-WR-CALNAME:American Young Coder
X-ORIGINAL-URL:https://www.ayclogic.com
X-WR-CALDESC:Events for American Young Coder
REFRESH-INTERVAL;VALUE=DURATION:PT1H
X-Robots-Tag:noindex
X-PUBLISHED-TTL:PT1H
BEGIN:VTIMEZONE
TZID:America/Los_Angeles
BEGIN:DAYLIGHT
TZOFFSETFROM:-0800
TZOFFSETTO:-0700
TZNAME:PDT
DTSTART:20240310T100000
END:DAYLIGHT
BEGIN:STANDARD
TZOFFSETFROM:-0700
TZOFFSETTO:-0800
TZNAME:PST
DTSTART:20241103T090000
END:STANDARD
END:VTIMEZONE
BEGIN:VEVENT
DTSTART;TZID=America/Los_Angeles:20241003T180000
DTEND;TZID=America/Los_Angeles:20241003T190000
DTSTAMP:20260424T085454
CREATED:20241004T020312Z
LAST-MODIFIED:20241004T020312Z
UID:26980-1727978400-1727982000@www.ayclogic.com
SUMMARY:6 PM – Intro to Python – Daniel
DESCRIPTION:What We Did\n\nWe went over some functions using random module from the homework.\nWorked through the Magic 8 ball problem in class together.\n\nHomework\n\nCreate a file called Oct_3_RandomFunctionsHW2.py and do problems 3 and 4 from https://www.ayclogic.com/intro-to-python/star-wars-problem/\nIf you have any questions\, email me at dmeng@ayclogic.com
URL:https://www.ayclogic.com/event/6-pm-intro-to-python-daniel-30/
END:VEVENT
BEGIN:VEVENT
DTSTART;TZID=America/Los_Angeles:20241003T180000
DTEND;TZID=America/Los_Angeles:20241003T190000
DTSTAMP:20260424T085454
CREATED:20241004T022823Z
LAST-MODIFIED:20241004T022823Z
UID:26976-1727978400-1727982000@www.ayclogic.com
SUMMARY:6pm – Intro To Python – Joshua Widjanarko
DESCRIPTION:Today We Did:\n\nBug fixing practice\nLooked at the first bug-fixing homework\n\nHomework:\nIn one new file\, “October3_fix_bugs_2”\, do the following: \n\nhttps://www.ayclogic.com/fix-python-bugs-2/\n\nIn another new file\, “quiz_2_practice”\, do the following: \n\nhttps://www.ayclogic.com/intro-to-python-exercises-for-quiz-2/  questions 1\,2\n\nemail jwidjanarko@ayclogic.com for questions
URL:https://www.ayclogic.com/event/6pm-intro-to-python-joshua-widjanarko-4/
END:VEVENT
BEGIN:VEVENT
DTSTART;TZID=America/Los_Angeles:20241003T183000
DTEND;TZID=America/Los_Angeles:20241003T193000
DTSTAMP:20260424T085454
CREATED:20240904T012248Z
LAST-MODIFIED:20241004T023747Z
UID:26982-1727980200-1727983800@www.ayclogic.com
SUMMARY:6:30 PM – Intro to Python – Sebastian
DESCRIPTION:Today We Did \n\nReviewed the logical operators “and” & “or”\nReviewed everything we can do with lists\n\nCreate a list\nAccess one element in a list\nChange an element’s value\nAdd to the end of a list\nRemove an element from a list\nGet the length of a list\n\n\nPracticed the different list functions\nBegan reviewing while loops\nThursday 6:30PM class code: https://drive.google.com/drive/folders/1qlUjB3gRXHSK5kRzjKzDD2qIz-OqB2bK?usp=sharing\nAYC Logic’s observed holidays: https://www.ayclogic.com/observed-holidays/\nIn case you need anything\, feel free to email me at sebastian@ayclogic.com\n\nHomework\n\nPlease submit your homework into your Google Drive\nHomework: \n\n2nd edition: TRY IT YOURSELF from page 42: 3-4\, 3-5\, 3-6\n\n3rd edition: TRY IT YOURSELF from page 41-42: 3-4\, 3-5\, 3-6
URL:https://www.ayclogic.com/event/630-pm-intro-to-python-sebastian-26/
CATEGORIES:Python Class,Python Level 1
END:VEVENT
BEGIN:VEVENT
DTSTART;TZID=America/Los_Angeles:20241003T190000
DTEND;TZID=America/Los_Angeles:20241003T200000
DTSTAMP:20260424T085454
CREATED:20241004T030011Z
LAST-MODIFIED:20241004T030011Z
UID:26977-1727982000-1727985600@www.ayclogic.com
SUMMARY:7pm – Intro To Python – Joshua Widjanarko
DESCRIPTION:Today We Did:\n\n\n\nReviewed a bit about inputs\nLists\n\n[] to create\n.append() to add\nlocations [0\,1\,2\,3] –> list starts with zero and ascends upwards\nhow do we get specific location\n\nname_of_list[1] —> gets second value of list\n\n\ndel to delete specific parts of a list\n\n\n\n\n\nHomework:\nIn one new file\, “October_3_lists”\, do the following: \n\n3rd edition: Page 37 to 41 (do not do the “Try It Yourself”)\n\nemail jwidjanarko@ayclogic.com for questions
URL:https://www.ayclogic.com/event/7pm-intro-to-python-joshua-widjanarko-2/
END:VEVENT
END:VCALENDAR