BEGIN:VCALENDAR
VERSION:2.0
PRODID:-//American Young Coder - ECPv6.10.1.1//NONSGML v1.0//EN
CALSCALE:GREGORIAN
METHOD:PUBLISH
X-ORIGINAL-URL:https://www.ayclogic.com
X-WR-CALDESC:Events for American Young Coder
REFRESH-INTERVAL;VALUE=DURATION:PT1H
X-Robots-Tag:noindex
X-PUBLISHED-TTL:PT1H
BEGIN:VTIMEZONE
TZID:America/Los_Angeles
BEGIN:DAYLIGHT
TZOFFSETFROM:-0800
TZOFFSETTO:-0700
TZNAME:PDT
DTSTART:20240310T100000
END:DAYLIGHT
BEGIN:STANDARD
TZOFFSETFROM:-0700
TZOFFSETTO:-0800
TZNAME:PST
DTSTART:20241103T090000
END:STANDARD
END:VTIMEZONE
BEGIN:VEVENT
DTSTART;TZID=America/Los_Angeles:20241005T043000
DTEND;TZID=America/Los_Angeles:20241005T173000
DTSTAMP:20260424T064309
CREATED:20241011T014059Z
LAST-MODIFIED:20241011T014059Z
UID:27033-1728102600-1728149400@www.ayclogic.com
SUMMARY:4:30 PM - AI and Machine Learning - Gamas
DESCRIPTION:Today We Did\n\nWe learned about the difference between classification vs regression tasks\nWe learned about different algorithms\n\nNeural Network using fast.ai\nRandom Forest Regressor\nXBBoost for Regression\n\n\n\nHomework\n\nContinue with your AI / ML health disease classifier. By 10/12\, you should already 75% done. Due date is 10/19.
URL:https://www.ayclogic.com/event/430-pm-ai-and-machine-learning-gamas/
END:VEVENT
BEGIN:VEVENT
DTSTART;TZID=America/Los_Angeles:20241005T153000
DTEND;TZID=America/Los_Angeles:20241005T163000
DTSTAMP:20260424T064309
CREATED:20241005T232815Z
LAST-MODIFIED:20241005T232815Z
UID:26994-1728142200-1728145800@www.ayclogic.com
SUMMARY:3:30 PM - Website Creation - Gamas
DESCRIPTION:Today We Did\n\nWe installed wordpress in each individual website.\nWe learned how to change menu name and how to add menu item.\nWe learned how to add page\n\nHomework\n\nIn your resume page\, please add your actual resume.\nAdd one more new page\, “Portfolio” and add it to the menu\n\nIn this Portfolio page\, add your school projects that you are proud of.\n\n\nCreate logo image for your website.\n\nLook in the Internet how to create FREE logo for yourself.\nLook for Chat GPT.
URL:https://www.ayclogic.com/event/330-pm-website-creation-gamas/
END:VEVENT
END:VCALENDAR