BEGIN:VCALENDAR
VERSION:2.0
PRODID:-//American Young Coder - ECPv6.10.1.1//NONSGML v1.0//EN
CALSCALE:GREGORIAN
METHOD:PUBLISH
X-WR-CALNAME:American Young Coder
X-ORIGINAL-URL:https://www.ayclogic.com
X-WR-CALDESC:Events for American Young Coder
REFRESH-INTERVAL;VALUE=DURATION:PT1H
X-Robots-Tag:noindex
X-PUBLISHED-TTL:PT1H
BEGIN:VTIMEZONE
TZID:America/Los_Angeles
BEGIN:DAYLIGHT
TZOFFSETFROM:-0800
TZOFFSETTO:-0700
TZNAME:PDT
DTSTART:20240310T100000
END:DAYLIGHT
BEGIN:STANDARD
TZOFFSETFROM:-0700
TZOFFSETTO:-0800
TZNAME:PST
DTSTART:20241103T090000
END:STANDARD
END:VTIMEZONE
BEGIN:VEVENT
DTSTART;TZID=America/Los_Angeles:20241009T170000
DTEND;TZID=America/Los_Angeles:20241009T180000
DTSTAMP:20260424T144745
CREATED:20241010T004025Z
LAST-MODIFIED:20241010T004025Z
UID:27021-1728493200-1728496800@www.ayclogic.com
SUMMARY:6 PM - Intro To Python - Gamas
DESCRIPTION:Today We Did\n\nTBD\n\nHomework\n\ndo draw_letter_c(x\,y\,color)\ndo draw_letter_a(x\,y\, color)\ndraw 2 trees according to your project proposal.\nDraw all parts of the castle: walls\, windows\, roofs\, door
URL:https://www.ayclogic.com/event/6-pm-intro-to-python-gamas-37/
END:VEVENT
BEGIN:VEVENT
DTSTART;TZID=America/Los_Angeles:20241009T170000
DTEND;TZID=America/Los_Angeles:20241009T180000
DTSTAMP:20260424T144745
CREATED:20241010T064549Z
LAST-MODIFIED:20241010T064549Z
UID:27031-1728493200-1728496800@www.ayclogic.com
SUMMARY:5 PM – Scratch 1 – Abigail
DESCRIPTION:Today We\n\nWe finished working on the Ask Gobo project.\nWe started working on the Funny Faces project.\n\nHomework\n\nDo page 75 on your pink Scratch book.\nMake a Hair sprite\, Eyebrow sprite\, Bow tie sprite\, and Hat2 sprite.\nDon’t copy the hair sprite in the book\, make your own hair sprite.\n\n \nIf you have any questions\, email me at abigail@ayclogic.com
URL:https://www.ayclogic.com/event/5-pm-scratch-1-abigail-6/
CATEGORIES:Scratch Class,Scratch Class Level 1
END:VEVENT
BEGIN:VEVENT
DTSTART;TZID=America/Los_Angeles:20241009T180000
DTEND;TZID=America/Los_Angeles:20241009T190000
DTSTAMP:20260424T144745
CREATED:20241010T040610Z
LAST-MODIFIED:20241010T040610Z
UID:27027-1728496800-1728500400@www.ayclogic.com
SUMMARY:6 PM - Intro To Java - Gamas
DESCRIPTION:Today We Did\n\nWe learned about List\nWe learned about For loop\n\nHomework\n\nCreate Oct9_ListForLoopHw.java\nDo exercises in https://www.ayclogic.com/java-list-forloop/
URL:https://www.ayclogic.com/event/6-pm-intro-to-java-gamas-6/
END:VEVENT
BEGIN:VEVENT
DTSTART;TZID=America/Los_Angeles:20241009T180000
DTEND;TZID=America/Los_Angeles:20241009T190000
DTSTAMP:20260424T144745
CREATED:20241011T022550Z
LAST-MODIFIED:20241011T022601Z
UID:27037-1728496800-1728500400@www.ayclogic.com
SUMMARY:6 PM – Intro to Python – Daniel
DESCRIPTION:What We Did\n\nWe worked with more shapes and learned how to create a half circle.\nTalked about project proposal\n\nHomework\n\nStart on project and try to finish 25% of the project by next week\nFinal project is due 11/06\nIf you have any questions\, email me at dmeng@ayclogic.com
URL:https://www.ayclogic.com/event/6-pm-intro-to-python-daniel-33/
END:VEVENT
END:VCALENDAR