BEGIN:VCALENDAR
VERSION:2.0
PRODID:-//American Young Coder - ECPv6.10.1.1//NONSGML v1.0//EN
CALSCALE:GREGORIAN
METHOD:PUBLISH
X-WR-CALNAME:American Young Coder
X-ORIGINAL-URL:https://www.ayclogic.com
X-WR-CALDESC:Events for American Young Coder
REFRESH-INTERVAL;VALUE=DURATION:PT1H
X-Robots-Tag:noindex
X-PUBLISHED-TTL:PT1H
BEGIN:VTIMEZONE
TZID:America/Los_Angeles
BEGIN:DAYLIGHT
TZOFFSETFROM:-0800
TZOFFSETTO:-0700
TZNAME:PDT
DTSTART:20240310T100000
END:DAYLIGHT
BEGIN:STANDARD
TZOFFSETFROM:-0700
TZOFFSETTO:-0800
TZNAME:PST
DTSTART:20241103T090000
END:STANDARD
END:VTIMEZONE
BEGIN:VEVENT
DTSTART;TZID=America/Los_Angeles:20241012T100000
DTEND;TZID=America/Los_Angeles:20241012T110000
DTSTAMP:20260424T193948
CREATED:20241012T040521Z
LAST-MODIFIED:20241012T040521Z
UID:27065-1728727200-1728730800@www.ayclogic.com
SUMMARY:10 AM - Python Game Dev - Gamas
DESCRIPTION:Today We Did\n\nWe went over the quiz solution\nWe started Flappy Duck project\n\nHomework\nIn your Flappy Duck project \n\ndisplay background image\ncreate player.py\n\nInside create Player sprite.\nUse assets/images/Green duck #1-01.png and assets/images/Green duck #2-01.png for the player animation.\nDisplay the player on the screen. The player need ot have animation.
URL:https://www.ayclogic.com/event/10-am-python-game-dev-gamas-3/
END:VEVENT
BEGIN:VEVENT
DTSTART;TZID=America/Los_Angeles:20241012T103000
DTEND;TZID=America/Los_Angeles:20241012T113000
DTSTAMP:20260424T193948
CREATED:20241014T050923Z
LAST-MODIFIED:20241014T050923Z
UID:27075-1728729000-1728732600@www.ayclogic.com
SUMMARY:10:30 AM - Intro To Python - Bill
DESCRIPTION:Today We:\n\nTook the final test\n\nYour HW:\n\nNone
URL:https://www.ayclogic.com/event/1030-am-intro-to-python-bill-34/
END:VEVENT
BEGIN:VEVENT
DTSTART;TZID=America/Los_Angeles:20241012T113000
DTEND;TZID=America/Los_Angeles:20241012T123000
DTSTAMP:20260424T193948
CREATED:20241014T051045Z
LAST-MODIFIED:20241014T051045Z
UID:27077-1728732600-1728736200@www.ayclogic.com
SUMMARY:11:30 AM - Unity Game Development - Bill
DESCRIPTION:Your HW:\n\nTry to test the game with unity remote 5\n\n 
URL:https://www.ayclogic.com/event/1130-am-unity-game-development-bill-22/
END:VEVENT
BEGIN:VEVENT
DTSTART;TZID=America/Los_Angeles:20241012T143000
DTEND;TZID=America/Los_Angeles:20241012T153000
DTSTAMP:20260424T193948
CREATED:20241014T051155Z
LAST-MODIFIED:20241014T051155Z
UID:27079-1728743400-1728747000@www.ayclogic.com
SUMMARY:2:30 PM - Unity Game Development - Bill
DESCRIPTION:Your HW:\n\nTry to get unity remote 5 to work\nDownload Blender for your computer:\n\nhttps://www.blender.org/
URL:https://www.ayclogic.com/event/230-pm-unity-game-development-bill-16/
END:VEVENT
BEGIN:VEVENT
DTSTART;TZID=America/Los_Angeles:20241012T153000
DTEND;TZID=America/Los_Angeles:20241012T163000
DTSTAMP:20260424T193948
CREATED:20241012T234546Z
LAST-MODIFIED:20241012T234546Z
UID:27071-1728747000-1728750600@www.ayclogic.com
SUMMARY:3:30 PM - Website Creation - Gamas
DESCRIPTION:Today We Did\n\nWe learned how to create a subdomain in cpanel.\nWe learned about wordpress plugins\nWe learned how to create contact me page.\n\nHomework\n\nCreate logo image for your website.\nAfter creating the logo\, update your website top left corner logo.\nCreate a portfolio page if you have not created one.\n\nPut an image of your Python Game Dev game thumbnail and a short description.\nThat image has to be clickable which will bring to a detail page of that game.\nLook at this page for example : https://sat330.thekidscoding.com/portfolios/
URL:https://www.ayclogic.com/event/330-pm-website-creation-gamas-2/
END:VEVENT
END:VCALENDAR