BEGIN:VCALENDAR
VERSION:2.0
PRODID:-//American Young Coder - ECPv6.10.1.1//NONSGML v1.0//EN
CALSCALE:GREGORIAN
METHOD:PUBLISH
X-ORIGINAL-URL:https://www.ayclogic.com
X-WR-CALDESC:Events for American Young Coder
REFRESH-INTERVAL;VALUE=DURATION:PT1H
X-Robots-Tag:noindex
X-PUBLISHED-TTL:PT1H
BEGIN:VTIMEZONE
TZID:America/Los_Angeles
BEGIN:DAYLIGHT
TZOFFSETFROM:-0800
TZOFFSETTO:-0700
TZNAME:PDT
DTSTART:20240310T100000
END:DAYLIGHT
BEGIN:STANDARD
TZOFFSETFROM:-0700
TZOFFSETTO:-0800
TZNAME:PST
DTSTART:20241103T090000
END:STANDARD
END:VTIMEZONE
BEGIN:VEVENT
DTSTART;TZID=America/Los_Angeles:20241019T100000
DTEND;TZID=America/Los_Angeles:20241019T110000
DTSTAMP:20260425T083447
CREATED:20241019T040426Z
LAST-MODIFIED:20241019T040426Z
UID:27135-1729332000-1729335600@www.ayclogic.com
SUMMARY:10 AM - Python Game Dev - Indo - Gamas
DESCRIPTION:Today We Did\n\nWe added player to Flappyduck project.\nWe added animation to the player.\n\nHomework\n\nCreate tube.py\nCreate Tube sprite\nUse assets/Downward_tuber_3.png\ndisplay on the screen.
URL:https://www.ayclogic.com/event/10-am-python-game-dev-indo-gamas-9/
END:VEVENT
BEGIN:VEVENT
DTSTART;TZID=America/Los_Angeles:20241019T100000
DTEND;TZID=America/Los_Angeles:20241019T110000
DTSTAMP:20260425T083447
CREATED:20241019T172146Z
LAST-MODIFIED:20241019T180008Z
UID:27137-1729332000-1729335600@www.ayclogic.com
SUMMARY:10 AM - Intro To Python - Gamas (Alyssa)
DESCRIPTION:Today We Did\n\nwe continued with Kaleido Spiral project\n\nHomework\n\nThe project is due on 10/30\, by next week (10/23)  you will need to be done by 75%.\nPlease do your last week homework (10/09)\nComplete all parts of the castle.\nAdd draw_letter_s(x\,y\, color). Make sure to use all parameters inside the function
URL:https://www.ayclogic.com/event/10-am-intro-to-python-gamas-alyssa/
END:VEVENT
BEGIN:VEVENT
DTSTART;TZID=America/Los_Angeles:20241019T113000
DTEND;TZID=America/Los_Angeles:20241019T123000
DTSTAMP:20260425T083447
CREATED:20241026T025248Z
LAST-MODIFIED:20241026T025248Z
UID:27204-1729337400-1729341000@www.ayclogic.com
SUMMARY:11:30 AM - Unity Game Development - Bill
DESCRIPTION:Your HW:\n\nNone
URL:https://www.ayclogic.com/event/1130-am-unity-game-development-bill-23/
END:VEVENT
BEGIN:VEVENT
DTSTART;TZID=America/Los_Angeles:20241019T120000
DTEND;TZID=America/Los_Angeles:20241019T130000
DTSTAMP:20260425T083447
CREATED:20241019T200154Z
LAST-MODIFIED:20241019T200154Z
UID:27141-1729339200-1729342800@www.ayclogic.com
SUMMARY:12 PM - AI and Machine Learning - Gamas
DESCRIPTION:Today We Did\n\nWe were able to use XGBoost Regression algorithm to do Boston Housing Price prediction.\n\nHomework\n\nExport the model into PKL file.\nCreate a python program that would read this PKL file and upload program to streamlit just like how you did it in Titanic Survivorship project.\nYou might need to play around or do some research just in case if XGBoost does not export into PKL file.
URL:https://www.ayclogic.com/event/12-pm-ai-and-machine-learning-gamas-3/
END:VEVENT
BEGIN:VEVENT
DTSTART;TZID=America/Los_Angeles:20241019T143000
DTEND;TZID=America/Los_Angeles:20241019T153000
DTSTAMP:20260425T083447
CREATED:20241026T025344Z
LAST-MODIFIED:20241026T025344Z
UID:27206-1729348200-1729351800@www.ayclogic.com
SUMMARY:2:30 PM - Unity Game Development - Bill
DESCRIPTION:Your HW:\n\nTry your best to model a car for your runner game\nMake sure to color it like I showed you in class
URL:https://www.ayclogic.com/event/230-pm-unity-game-development-bill-17/
END:VEVENT
BEGIN:VEVENT
DTSTART;TZID=America/Los_Angeles:20241019T153000
DTEND;TZID=America/Los_Angeles:20241019T163000
DTSTAMP:20260425T083447
CREATED:20241019T233511Z
LAST-MODIFIED:20241019T233511Z
UID:27149-1729351800-1729355400@www.ayclogic.com
SUMMARY:3:30 PM - Website Creation - Gamas
DESCRIPTION:Today We Did\n\nWe learned how to create a subdomain wordpress\nWe learned Elementor wordpress plugin\n\nHomework\n\nIf you did not do last week homework please do it.\nIn the main page of your https://dev.<yourdomainname>.com \,\n\nModify the “Your Name” section with your picture and your short description of yourself.\nModify the “Recent Project”\, include 3 thumbnails of your project.\nChange the landing page female picture with your own picture.\n\nOne for desktop\nOne for mobile.
URL:https://www.ayclogic.com/event/330-pm-website-creation-gamas-3/
END:VEVENT
END:VCALENDAR