BEGIN:VCALENDAR
VERSION:2.0
PRODID:-//American Young Coder - ECPv6.10.1.1//NONSGML v1.0//EN
CALSCALE:GREGORIAN
METHOD:PUBLISH
X-WR-CALNAME:American Young Coder
X-ORIGINAL-URL:https://www.ayclogic.com
X-WR-CALDESC:Events for American Young Coder
REFRESH-INTERVAL;VALUE=DURATION:PT1H
X-Robots-Tag:noindex
X-PUBLISHED-TTL:PT1H
BEGIN:VTIMEZONE
TZID:America/Los_Angeles
BEGIN:DAYLIGHT
TZOFFSETFROM:-0800
TZOFFSETTO:-0700
TZNAME:PDT
DTSTART:20240310T100000
END:DAYLIGHT
BEGIN:STANDARD
TZOFFSETFROM:-0700
TZOFFSETTO:-0800
TZNAME:PST
DTSTART:20241103T090000
END:STANDARD
END:VTIMEZONE
BEGIN:VEVENT
DTSTART;TZID=America/Los_Angeles:20241021T160000
DTEND;TZID=America/Los_Angeles:20241021T170000
DTSTAMP:20260425T130158
CREATED:20241022T001217Z
LAST-MODIFIED:20241022T001217Z
UID:27152-1729526400-1729530000@www.ayclogic.com
SUMMARY:4 PM – Python OOP – Darin
DESCRIPTION:Today We:\n\nReviewed the functionality of our class for the School System\, with adding\, listing\, and finding objects.\nStarted the Library System application.\n\nHomework:\n\nIn the same Library System project\, complete the list books\, find book by title\, and find books by id methods. (methods 2-4)\n\nNotes:\nEmail me at ddjapri@ayclogic.com if you have any questions.
URL:https://www.ayclogic.com/event/4-pm-python-oop-darin-11/
CATEGORIES:OOP Python,Python Class
END:VEVENT
BEGIN:VEVENT
DTSTART;TZID=America/Los_Angeles:20241021T180000
DTEND;TZID=America/Los_Angeles:20241021T190000
DTSTAMP:20260425T130158
CREATED:20241022T021000Z
LAST-MODIFIED:20241022T021000Z
UID:27155-1729533600-1729537200@www.ayclogic.com
SUMMARY:6 PM - Minecraft Modding - Gamas
DESCRIPTION:Today We Did\n\nWe introduced Saturn Fireball Axe that can make the enemy floats and burn with fire.\n\nHomework\n\nSimilar to what we did with Saturn Fireball Axe\, make Saturn Sword able to make the enemy float.
URL:https://www.ayclogic.com/event/6-pm-minecraft-modding-gamas-2/
END:VEVENT
BEGIN:VEVENT
DTSTART;TZID=America/Los_Angeles:20241021T190000
DTEND;TZID=America/Los_Angeles:20241021T200000
DTSTAMP:20260425T130158
CREATED:20241022T030554Z
LAST-MODIFIED:20241022T030554Z
UID:27157-1729537200-1729540800@www.ayclogic.com
SUMMARY:7:00 PM – Intro to Python – Sebastian
DESCRIPTION:Today We Did \n\nReviewed the 3 kinds of if statements\nBegan learning about lists\nMonday 7:00PM class code:\nhttps://drive.google.com/drive/folders/1Nm9mpaXjjpK8akSC1v8YpnGMTX-FpTyD?usp=sharing\nAYC Logic’s observed holidays: https://www.ayclogic.com/observed-holidays/\nIn case you need anything\, feel free to email me at sebastian@ayclogic.com\n\nHomework\n\nPlease submit your homework into your Google Drive\nHomework: From this (https://www.ayclogic.com/tell-me-your-age/) exercise\, please attempt #1\n\nDon’t worry about the questions on #2 and #3 which talk about “forever loops”
URL:https://www.ayclogic.com/event/700-pm-intro-to-python-sebastian-2/
CATEGORIES:Python Class,Python Level 1
END:VEVENT
BEGIN:VEVENT
DTSTART;TZID=America/Los_Angeles:20241021T200000
DTEND;TZID=America/Los_Angeles:20241021T210000
DTSTAMP:20260425T130158
CREATED:20241023T083506Z
LAST-MODIFIED:20241023T083506Z
UID:27165-1729540800-1729544400@www.ayclogic.com
SUMMARY:8 PM - Python OOP - Joel
DESCRIPTION:Today we did:\n\nWe continued with the SchoolSystem and added the Staff class\, along with some selections for it.\n\n  \nHomework:\n\nContinue with the SchoolSystem and finish the selections for “List all staffs that are younger than 20”\, as well as “find staff”. For “find staff”\, because both the teachers and staffs are stored in a dictionary\, the methods for finding staffs will be similar to the way we find teachers. For listing the staffs under 20\, it should be similar to just listing staffs\, but you need to check if the staff’s age (being looped) is under 20.
URL:https://www.ayclogic.com/event/8-pm-python-oop-joel/
END:VEVENT
END:VCALENDAR