BEGIN:VCALENDAR
VERSION:2.0
PRODID:-//American Young Coder - ECPv6.10.1.1//NONSGML v1.0//EN
CALSCALE:GREGORIAN
METHOD:PUBLISH
X-WR-CALNAME:American Young Coder
X-ORIGINAL-URL:https://www.ayclogic.com
X-WR-CALDESC:Events for American Young Coder
REFRESH-INTERVAL;VALUE=DURATION:PT1H
X-Robots-Tag:noindex
X-PUBLISHED-TTL:PT1H
BEGIN:VTIMEZONE
TZID:America/Los_Angeles
BEGIN:DAYLIGHT
TZOFFSETFROM:-0800
TZOFFSETTO:-0700
TZNAME:PDT
DTSTART:20240310T100000
END:DAYLIGHT
BEGIN:STANDARD
TZOFFSETFROM:-0700
TZOFFSETTO:-0800
TZNAME:PST
DTSTART:20241103T090000
END:STANDARD
END:VTIMEZONE
BEGIN:VEVENT
DTSTART;TZID=America/Los_Angeles:20241022T180000
DTEND;TZID=America/Los_Angeles:20241022T190000
DTSTAMP:20260425T130245
CREATED:20241023T010522Z
LAST-MODIFIED:20241023T010522Z
UID:27159-1729620000-1729623600@www.ayclogic.com
SUMMARY:6 PM – Intro to Python – Daniel
DESCRIPTION:What We Did\n\nTook quiz 2 in class\n\nHomework\n\nNo homework this week\, we will review quiz next week\nIf you have any questions\, email me at dmeng@ayclogic.com
URL:https://www.ayclogic.com/event/6-pm-intro-to-python-daniel-37/
END:VEVENT
BEGIN:VEVENT
DTSTART;TZID=America/Los_Angeles:20241022T180000
DTEND;TZID=America/Los_Angeles:20241022T190000
DTSTAMP:20260425T130245
CREATED:20241023T031253Z
LAST-MODIFIED:20241023T031253Z
UID:27163-1729620000-1729623600@www.ayclogic.com
SUMMARY:6 PM – Intro To Python – Darin
DESCRIPTION:What We Did Today:\n\nReviewed final project progress\nReviewed how to draw half circles and triangles\nGot started on the GrocerySystem text based progam\n\nHomework:\nFinish up to 50% of progress for your final project with the following guidelines: https://www.ayclogic.com/intro-to-python-final-project-criteria/ \nUpload this file into the google drive when you are finished! \nNotes:\nThe final project is due November 12. \nYou need to make 25% progress IN CODE for your project per week!
URL:https://www.ayclogic.com/event/6-pm-intro-to-python-darin-60/
CATEGORIES:Python Class,Python Level 1
END:VEVENT
BEGIN:VEVENT
DTSTART;TZID=America/Los_Angeles:20241022T190000
DTEND;TZID=America/Los_Angeles:20241022T200000
DTSTAMP:20260425T130245
CREATED:20241023T030547Z
LAST-MODIFIED:20241023T030547Z
UID:27161-1729623600-1729627200@www.ayclogic.com
SUMMARY:7 PM – Python OOP – Darin
DESCRIPTION:What We Did Today:\n\nReviewed how to use dictionaries as we converted the robux_system to use dictionaries.\nIntroduced the concept of object oriented programming! Elaborated on the distinction between classes and objects\, and showed a Human class example.\n\nHomework:\n\nIn a file called Oct22_OOP_hw1.py\, copy pages 158-161\nIn a file called Oct22_OOP_hw2.py\, do page 162 TIY 9-1 and 9-2\n\nSubmit these files to the google drive when you are done! \nNotes:\nYou can contact me at ddjapri@ayclogic if you have any questions!
URL:https://www.ayclogic.com/event/7-pm-python-oop-darin-7/
CATEGORIES:OOP Python,Python Class
END:VEVENT
END:VCALENDAR