BEGIN:VCALENDAR
VERSION:2.0
PRODID:-//American Young Coder - ECPv6.10.1.1//NONSGML v1.0//EN
CALSCALE:GREGORIAN
METHOD:PUBLISH
X-ORIGINAL-URL:https://www.ayclogic.com
X-WR-CALDESC:Events for American Young Coder
REFRESH-INTERVAL;VALUE=DURATION:PT1H
X-Robots-Tag:noindex
X-PUBLISHED-TTL:PT1H
BEGIN:VTIMEZONE
TZID:America/Los_Angeles
BEGIN:DAYLIGHT
TZOFFSETFROM:-0800
TZOFFSETTO:-0700
TZNAME:PDT
DTSTART:20240310T100000
END:DAYLIGHT
BEGIN:STANDARD
TZOFFSETFROM:-0700
TZOFFSETTO:-0800
TZNAME:PST
DTSTART:20241103T090000
END:STANDARD
END:VTIMEZONE
BEGIN:VEVENT
DTSTART;TZID=America/Los_Angeles:20241023T170000
DTEND;TZID=America/Los_Angeles:20241023T180000
DTSTAMP:20260425T160145
CREATED:20241024T022622Z
LAST-MODIFIED:20241024T022631Z
UID:27173-1729702800-1729706400@www.ayclogic.com
SUMMARY:5 PM – Scratch 1 – Abigail
DESCRIPTION:Today We\n\nWe finished working on the Funny Faces project.\nWe went over X and Y coordinates.\n\nHomework\n \n\nFind our the coordinate points for the rectangle & triangle.\nFor the triangle\, the X for point 1\, is 50.\n\nIf you have any questions\, email me at abigail@ayclogic.com
URL:https://www.ayclogic.com/event/5-pm-scratch-1-abigail-8/
CATEGORIES:Scratch Class,Scratch Class Level 1
END:VEVENT
BEGIN:VEVENT
DTSTART;TZID=America/Los_Angeles:20241023T180000
DTEND;TZID=America/Los_Angeles:20241023T190000
DTSTAMP:20260425T160145
CREATED:20241024T235254Z
LAST-MODIFIED:20241025T044725Z
UID:27175-1729706400-1729710000@www.ayclogic.com
SUMMARY:6 PM – Intro to Python – Daniel
DESCRIPTION:What We Did\n\nGave feedback on the project and went over the grocery system program.\n\nHomework\n\nContinue working on the project\, try to get 75% of the project done.\nTurn in a file with the code you have finished so far.\nDon’t forget to add the words for your image\, using functions.\nJulien Feedback\n\nCreate more functions\, such as for the house\, create a draw_house function\nDon’t forget to add more objects\, like the balloons\, clouds\, birds\, or people\, and use functions to create them.\n\n\nJason Feedback\n\nCreate a circle function\, since the sun and the cloud function are both circles. For the cloud function\, you can create 3 overlapping circles to create a cloud to reuse it.\nInstead of make_sand and make_ocean\, create a rectangle function like what we did in class\, and then you can make the little sand on top of it\, or even make waves. Continue adding more objects.\n\n\nEvan Feedback\n\nYour plane_body and ground function are both rectangles\, instead just make a rectangle function that we made in class.\nDon’t forget to add more objects\, use functions to create them\, such as for the clouds\, birds\, sun\, and parts of the plane.\n\n\nFinal project is due 11/06\nIf you have any questions\, email me at dmeng@ayclogic.com
URL:https://www.ayclogic.com/event/6-pm-intro-to-python-daniel-38/
END:VEVENT
BEGIN:VEVENT
DTSTART;TZID=America/Los_Angeles:20241023T190000
DTEND;TZID=America/Los_Angeles:20241023T200000
DTSTAMP:20260425T160145
CREATED:20241024T021645Z
LAST-MODIFIED:20241031T005254Z
UID:27170-1729710000-1729713600@www.ayclogic.com
SUMMARY:6 PM – Intro To Java – Darin
DESCRIPTION:Today We Did:\n\nReviewed how to use the random module as well as reviewed homework.\nFully implemented the mini text based adventure game as well as the magic8ball program.\n\nHomework:\n\nCreate a file Oct23_Magic8Balll_V2.java\n\nRecreate the same Magic8Ball program you had but with a list holding all of the answers this time!
URL:https://www.ayclogic.com/event/6-pm-intro-to-java-gamas-8/
CATEGORIES:Introduction To Java,Java
END:VEVENT
END:VCALENDAR