BEGIN:VCALENDAR
VERSION:2.0
PRODID:-//American Young Coder - ECPv6.10.1.1//NONSGML v1.0//EN
CALSCALE:GREGORIAN
METHOD:PUBLISH
X-WR-CALNAME:American Young Coder
X-ORIGINAL-URL:https://www.ayclogic.com
X-WR-CALDESC:Events for American Young Coder
REFRESH-INTERVAL;VALUE=DURATION:PT1H
X-Robots-Tag:noindex
X-PUBLISHED-TTL:PT1H
BEGIN:VTIMEZONE
TZID:America/Los_Angeles
BEGIN:DAYLIGHT
TZOFFSETFROM:-0800
TZOFFSETTO:-0700
TZNAME:PDT
DTSTART:20260308T100000
END:DAYLIGHT
BEGIN:STANDARD
TZOFFSETFROM:-0700
TZOFFSETTO:-0800
TZNAME:PST
DTSTART:20261101T090000
END:STANDARD
END:VTIMEZONE
BEGIN:VEVENT
DTSTART;TZID=America/Los_Angeles:20260417T170000
DTEND;TZID=America/Los_Angeles:20260417T180000
DTSTAMP:20260424T071833
CREATED:20260418T010548Z
LAST-MODIFIED:20260418T010548Z
UID:33206-1776445200-1776448800@www.ayclogic.com
SUMMARY:5 PM - Unity Game Development - Bill
DESCRIPTION:Your HW:\n\nFinish 3d modeling your car (doesn’t need to have too many details)\nMake sure to save (control + s) the blend file so you can come back to it later\nBegin writing your project proposal\n\nUse your pygame project proposal as an example\n\nCome up with the controls\, how to win\, how to lose\, etc.\n\n\nMust be 2D\nCan be slightly more complicated than pygame project\nCome up with a 9 week plan
URL:https://www.ayclogic.com/event/5-pm-unity-game-development-bill-4/
END:VEVENT
BEGIN:VEVENT
DTSTART;TZID=America/Los_Angeles:20260417T180000
DTEND;TZID=America/Los_Angeles:20260417T190000
DTSTAMP:20260424T071833
CREATED:20260420T124924Z
LAST-MODIFIED:20260420T124924Z
UID:33225-1776448800-1776452400@www.ayclogic.com
SUMMARY:6 PM - Python Game Development - Joel
DESCRIPTION:Today we did:\n\nWe continued with ShootBalloon.\n\nHomework:\n\nFor your personal project:\n\nMake the countdown (look at FlappyBird or ShootBalloon for this)\nMake the handle play and credit buttons function\, and make the play button work so that you can transition from the game landing page to the game in session page.\nIf you have still have time\, you can make the other pages like game win\, game over\, and credits.\nRemember to not just copy and paste template code from previous projects in bulk\, take it one step at a time and understand what the code does to minimize chances of unknown errors.
URL:https://www.ayclogic.com/event/6-pm-python-game-development-joel-27/
END:VEVENT
BEGIN:VEVENT
DTSTART;TZID=America/Los_Angeles:20260417T200000
DTEND;TZID=America/Los_Angeles:20260417T210000
DTSTAMP:20260424T071833
CREATED:20260420T124419Z
LAST-MODIFIED:20260420T124419Z
UID:33221-1776456000-1776459600@www.ayclogic.com
SUMMARY:8 PM - Advanced AI/ML - Joel
DESCRIPTION:Today we did:\n\nWe finished the YOLO glasses detection project and started working on the YOLO combined detection.\n\nHomework:\n\nSearch for a dataset on Kaggle that you want to use for your personal project. Remember to include YOLO in the search keywords for your dataset.\nMake sure to make a Google document filled with your task (what the theme of your project is) and the dataset link.\nSend the link of the Google docs in an email to joel@ayclogic.com. Remember to make sure I can access it.
URL:https://www.ayclogic.com/event/8-pm-advanced-ai-ml-joel-6/
END:VEVENT
END:VCALENDAR