BEGIN:VCALENDAR
VERSION:2.0
PRODID:-//American Young Coder - ECPv6.10.1.1//NONSGML v1.0//EN
CALSCALE:GREGORIAN
METHOD:PUBLISH
X-WR-CALNAME:American Young Coder
X-ORIGINAL-URL:https://www.ayclogic.com
X-WR-CALDESC:Events for American Young Coder
REFRESH-INTERVAL;VALUE=DURATION:PT1H
X-Robots-Tag:noindex
X-PUBLISHED-TTL:PT1H
BEGIN:VTIMEZONE
TZID:America/Los_Angeles
BEGIN:DAYLIGHT
TZOFFSETFROM:-0800
TZOFFSETTO:-0700
TZNAME:PDT
DTSTART:20260308T100000
END:DAYLIGHT
BEGIN:STANDARD
TZOFFSETFROM:-0700
TZOFFSETTO:-0800
TZNAME:PST
DTSTART:20261101T090000
END:STANDARD
END:VTIMEZONE
BEGIN:VEVENT
DTSTART;TZID=America/Los_Angeles:20260420T190000
DTEND;TZID=America/Los_Angeles:20260420T200000
DTSTAMP:20260424T023247
CREATED:20260420T231312Z
LAST-MODIFIED:20260420T231312Z
UID:33229-1776711600-1776715200@www.ayclogic.com
SUMMARY:7 PM – AI/ML – Darin
DESCRIPTION:Today’s Activities:\n\nFinalized finals projects\, debugged streamlit and dataset related issues.\nContinued the Boston Housing Price Prediction!\n\nHomework:\nNOTE: please click on save version for your respective final projects on the kaggle page. \nNOTE 2: Use these versions across your kaggle and your pycharm: \n!pip install --force-reinstall --no-cache-dir numpy==1.26.4 scipy==1.15.3 matplotlib==3.7.2 fastai==2.7.19 torch==2.6.0 pillow==10.4.0\nPart 1:\n\nContinue working on your final project.Your goal this week is to train multiple models and deploy them all with the option to choose between different models on streamlit. Upload your latest progress as an ipynb to the google drive.\n\nFor those with issues on training the models\, do this fix: \n!pip install -U "fastprogress==1.0.3"\nimport fastprogress\nprint("fastprogress:"\, fastprogress.__version__)\nThen ensure it is 1.0.3\, if it isn’t restart the notebook (theres a restart and clear cell output button on the top right of the notebook page). \nNotes:\nYou can reach me at ddjapri@ayclogic.com. \nAll class notes can be found here.
URL:https://www.ayclogic.com/event/7-pm-ai-ml-darin-22/
CATEGORIES:AI/ML,Python Class
END:VEVENT
BEGIN:VEVENT
DTSTART;TZID=America/Los_Angeles:20260420T190000
DTEND;TZID=America/Los_Angeles:20260420T200000
DTSTAMP:20260424T023247
CREATED:20260421T025927Z
LAST-MODIFIED:20260421T025927Z
UID:33231-1776711600-1776715200@www.ayclogic.com
SUMMARY:7 PM - AI Agent - Gamas
DESCRIPTION:Today We Did\n\nWe finished going over last week homework.\nWe started spaceship-survival-ai project.\n\nHomework\n\nImplement ai_survive_or_not(user_solution) function by sending user_solution to AI agent and ask it to decide whether or not the user survive?
URL:https://www.ayclogic.com/event/7-pm-ai-agent-gamas-2/
END:VEVENT
END:VCALENDAR