BEGIN:VCALENDAR
VERSION:2.0
PRODID:-//American Young Coder - ECPv6.10.1.1//NONSGML v1.0//EN
CALSCALE:GREGORIAN
METHOD:PUBLISH
X-ORIGINAL-URL:https://www.ayclogic.com
X-WR-CALDESC:Events for American Young Coder
REFRESH-INTERVAL;VALUE=DURATION:PT1H
X-Robots-Tag:noindex
X-PUBLISHED-TTL:PT1H
BEGIN:VTIMEZONE
TZID:America/Los_Angeles
BEGIN:DAYLIGHT
TZOFFSETFROM:-0800
TZOFFSETTO:-0700
TZNAME:PDT
DTSTART:20260308T100000
END:DAYLIGHT
BEGIN:STANDARD
TZOFFSETFROM:-0700
TZOFFSETTO:-0800
TZNAME:PST
DTSTART:20261101T090000
END:STANDARD
END:VTIMEZONE
BEGIN:VEVENT
DTSTART;TZID=America/Los_Angeles:20260421T170000
DTEND;TZID=America/Los_Angeles:20260421T180000
DTSTAMP:20260424T023340
CREATED:20260424T001121Z
LAST-MODIFIED:20260424T001121Z
UID:33255-1776790800-1776794400@www.ayclogic.com
SUMMARY:5 PM - Intro to Python - Brandon
DESCRIPTION:What we learned today:\n\nPractice for the 2nd quiz
URL:https://www.ayclogic.com/event/5-pm-intro-to-python-brandon-18/
END:VEVENT
BEGIN:VEVENT
DTSTART;TZID=America/Los_Angeles:20260421T180000
DTEND;TZID=America/Los_Angeles:20260421T190000
DTSTAMP:20260424T023340
CREATED:20260422T020753Z
LAST-MODIFIED:20260422T020809Z
UID:33233-1776794400-1776798000@www.ayclogic.com
SUMMARY:Scratch 1 - Tue 6:00 PM - Julian
DESCRIPTION:What We Did:\n\nContinued work on our Animal Race project.\n\nHomework:\n\nFinish painting your finish line.\nCode the dog so that when he touches the finish line he says “I finished!”\nYou can do this via:\n\nSetting up an if statement that checks for if the dog is touching the finish line\nAfterwards have the dog say “I finished!” for 2 seconds
URL:https://www.ayclogic.com/event/scratch-1-tue-600-pm-julian-9/
END:VEVENT
END:VCALENDAR