BEGIN:VCALENDAR
VERSION:2.0
PRODID:-//American Young Coder - ECPv6.10.1.1//NONSGML v1.0//EN
CALSCALE:GREGORIAN
METHOD:PUBLISH
X-WR-CALNAME:American Young Coder
X-ORIGINAL-URL:https://www.ayclogic.com
X-WR-CALDESC:Events for American Young Coder
REFRESH-INTERVAL;VALUE=DURATION:PT1H
X-Robots-Tag:noindex
X-PUBLISHED-TTL:PT1H
BEGIN:VTIMEZONE
TZID:America/Los_Angeles
BEGIN:DAYLIGHT
TZOFFSETFROM:-0800
TZOFFSETTO:-0700
TZNAME:PDT
DTSTART:20250309T100000
END:DAYLIGHT
BEGIN:STANDARD
TZOFFSETFROM:-0700
TZOFFSETTO:-0800
TZNAME:PST
DTSTART:20251102T090000
END:STANDARD
END:VTIMEZONE
BEGIN:VEVENT
DTSTART;TZID=America/Los_Angeles:20250201T170000
DTEND;TZID=America/Los_Angeles:20250201T180000
DTSTAMP:20260424T193336
CREATED:20250202T021418Z
LAST-MODIFIED:20250202T021418Z
UID:28053-1738429200-1738432800@www.ayclogic.com
SUMMARY:5 PM – Digital Illustration 1 – Abigail
DESCRIPTION:Today We\n\nWe continued working on the Snowman drawing.\n\nHomework\n\nFinish drawing in the 3 hills.\nDraw a moon.\nMake sure you are on the correct layer!\n\n  \nIf you have any questions\, email me at abigail@ayclogic.com
URL:https://www.ayclogic.com/event/5-pm-digital-illustration-1-abigail-3/
CATEGORIES:Beginner Digital Illustration,Digital Illustration
END:VEVENT
BEGIN:VEVENT
DTSTART;TZID=America/Los_Angeles:20250208T170000
DTEND;TZID=America/Los_Angeles:20250208T180000
DTSTAMP:20260424T193336
CREATED:20250209T020534Z
LAST-MODIFIED:20250209T020547Z
UID:28098-1739034000-1739037600@www.ayclogic.com
SUMMARY:5 PM – Digital Illustration 1 – Abigail
DESCRIPTION:Today We\n\nWe finished working on the Snowman drawing.\nWe started working on the Simba drawing.\n\nHomework\n\nDraw in the eyes\, nose\, and mouth of Simba.\nUse the Simba reference window to help yourself out.\nMake sure you are on the correct layer!\n\nIf you have any questions\, email me at abigail@ayclogic.com
URL:https://www.ayclogic.com/event/5-pm-digital-illustration-1-abigail-4/
CATEGORIES:Beginner Digital Illustration,Digital Illustration
END:VEVENT
BEGIN:VEVENT
DTSTART;TZID=America/Los_Angeles:20250222T170000
DTEND;TZID=America/Los_Angeles:20250222T180000
DTSTAMP:20260424T193336
CREATED:20250223T020230Z
LAST-MODIFIED:20250223T020230Z
UID:28229-1740243600-1740247200@www.ayclogic.com
SUMMARY:5 PM – Digital Illustration 1 – Abigail
DESCRIPTION:Today We\n\nWe continued working on the Simba drawing.\n\nHomework\n\nDraw the lineart of your Simba drawing.\nMake sure to be neat and clean with your lineart.\nMake sure you are on the correct layer!\n\nIf you have any questions\, email me at abigail@ayclogic.com
URL:https://www.ayclogic.com/event/5-pm-digital-illustration-1-abigail-5/
CATEGORIES:Beginner Digital Illustration,Digital Illustration
END:VEVENT
END:VCALENDAR