BEGIN:VCALENDAR
VERSION:2.0
PRODID:-//American Young Coder - ECPv6.10.1.1//NONSGML v1.0//EN
CALSCALE:GREGORIAN
METHOD:PUBLISH
X-WR-CALNAME:American Young Coder
X-ORIGINAL-URL:https://www.ayclogic.com
X-WR-CALDESC:Events for American Young Coder
REFRESH-INTERVAL;VALUE=DURATION:PT1H
X-Robots-Tag:noindex
X-PUBLISHED-TTL:PT1H
BEGIN:VTIMEZONE
TZID:America/Los_Angeles
BEGIN:DAYLIGHT
TZOFFSETFROM:-0800
TZOFFSETTO:-0700
TZNAME:PDT
DTSTART:20250309T100000
END:DAYLIGHT
BEGIN:STANDARD
TZOFFSETFROM:-0700
TZOFFSETTO:-0800
TZNAME:PST
DTSTART:20251102T090000
END:STANDARD
END:VTIMEZONE
BEGIN:VEVENT
DTSTART;TZID=America/Los_Angeles:20250906T170000
DTEND;TZID=America/Los_Angeles:20250906T180000
DTSTAMP:20260424T085853
CREATED:20250913T221846Z
LAST-MODIFIED:20250913T221926Z
UID:30890-1757178000-1757181600@www.ayclogic.com
SUMMARY:5 PM – Digital Illustration 1 – Abigail
DESCRIPTION:Today We\n\n\n\n\nWe continued working on the Labubu drawing.\n\nHomework\n\nDraw the background of the Labubu on a new layer.\nMake sure the color of the background is similar to the color of your Labubu.\n\n\nIf you have any questions\, email me at abigail@ayclogic.com
URL:https://www.ayclogic.com/event/5-pm-digital-illustration-1-abigail-10/
CATEGORIES:Beginner Digital Illustration,Digital Illustration
END:VEVENT
END:VCALENDAR