BEGIN:VCALENDAR
VERSION:2.0
PRODID:-//American Young Coder - ECPv6.10.1.1//NONSGML v1.0//EN
CALSCALE:GREGORIAN
METHOD:PUBLISH
X-ORIGINAL-URL:https://www.ayclogic.com
X-WR-CALDESC:Events for American Young Coder
REFRESH-INTERVAL;VALUE=DURATION:PT1H
X-Robots-Tag:noindex
X-PUBLISHED-TTL:PT1H
BEGIN:VTIMEZONE
TZID:America/Los_Angeles
BEGIN:DAYLIGHT
TZOFFSETFROM:-0800
TZOFFSETTO:-0700
TZNAME:PDT
DTSTART:20220313T100000
END:DAYLIGHT
BEGIN:STANDARD
TZOFFSETFROM:-0700
TZOFFSETTO:-0800
TZNAME:PST
DTSTART:20221106T090000
END:STANDARD
END:VTIMEZONE
BEGIN:VEVENT
DTSTART;TZID=America/Los_Angeles:20221011T180000
DTEND;TZID=America/Los_Angeles:20221011T190000
DTSTAMP:20260420T063055
CREATED:20221017T062014Z
LAST-MODIFIED:20221017T062014Z
UID:15829-1665511200-1665514800@www.ayclogic.com
SUMMARY:6PM - Digital Illustration 1
DESCRIPTION:TUESDAY \nToday we finished the Lighthouse Project. \n\nWe added the lights in three separate layers\, before we merged them together. 1) Round airbrush light 2) Wider light beam\, and 3) thinner light beam\nWe added the birds and also the stairs on the rocks\n\n \nToday we also started the Galaxy Forest project. \n\nFirst we added the brushes we need to our custom brushes list\nThen we started the project sky by using the airbrush and watercolor brushes and painting colors black to white with shades of blue in between.\n\n \n \nHOMEWORK \nCatch up with the projects from class\, no other homework.
URL:https://www.ayclogic.com/event/6pm-digital-illustration-1-18/
CATEGORIES:Beginner Digital Illustration,Digital Illustration
END:VEVENT
BEGIN:VEVENT
DTSTART;TZID=America/Los_Angeles:20221008T190000
DTEND;TZID=America/Los_Angeles:20221008T200000
DTSTAMP:20260420T063055
CREATED:20221009T030543Z
LAST-MODIFIED:20221009T030543Z
UID:15625-1665255600-1665259200@www.ayclogic.com
SUMMARY:7 PM - Digital Illustration - Abigail
DESCRIPTION:What we did today\n\nWe finish working on the Lighthouse drawing\nWe started working on the Captain America shield + Thor’s Hammer drawing.\n\nHomework\n\nFinish doing the “messy sketching” on the whole shield.
URL:https://www.ayclogic.com/event/7-pm-digital-illustration-abigail-11/
CATEGORIES:Beginner Digital Illustration,Digital Illustration
END:VEVENT
BEGIN:VEVENT
DTSTART;TZID=America/Los_Angeles:20221004T180000
DTEND;TZID=America/Los_Angeles:20221004T190000
DTSTAMP:20260420T063055
CREATED:20221005T205744Z
LAST-MODIFIED:20221005T205744Z
UID:15483-1664906400-1664910000@www.ayclogic.com
SUMMARY:6PM - Digital Illustration 1
DESCRIPTION:TUESDAY \nToday we continued the Lighthouse project. \nWe did: \n\nAdded the lighthouse on a new layer. STEPS: 1st layer) Light gray lighthouse shape. 2nd layer) Brick details and shading. 3rd layer) Gate details. And then merge all lighthouse layers into one.\n\nHOMEWORK \nMake sure your project is up to date\, and all the layers are correct.
URL:https://www.ayclogic.com/event/6pm-digital-illustration-1-17/
CATEGORIES:Beginner Digital Illustration,Digital Illustration
END:VEVENT
BEGIN:VEVENT
DTSTART;TZID=America/Los_Angeles:20221001T190000
DTEND;TZID=America/Los_Angeles:20221001T200000
DTSTAMP:20260420T063055
CREATED:20221002T031611Z
LAST-MODIFIED:20221002T031611Z
UID:15400-1664650800-1664654400@www.ayclogic.com
SUMMARY:7 PM - Digital Illustration - Abigail
DESCRIPTION:What we did today\n\nWe continued working on the lighthouse drawing.\nWe drew the lighthouse and its details.\n\nHomework\n\nFinish drawing the rest of the lighthouse.\nDraw the cross-hatching railing\, windows\, and white railings.
URL:https://www.ayclogic.com/event/7-pm-digital-illustration-abigail-10/
CATEGORIES:Beginner Digital Illustration,Digital Illustration
END:VEVENT
BEGIN:VEVENT
DTSTART;TZID=America/Los_Angeles:20220927T180000
DTEND;TZID=America/Los_Angeles:20220927T190000
DTSTAMP:20260420T063055
CREATED:20221002T212641Z
LAST-MODIFIED:20221002T212641Z
UID:15428-1664301600-1664305200@www.ayclogic.com
SUMMARY:6PM - Digital Illustration 1
DESCRIPTION:TUESDAY \nToday we started on a new project: the Lighthouse landscape project \nToday we did: \n\nLayer 1: the sky layer. Light blue\, softly changing to white\, softly changing to yellow.\nLayer 2: the ocean layer. Starting with a medium-light teal color\, and slowly getting darker with each layer going down.\nLayer 4: the rock layer. A gray bumpy rock in the middle of the ocean\nLayer 3: the rock reflection layer. A copy of the rock layer\, reflected upside down with the transform tool\, and a change in transparency and blending mode.\n\nHOMEWORK \nCheck to make sure all your layers are correct to the below picture.
URL:https://www.ayclogic.com/event/6pm-digital-illustration-1-16/
CATEGORIES:Beginner Digital Illustration,Digital Illustration
END:VEVENT
BEGIN:VEVENT
DTSTART;TZID=America/Los_Angeles:20220924T190000
DTEND;TZID=America/Los_Angeles:20220924T200000
DTSTAMP:20260420T063055
CREATED:20220925T031611Z
LAST-MODIFIED:20220925T031611Z
UID:15174-1664046000-1664049600@www.ayclogic.com
SUMMARY:7 PM - Digital Illustration - Abigail
DESCRIPTION:What we did today\n\nWe finished working on the Unicorn drawing.\nWe started working on the Light house drawing.\n\nHomework\n\nShade the rock (remember to shade the reflection too!)\nYou can shade the rock on the same layer. OR make a new layer\, clip it on the rock\, and then later merge the layers.\nUse the eyedropper tool to pick out darker and lighter grays to shade the rock.
URL:https://www.ayclogic.com/event/7-pm-digital-illustration-abigail-9/
CATEGORIES:Beginner Digital Illustration,Digital Illustration
END:VEVENT
BEGIN:VEVENT
DTSTART;TZID=America/Los_Angeles:20220920T180000
DTEND;TZID=America/Los_Angeles:20220920T190000
DTSTAMP:20260420T063055
CREATED:20220921T043830Z
LAST-MODIFIED:20220921T043830Z
UID:15081-1663696800-1663700400@www.ayclogic.com
SUMMARY:6PM - Digital Illustration 1
DESCRIPTION:TUESDAY \nToday we started the Landscape series of projects. \nToday we did mountain forest sunrise. \n \nNo homework.
URL:https://www.ayclogic.com/event/6pm-digital-illustration-1-15/
CATEGORIES:Beginner Digital Illustration,Digital Illustration
END:VEVENT
BEGIN:VEVENT
DTSTART;TZID=America/Los_Angeles:20220917T190000
DTEND;TZID=America/Los_Angeles:20220917T200000
DTSTAMP:20260420T063055
CREATED:20220918T031038Z
LAST-MODIFIED:20220918T031038Z
UID:15028-1663441200-1663444800@www.ayclogic.com
SUMMARY:7 PM - Digital Illustration - Abigail
DESCRIPTION:What we did today\n\nWe continued working on the Unicorn/Alicorn drawing.\nWe finished drawing the eye details.\nWe added the “cutie mark”.\nWe started working on the background.\n\nHomework\n\nWork on adding details to the tree leaves.\nUse a minimum of 3 colors.\nChange the brush size of needed.\nAdd texture and be random with your detail placement.
URL:https://www.ayclogic.com/event/7-pm-digital-illustration-abigail-8/
CATEGORIES:Beginner Digital Illustration,Digital Illustration
END:VEVENT
BEGIN:VEVENT
DTSTART;TZID=America/Los_Angeles:20220913T180000
DTEND;TZID=America/Los_Angeles:20220913T190000
DTSTAMP:20260420T063055
CREATED:20220920T211932Z
LAST-MODIFIED:20220920T211932Z
UID:15065-1663092000-1663095600@www.ayclogic.com
SUMMARY:6PM - Digital Illustration 1
DESCRIPTION:TUESDAY \nToday we finished the Corgi Puppy project. \n\nFinished adding shading and details to the fur\nAdded a color shadow and background decorations\n\n \nNo homework
URL:https://www.ayclogic.com/event/6pm-digital-illustration-1-14/
CATEGORIES:Beginner Digital Illustration,Digital Illustration
END:VEVENT
BEGIN:VEVENT
DTSTART;TZID=America/Los_Angeles:20220910T190000
DTEND;TZID=America/Los_Angeles:20220910T200000
DTSTAMP:20260420T063055
CREATED:20220911T031941Z
LAST-MODIFIED:20220911T031941Z
UID:14886-1662836400-1662840000@www.ayclogic.com
SUMMARY:7 PM - Digital Illustration - Abigail
DESCRIPTION:What we did today\n\nWe continued to work on the Unicorn/Alicorn drawing.\nWe added the base colors.\nWe colored in details for the mane.\nWe darkened the hooves\, wings\, and ears\, with an airbrush.\n\nHomework\n\nMake a new layer and clip it on the base color layer.\nChange the blending mode to “add”.\nAdd little sparkles\, hearts\, stars\, etc. onto the darkened areas. Use “Dip Pen (Soft)”.
URL:https://www.ayclogic.com/event/7-pm-digital-illustration-abigail-7/
CATEGORIES:Beginner Digital Illustration,Digital Illustration
END:VEVENT
BEGIN:VEVENT
DTSTART;TZID=America/Los_Angeles:20220827T190000
DTEND;TZID=America/Los_Angeles:20220827T200000
DTSTAMP:20260420T063055
CREATED:20220828T031403Z
LAST-MODIFIED:20220828T031403Z
UID:14606-1661626800-1661630400@www.ayclogic.com
SUMMARY:7 PM - Digital Illustration - Abigail
DESCRIPTION:What we did today\n\nWe started working on the Unicorn drawing.\nWe finished the sketch.\nWe started working on the lineart.\n\nHomework\n\nFinish drawing the lineart.\nAdd the eyes\, nose\, and tail. (Wings are optional!)
URL:https://www.ayclogic.com/event/7-pm-digital-illustration-abigail-6/
CATEGORIES:Beginner Digital Illustration,Digital Illustration
END:VEVENT
BEGIN:VEVENT
DTSTART;TZID=America/Los_Angeles:20220820T190000
DTEND;TZID=America/Los_Angeles:20220820T200000
DTSTAMP:20260420T063055
CREATED:20220821T032348Z
LAST-MODIFIED:20220821T032348Z
UID:14486-1661022000-1661025600@www.ayclogic.com
SUMMARY:7 PM - Digital Illustration - Abigail
DESCRIPTION:What we did today\n\nWe finished drawing the Starry Night.\nWe adjusted the length of the tree branches.\nWe added the stars.\n\nHomework\n\nAdd a minimum of 1 animal on the bottom of the drawing.\nMAKE A NEW LAYER and draw a silhouette in white.
URL:https://www.ayclogic.com/event/7-pm-digital-illustration-abigail-5/
CATEGORIES:Beginner Digital Illustration,Digital Illustration
END:VEVENT
BEGIN:VEVENT
DTSTART;TZID=America/Los_Angeles:20220813T190000
DTEND;TZID=America/Los_Angeles:20220813T200000
DTSTAMP:20260420T063055
CREATED:20220814T032054Z
LAST-MODIFIED:20220814T032054Z
UID:14364-1660417200-1660420800@www.ayclogic.com
SUMMARY:7 PM - Digital Illustration - Abigail
DESCRIPTION:What we did today\n\nWe started working on the starry night drawing.\nWe colored and drew the sky using the airbrush tool.\n\nHomework\n\nLay out where you want the trees to be on your drawing. (don’t draw the leaves\, just draw the stem)
URL:https://www.ayclogic.com/event/7-pm-digital-illustration-abigail-4/
CATEGORIES:Beginner Digital Illustration,Digital Illustration
END:VEVENT
BEGIN:VEVENT
DTSTART;TZID=America/Los_Angeles:20220806T070000
DTEND;TZID=America/Los_Angeles:20220806T200000
DTSTAMP:20260420T063055
CREATED:20220807T032320Z
LAST-MODIFIED:20220807T032320Z
UID:14255-1659769200-1659816000@www.ayclogic.com
SUMMARY:7 PM - Digital Illustration - Abigail
DESCRIPTION:What we did today\n\n We colored Aang.\nWe shaded and put lighting on Aang.\nWe started working on the background.\n\nHomework\n\n Finish drawing the background. (The blob on the ground is a shadow.)
URL:https://www.ayclogic.com/event/7-pm-digital-illustration-abigail-3/
CATEGORIES:Beginner Digital Illustration,Digital Illustration
END:VEVENT
BEGIN:VEVENT
DTSTART;TZID=America/Los_Angeles:20220802T180000
DTEND;TZID=America/Los_Angeles:20220802T190000
DTSTAMP:20260420T063055
CREATED:20220815T080339Z
LAST-MODIFIED:20220815T080339Z
UID:14369-1659463200-1659466800@www.ayclogic.com
SUMMARY:6PM - Digital Illustration 1
DESCRIPTION:TUESDAY \nToday we started a new project: Corgi Puppy. \nThis is a different style than what we have been drawing so far\, so I hope you can all learn a lot. So far\, we have done the lines\, and started a little bit on the coloring of the face. \n>REFERENCE PHOTO< \n \nHOMEWORK \nCatch up to where we are in class (if applicable)\, otherwise no extra homework. \nAlso no more class until August 23.
URL:https://www.ayclogic.com/event/6pm-digital-illustration-1-12/
CATEGORIES:Beginner Digital Illustration,Digital Illustration
END:VEVENT
BEGIN:VEVENT
DTSTART;TZID=America/Los_Angeles:20220730T190000
DTEND;TZID=America/Los_Angeles:20220730T200000
DTSTAMP:20260420T063055
CREATED:20220731T032057Z
LAST-MODIFIED:20220731T032057Z
UID:14159-1659207600-1659211200@www.ayclogic.com
SUMMARY:7 PM - Digital Illustration - Abigail
DESCRIPTION:What we did today\n\nWe added clothing and a face to Aang’s body.\n\nHomework\n\nErase overlapping details that cover the clothes.\nAfter erasing\, merge the details layer & body layer together. (Basically combine the two layer together into one layer by pressing the merge button.)\n\n \n 
URL:https://www.ayclogic.com/event/7-pm-digital-illustration-abigail-2/
CATEGORIES:Beginner Digital Illustration,Digital Illustration
END:VEVENT
BEGIN:VEVENT
DTSTART;TZID=America/Los_Angeles:20220726T180000
DTEND;TZID=America/Los_Angeles:20220726T190000
DTSTAMP:20260420T063055
CREATED:20220727T034723Z
LAST-MODIFIED:20220727T034723Z
UID:14094-1658858400-1658862000@www.ayclogic.com
SUMMARY:6PM - Digital Illustration 1
DESCRIPTION:TUESDAY \nToday we started a new project to draw some simple and cute kittens. \n  \nHOMEWORK \n\nColor in the third kitten on a separate layer\, and then merge it together with the lines\nDraw one more kitten in a different pose\, and also color it.
URL:https://www.ayclogic.com/event/6pm-digital-illustration-1-11/
CATEGORIES:Beginner Digital Illustration,Digital Illustration
END:VEVENT
BEGIN:VEVENT
DTSTART;TZID=America/Los_Angeles:20220723T190000
DTEND;TZID=America/Los_Angeles:20220723T200000
DTSTAMP:20260420T063055
CREATED:20220724T034504Z
LAST-MODIFIED:20220724T034504Z
UID:14065-1658602800-1658606400@www.ayclogic.com
SUMMARY:7 PM - Digital Illustration - Abigail
DESCRIPTION:What we did today\n\nWe finished working on the Snowman drawing.\nWe added snow to the hills\, trees\, and the sky. And added finishing touches.\nWe started working on the Aang drawing.\nWe finished a sketch of Aang.\n\nHomework\n\nMake a new layer and draw the lineart of Aang.\n(We’re going to make the lineart of the clothes and face next week\, you’re drawing the base body for homework.)\nRemember to lower the opacity of the sketch layer\, and DON’T draw your lineart on the wrong layer!\n\n \n  \n 
URL:https://www.ayclogic.com/event/7-pm-digital-illustration-abigail/
CATEGORIES:Beginner Digital Illustration,Digital Illustration
END:VEVENT
BEGIN:VEVENT
DTSTART;TZID=America/Los_Angeles:20220719T180000
DTEND;TZID=America/Los_Angeles:20220719T190000
DTSTAMP:20260420T063055
CREATED:20220726T070428Z
LAST-MODIFIED:20220726T070428Z
UID:14078-1658253600-1658257200@www.ayclogic.com
SUMMARY:6PM - Digital Illustration 1
DESCRIPTION:TUESDAY \nToday we finished Simba. And also added the background. \nIf you want to add anything to the background you can\, but no other homework
URL:https://www.ayclogic.com/event/6pm-digital-illustration-1-10/
CATEGORIES:Beginner Digital Illustration,Digital Illustration
END:VEVENT
BEGIN:VEVENT
DTSTART;TZID=America/Los_Angeles:20220714T200000
DTEND;TZID=America/Los_Angeles:20220714T210000
DTSTAMP:20260420T063055
CREATED:20220715T041232Z
LAST-MODIFIED:20220715T041232Z
UID:13932-1657828800-1657832400@www.ayclogic.com
SUMMARY:8 PM - Digital Illustration - Abigail
DESCRIPTION:What we did today\n\nWe started working on the Snowman drawing.\nWe sketched out the snowman.\nWe outlined the snowman to make our line art.\nWe colored the snowman using base colors.\n\nHomework\n\nChoose 2 colors (one lighter and one darker) to color the hat and the scarf.\nExample in light pink & dark pink.
URL:https://www.ayclogic.com/event/8-pm-digital-illustration-abigail-2/
CATEGORIES:Beginner Digital Illustration,Digital Illustration
END:VEVENT
BEGIN:VEVENT
DTSTART;TZID=America/Los_Angeles:20220712T180000
DTEND;TZID=America/Los_Angeles:20220712T190000
DTSTAMP:20260420T063055
CREATED:20220718T064810Z
LAST-MODIFIED:20220718T064810Z
UID:13984-1657648800-1657652400@www.ayclogic.com
SUMMARY:6PM - Digital Illustration 1
DESCRIPTION:TUESDAY \n \nToday we continued the Simba project and added all the shading on his body. \nLayers so far: \n\nLayer 4 – Lines\nLayer 3 – Shading colors (clipped down)\nLayer 2 – Flat Color\nLayer 1 – Sketch (turned off)\n\n  \nHOMEWORK \nmake sure your layers are correct and that all the shading and coloring is caught up to the example in the image above.
URL:https://www.ayclogic.com/event/6pm-digital-illustration-1-9/
CATEGORIES:Beginner Digital Illustration,Digital Illustration
END:VEVENT
BEGIN:VEVENT
DTSTART;TZID=America/Los_Angeles:20220707T083000
DTEND;TZID=America/Los_Angeles:20220707T213000
DTSTAMP:20260420T063055
CREATED:20220713T062532Z
LAST-MODIFIED:20220713T062532Z
UID:13919-1657182600-1657229400@www.ayclogic.com
SUMMARY:8 PM - Digital Illustration - Abigail
DESCRIPTION:What we did today\n\nWe finished coloring the Cat drawing.\n\nHomework\n\nColor the second cat using the techniques we learned in class.\nRemember to make a new layer for the coloring!\n(optional) draw a background for your cat\, you can draw any background you want.
URL:https://www.ayclogic.com/event/8-pm-digital-illustration-abigail/
CATEGORIES:Beginner Digital Illustration,Digital Illustration
END:VEVENT
BEGIN:VEVENT
DTSTART;TZID=America/Los_Angeles:20220624T100000
DTEND;TZID=America/Los_Angeles:20220624T230000
DTSTAMP:20260420T063055
CREATED:20220624T053137Z
LAST-MODIFIED:20220624T203018Z
UID:13739-1656064800-1656111600@www.ayclogic.com
SUMMARY:10 AM - Digital Illustration 1 - Abigail
DESCRIPTION:What we did today\n\nWe started working on the cat drawing.\nWe used circles and shapes to sketch our cat.\nWe used our sketch to draw the outline of the cat.\n\nHomework\n\nTry to draw this cat using the techniques we learned today. (DON’T COLOR\, only outline like we did in class.)\n\n 
URL:https://www.ayclogic.com/event/10-am-digital-illustration-1-abigail/
CATEGORIES:Beginner Digital Illustration,Digital Illustration
END:VEVENT
BEGIN:VEVENT
DTSTART;TZID=America/Los_Angeles:20220621T180000
DTEND;TZID=America/Los_Angeles:20220621T190000
DTSTAMP:20260420T063055
CREATED:20220711T081707Z
LAST-MODIFIED:20220711T081707Z
UID:13892-1655834400-1655838000@www.ayclogic.com
SUMMARY:6PM - Digital Illustration 1
DESCRIPTION:TUESDAY \nToday we spent time to revise student’s line work\, and also added the base color for Simba. \n \nHOMEWORK \nimprove your lines if needed \nadd the base color
URL:https://www.ayclogic.com/event/6pm-digital-illustration-1-8/
CATEGORIES:Beginner Digital Illustration,Digital Illustration
END:VEVENT
BEGIN:VEVENT
DTSTART;TZID=America/Los_Angeles:20220614T180000
DTEND;TZID=America/Los_Angeles:20220614T190000
DTSTAMP:20260420T063055
CREATED:20220616T073110Z
LAST-MODIFIED:20220616T075924Z
UID:13554-1655229600-1655233200@www.ayclogic.com
SUMMARY:6PM - Digital Illustration 1
DESCRIPTION:TUESDAY \nToday we continued the Simba project. We finished the lines. \n  \nHOMEWORK \nRefine your version of Simba as best as you can.
URL:https://www.ayclogic.com/event/6pm-digital-illustration-1-7/
CATEGORIES:Beginner Digital Illustration,Digital Illustration
END:VEVENT
BEGIN:VEVENT
DTSTART;TZID=America/Los_Angeles:20220607T180000
DTEND;TZID=America/Los_Angeles:20220607T190000
DTSTAMP:20260420T063055
CREATED:20220609T013805Z
LAST-MODIFIED:20220609T013805Z
UID:13423-1654624800-1654628400@www.ayclogic.com
SUMMARY:6PM - Digital Illustration 1
DESCRIPTION:TUESDAY \nToday we started on a new project! The SIMBA project. We are going to use circles and simple shapes to help us draw something that would normally be difficult. We sketched him with shapes\, and started on the lines. \n \nHOMEWORK \nRecalling back to our previous Katara project: please use this template to create another character in a similar style. You can use your own template (which we should have saved during class) or you can use mine\, and download the image below. \n \nSTEPS: \n\nDownload the template from your sketch layer in iBisPaintX\, or download the image above.\nImport the template into a new canvas.\nLower the opacity of the template layer.\nAdd a new layer a start drawing your character on the template.\nAt least use three layers (Template\, Lines\, Color)\, but you can use more layers as you want or need them.
URL:https://www.ayclogic.com/event/6pm-digital-illustration-1-6/
CATEGORIES:Beginner Digital Illustration,Digital Illustration
END:VEVENT
BEGIN:VEVENT
DTSTART;TZID=America/Los_Angeles:20220531T180000
DTEND;TZID=America/Los_Angeles:20220531T190000
DTSTAMP:20260420T063055
CREATED:20220601T070740Z
LAST-MODIFIED:20220601T070740Z
UID:13305-1654020000-1654023600@www.ayclogic.com
SUMMARY:6PM - Digital Illustration 1
DESCRIPTION:TUESDAY \nToday we finished the Katara project! We finished coloring her\, and added a little waterbending detail. \nCurrent Layers: \n\n4) Details – White eye sparkles and pink blush cheeks\n3) Lines\n2) Colors\n1) Sketch layer (turned off)\n\n \nHOMEWORK \nJust finish up and make things nice\, if you didn’t have time in class. \nThere will be real homework next time! I forgot to say it this time.. but that is ok. \nGood job so far everyone 🙂
URL:https://www.ayclogic.com/event/6pm-digital-illustration-1-5/
CATEGORIES:Beginner Digital Illustration,Digital Illustration
END:VEVENT
BEGIN:VEVENT
DTSTART;TZID=America/Los_Angeles:20220524T180000
DTEND;TZID=America/Los_Angeles:20220524T190000
DTSTAMP:20260420T063055
CREATED:20220525T060307Z
LAST-MODIFIED:20220525T060307Z
UID:13226-1653415200-1653418800@www.ayclogic.com
SUMMARY:6PM - Digital Illustration 1
DESCRIPTION:TUESDAY \nToday we continued the Katara project. We finished the lines today – finishing up her clothes and hair. \nCurrent Layers: \n\n2: Lines\n1: Sketch\n\n  \n  \nHOMEWORK \nFinish and refine your lines. Use the images and information above to help you. \n 
URL:https://www.ayclogic.com/event/6pm-digital-illustration-1-4/
CATEGORIES:Beginner Digital Illustration,Digital Illustration
END:VEVENT
BEGIN:VEVENT
DTSTART;TZID=America/Los_Angeles:20220517T180000
DTEND;TZID=America/Los_Angeles:20220517T190000
DTSTAMP:20260420T063055
CREATED:20220518T235333Z
LAST-MODIFIED:20220518T235333Z
UID:13110-1652810400-1652814000@www.ayclogic.com
SUMMARY:6PM - Digital Illustration 1
DESCRIPTION:TUESDAY \nToday we continued the Katara project. Today we spent time fixing up the body template\, and we also started on the lines. \n \n  \nHOMEWORK \nPlease make sure you project is caught up to class. Use the image above for reference. \nRemember: We currently have two layers. \n\nLayer 1: The body template sketch\nLayer 2: Lines
URL:https://www.ayclogic.com/event/6pm-digital-illustration-1-3/
CATEGORIES:Beginner Digital Illustration,Digital Illustration
END:VEVENT
BEGIN:VEVENT
DTSTART;TZID=America/Los_Angeles:20220510T180000
DTEND;TZID=America/Los_Angeles:20220510T190000
DTSTAMP:20260420T063055
CREATED:20220512T011532Z
LAST-MODIFIED:20220512T011532Z
UID:13009-1652205600-1652209200@www.ayclogic.com
SUMMARY:6PM - Digital Illustration 1
DESCRIPTION:TUESDAY \nToday we started on the Katara project. So far we have done the sketch of the body template by using shapes and lines. \n \nHOMEWORK \nMake any fixes that you need to\, to be caught up to where we are in class.
URL:https://www.ayclogic.com/event/6pm-digital-illustration-1-2/
CATEGORIES:Beginner Digital Illustration,Digital Illustration
END:VEVENT
END:VCALENDAR