BEGIN:VCALENDAR
VERSION:2.0
PRODID:-//American Young Coder - ECPv6.10.1.1//NONSGML v1.0//EN
CALSCALE:GREGORIAN
METHOD:PUBLISH
X-ORIGINAL-URL:https://www.ayclogic.com
X-WR-CALDESC:Events for American Young Coder
REFRESH-INTERVAL;VALUE=DURATION:PT1H
X-Robots-Tag:noindex
X-PUBLISHED-TTL:PT1H
BEGIN:VTIMEZONE
TZID:America/Los_Angeles
BEGIN:DAYLIGHT
TZOFFSETFROM:-0800
TZOFFSETTO:-0700
TZNAME:PDT
DTSTART:20230312T100000
END:DAYLIGHT
BEGIN:STANDARD
TZOFFSETFROM:-0700
TZOFFSETTO:-0800
TZNAME:PST
DTSTART:20231105T090000
END:STANDARD
END:VTIMEZONE
BEGIN:VEVENT
DTSTART;TZID=America/Los_Angeles:20230923T153000
DTEND;TZID=America/Los_Angeles:20230923T163000
DTSTAMP:20260424T205054
CREATED:20230923T235338Z
LAST-MODIFIED:20230923T235338Z
UID:21742-1695483000-1695486600@www.ayclogic.com
SUMMARY:3:30 PM - Intro To Java - William
DESCRIPTION:Today We Did\n\nWe learned how to get input from shell\nWe learned how to do if else if and else statements.\n\nHomework\n\nCreate Sep23_CarDealerHomework.py and do the following questions https://www.ayclogic.com/java-exercise-2b-input-from-shell-and-if-else/
URL:https://www.ayclogic.com/event/330-pm-intro-to-java-william/
CATEGORIES:Introduction To Java,Java
END:VEVENT
BEGIN:VEVENT
DTSTART;TZID=America/Los_Angeles:20230930T153000
DTEND;TZID=America/Los_Angeles:20230930T163000
DTSTAMP:20260424T205054
CREATED:20231001T023810Z
LAST-MODIFIED:20231001T023902Z
UID:21882-1696087800-1696091400@www.ayclogic.com
SUMMARY:3:30 PM - Intro To Java - William
DESCRIPTION:Today We Did\n\nWe learned about List\nWe learned about for loop.\nWe learned how to compare String using .equals method.\n\nHomework\n\nCreate Sep30_ForLoopListHW.java and do problem number 1 and 2 only from here: https://www.ayclogic.com/java-list-forloop/
URL:https://www.ayclogic.com/event/330-pm-intro-to-java-william-2/
CATEGORIES:Introduction To Java,Java
END:VEVENT
END:VCALENDAR