BEGIN:VCALENDAR
VERSION:2.0
PRODID:-//American Young Coder - ECPv6.10.1.1//NONSGML v1.0//EN
CALSCALE:GREGORIAN
METHOD:PUBLISH
X-ORIGINAL-URL:https://www.ayclogic.com
X-WR-CALDESC:Events for American Young Coder
REFRESH-INTERVAL;VALUE=DURATION:PT1H
X-Robots-Tag:noindex
X-PUBLISHED-TTL:PT1H
BEGIN:VTIMEZONE
TZID:America/Los_Angeles
BEGIN:DAYLIGHT
TZOFFSETFROM:-0800
TZOFFSETTO:-0700
TZNAME:PDT
DTSTART:20230312T100000
END:DAYLIGHT
BEGIN:STANDARD
TZOFFSETFROM:-0700
TZOFFSETTO:-0800
TZNAME:PST
DTSTART:20231105T090000
END:STANDARD
END:VTIMEZONE
BEGIN:VEVENT
DTSTART;TZID=America/Los_Angeles:20231104T153000
DTEND;TZID=America/Los_Angeles:20231104T163000
DTSTAMP:20260424T114139
CREATED:20231104T235401Z
LAST-MODIFIED:20231104T235401Z
UID:22465-1699111800-1699115400@www.ayclogic.com
SUMMARY:3:30 PM – Intro to Java – William
DESCRIPTION:Today We Did\n\nReviewed Methods HW\nStarted TellMeYourAge using methods\n\nHomework\n\nFinish Nov4_TellMeYourAgeMethods (locate code in the “Files” Google Drive folder)\n\n Remaining cases in provideResponse\nRun method\n\nPrint out user age based on input\nIf user types “quit\,” program prints a message and exits\n\n\nMain() method\n\nCall run method\n\n\n\n\n\nUpload homework to your assigned Google Drive folders by Friday night. \nIf you have any questions\, please email me at williamsmith@ayclogic.com.
URL:https://www.ayclogic.com/event/330-pm-intro-to-java-william-7/
CATEGORIES:Introduction To Java,Java
END:VEVENT
BEGIN:VEVENT
DTSTART;TZID=America/Los_Angeles:20231111T153000
DTEND;TZID=America/Los_Angeles:20231111T163000
DTSTAMP:20260424T114139
CREATED:20231112T004652Z
LAST-MODIFIED:20231112T004652Z
UID:22557-1699716600-1699720200@www.ayclogic.com
SUMMARY:3:30 PM – Intro to Java – William
DESCRIPTION:Today We Did\n\nFinished TellMeYour\nStarted SchoolApplication\n\nCreated Student.java\n\nExplained attributes\, constructor\, getter methods\n\n\nStarted SchoolSystem\n\n\n\nHomework\n\nCreate Teacher.java\n\nCreate the following attributes:\n\nfirstName\nlastName\nsubject\n\n\nCreate a constructor\nCreate getter methods\n\n\nModify SchoolSystem.java\n\nAfter printing the menu\, prompt the user: “Enter your selection: “\nGet the user’s input\nCreate If-Else statements to perform tasks based on user’s input\n\n(should be empty for now but we will fill them in as we go)\n\n\n\n\n\nMake a new folder and upload your SchoolApplication files to your assigned Google Drive folders by Friday night. \nIf you have any questions\, please email me at williamsmith@ayclogic.com.
URL:https://www.ayclogic.com/event/330-pm-intro-to-java-william-8/
CATEGORIES:Introduction To Java,Java
END:VEVENT
BEGIN:VEVENT
DTSTART;TZID=America/Los_Angeles:20231118T160000
DTEND;TZID=America/Los_Angeles:20231118T170000
DTSTAMP:20260424T114139
CREATED:20231119T030538Z
LAST-MODIFIED:20231119T031205Z
UID:22684-1700323200-1700326800@www.ayclogic.com
SUMMARY:4 PM - Intro To Java - William
DESCRIPTION:Gamas Sub \nToday We Did\n\nWe continue with School Application\n\nWe added add new Student feature.\n\n\n\nHomework\n\nNo class on Nov 25 because of Thanksgiving holiday.\nAll the latest codes can be found in here.\nContinue on School Application\, add codes to enable the following\n\nAdd a teacher\nList all teachers\nList all students.\n\n\nFor those who have taken Python OOP with me\, look at Python OOP School System project because it is very similar.
URL:https://www.ayclogic.com/event/4-pm-intro-to-java-william/
CATEGORIES:Introduction To Java,Java
END:VEVENT
END:VCALENDAR