BEGIN:VCALENDAR
VERSION:2.0
PRODID:-//American Young Coder - ECPv6.10.1.1//NONSGML v1.0//EN
CALSCALE:GREGORIAN
METHOD:PUBLISH
X-ORIGINAL-URL:https://www.ayclogic.com
X-WR-CALDESC:Events for American Young Coder
REFRESH-INTERVAL;VALUE=DURATION:PT1H
X-Robots-Tag:noindex
X-PUBLISHED-TTL:PT1H
BEGIN:VTIMEZONE
TZID:America/Los_Angeles
BEGIN:DAYLIGHT
TZOFFSETFROM:-0800
TZOFFSETTO:-0700
TZNAME:PDT
DTSTART:20240310T100000
END:DAYLIGHT
BEGIN:STANDARD
TZOFFSETFROM:-0700
TZOFFSETTO:-0800
TZNAME:PST
DTSTART:20241103T090000
END:STANDARD
END:VTIMEZONE
BEGIN:VEVENT
DTSTART;TZID=America/Los_Angeles:20240708T190000
DTEND;TZID=America/Los_Angeles:20240708T200000
DTSTAMP:20260421T165931
CREATED:20240708T220302Z
LAST-MODIFIED:20240709T053719Z
UID:25866-1720465200-1720468800@www.ayclogic.com
SUMMARY:7 PM – Intro To Java – Darin
DESCRIPTION:What We Did Today:\n\nContinued Hash Maps in Java.\nImplemented the updateAddressByName method.\nStarted learning methods and tips/tricks on debugging in Java.\n\nHomework:\n\nPlease submit your homework into your Google Drive.\nHomework: Continue and finish debugging the PetSystem program to make sure you get the output as shown in the following: https://www.ayclogic.com/fix-java-error/\n\nNotes:\nIf you have any questions\, you can email me at ddjapri@ayclogic.com \nAYC Logic’s observed holidays: https://www.ayclogic.com/observed-holidays/
URL:https://www.ayclogic.com/event/7-pm-intro-to-java-darin-5/
CATEGORIES:Introduction To Java,Java
END:VEVENT
BEGIN:VEVENT
DTSTART;TZID=America/Los_Angeles:20240709T090000
DTEND;TZID=America/Los_Angeles:20240709T100000
DTSTAMP:20260421T165931
CREATED:20240709T081720Z
LAST-MODIFIED:20240710T003911Z
UID:25882-1720515600-1720519200@www.ayclogic.com
SUMMARY:9 AM – Intro To Java – Darin
DESCRIPTION:What We Did Today:\n\nContinued monster inheritance\, fully implementing the magic attack system.\nExplained and learnt about how private\, public and protected keywords work for access control in classes.\n\nHomework:\n\nCreate the heal method which prompts the user for the amount of hp they want to heal the monster with\, and then create a method in the monster class called heal\, and use that method to heal the monster.\n\nNotes:\nIf you have any questions\, feel free to contact me at ddjapri@ayclogic.com.
URL:https://www.ayclogic.com/event/5-pm-intro-to-java-darin/
CATEGORIES:Introduction To Java,Java
END:VEVENT
BEGIN:VEVENT
DTSTART;TZID=America/Los_Angeles:20240710T190000
DTEND;TZID=America/Los_Angeles:20240710T200000
DTSTAMP:20260421T165931
CREATED:20240711T015531Z
LAST-MODIFIED:20240711T030644Z
UID:25917-1720638000-1720641600@www.ayclogic.com
SUMMARY:7 PM – Intro To Java – Darin
DESCRIPTION:What We Did Today:\n\nContinued on the monster inheritance project.\nStarted learning about inheritance in Java.\nReviewed about private and public keywords for classes.\n\n  \nHomework:\nUpload your file to your google drive homework section when you are finished. \n\nCreate a new heal method which is called inside of the play()\, and this method heals the player with random amounts of health points from 20 - 30.\n\n\n\nNotes:\nIf you have any questions\, you may reach out to me at ddjapri@ayclogic.com.
URL:https://www.ayclogic.com/event/7-pm-intro-to-java-darin-6/
CATEGORIES:Introduction To Java,Java
END:VEVENT
BEGIN:VEVENT
DTSTART;TZID=America/Los_Angeles:20240713T183000
DTEND;TZID=America/Los_Angeles:20240713T193000
DTSTAMP:20260421T165931
CREATED:20240714T011504Z
LAST-MODIFIED:20240718T031533Z
UID:25970-1720895400-1720899000@www.ayclogic.com
SUMMARY:SAT – 6:30 PM – Intro To Java – Darin
DESCRIPTION:NEXT WEEK IS YOUR QUIZ ON JULY 20 !!\nWhat We Did Today:\n\nReviewed debugging in Java.\nStarted the practice quiz covering all the topics we have learnt so far in the class.\n\nHomework:\n\nFinish the rest of the practice quiz and submit it with the submit button on the google form.\n\nIf you have any questions\, you can reach out to me at ddjapri@ayclogic.com
URL:https://www.ayclogic.com/event/sat-630-pm-intro-to-java-shawn-6/
CATEGORIES:Introduction To Java,Java
END:VEVENT
BEGIN:VEVENT
DTSTART;TZID=America/Los_Angeles:20240717T090000
DTEND;TZID=America/Los_Angeles:20240717T100000
DTSTAMP:20260421T165931
CREATED:20240718T032336Z
LAST-MODIFIED:20240718T032336Z
UID:26024-1721206800-1721210400@www.ayclogic.com
SUMMARY:9 AM – Intro To Java – Darin
DESCRIPTION:What We Did Today:\n\nFinished monster inheritance\, and started android studio development.\n\nHomework:\nFinish the practice quiz sent to your email! Expect to spend about 1-2 hours on it. \nWe will review the practice quiz next week and then continue with android game development. \nNotes:\nIf you have any questions\, feel free to contact me at ddjapri@ayclogic.com.
URL:https://www.ayclogic.com/event/9-am-intro-to-java-darin/
CATEGORIES:Introduction To Java,Java
END:VEVENT
BEGIN:VEVENT
DTSTART;TZID=America/Los_Angeles:20240717T190000
DTEND;TZID=America/Los_Angeles:20240717T200000
DTSTAMP:20260421T165931
CREATED:20240718T031933Z
LAST-MODIFIED:20240718T031933Z
UID:26022-1721242800-1721246400@www.ayclogic.com
SUMMARY:7 PM – Intro To Java – Darin
DESCRIPTION:What We Did Today:\n\nFinished the monster inheritance project\, reviewing public vs private access modifiers.\nSetup android studio for mobile app development.\n\nHomework:\nFinish the practice quiz sent to your email – expect to spend about 1-2 hours on it. \nWe will review the practice quiz next week\, and continue android studio mobile development. \n\n\nNotes:\nIf you have any questions\, you may reach out to me at ddjapri@ayclogic.com.
URL:https://www.ayclogic.com/event/7-pm-intro-to-java-darin-8/
CATEGORIES:Introduction To Java,Java
END:VEVENT
BEGIN:VEVENT
DTSTART;TZID=America/Los_Angeles:20240720T183000
DTEND;TZID=America/Los_Angeles:20240720T193000
DTSTAMP:20260421T165931
CREATED:20240721T011215Z
LAST-MODIFIED:20240721T011215Z
UID:26069-1721500200-1721503800@www.ayclogic.com
SUMMARY:SAT – 6:30 PM – Intro To Java – Darin
DESCRIPTION:What We Did Today:\n\nDid the first quiz in Java.\n\nHomework:\n\nNone!\n\nIf you have any questions\, you can reach out to me at ddjapri@ayclogic.com
URL:https://www.ayclogic.com/event/sat-630-pm-intro-to-java-darin/
CATEGORIES:Introduction To Java,Java
END:VEVENT
BEGIN:VEVENT
DTSTART;TZID=America/Los_Angeles:20240722T190000
DTEND;TZID=America/Los_Angeles:20240722T200000
DTSTAMP:20260421T165931
CREATED:20240723T014455Z
LAST-MODIFIED:20240723T030050Z
UID:26079-1721674800-1721678400@www.ayclogic.com
SUMMARY:7 PM – Intro To Java – Darin
DESCRIPTION:NEXT WEEK IS YOUR QUIZ ON MONDAY JULY 29!\nWhat We Did Today: \n\nFinished the School System with Map implementation.\nStarted working on the practice quiz for next week.\n\nHomework:\n\nContinue the practice quiz (numbers 3-9) and submit it once you are finished! If you want me to check the rest of your practice quiz\, let me know via email or I will assume you are confident for the upcoming quiz.\n\nNotes:\nIf you have any questions\, you can email me at ddjapri@ayclogic.com \nAYC Logic’s observed holidays: https://www.ayclogic.com/observed-holidays/
URL:https://www.ayclogic.com/event/7-pm-intro-to-java-darin-9/
CATEGORIES:Introduction To Java,Java
END:VEVENT
BEGIN:VEVENT
DTSTART;TZID=America/Los_Angeles:20240724T190000
DTEND;TZID=America/Los_Angeles:20240724T200000
DTSTAMP:20260421T165931
CREATED:20240725T174848Z
LAST-MODIFIED:20240725T174856Z
UID:26136-1721847600-1721851200@www.ayclogic.com
SUMMARY:7 PM – Intro To Java – Darin
DESCRIPTION:What We Did Today:\n\nLearnt the basics of android studio\, how to add elements to our app using the xml file\, and do things related to the display using main_activity.java\nReviewed the final exam practice.\n\nHomework:\nContinue on your TemperatureConverter project and create your display through the xml file to look like this: \n\nThis next step is important!! \nFor Fahrenheit\, make the id: originalTempHeader\, text: Fahrenheit \nFor Celsius\, make the id: convertedTempHeader\, text: Celsius \nBelow the Fahrenheit header\, use Palette -> Text -> Number (Decimal)\, set the id: OriginalTempInput \nBelow the Celsius header\, use the textview as you did with the headers and put the words placeholder. \n————————————————————————————————— \nConstraints are an important concept in mobile app development as they enable you to put elements of the app to be fixed at specific areas of the screen. \nWhen you put a constraint for an element\, the constraint can be relative to the screen itself or another object\, which means that you have to define what the constraints are. \nFor example\, the constraints here are against the screen \n \nWhile the vertical constraint here is against the Fahrenheit object while the horizontal constraint is against the screen. \n \nYour job is to make sure the constraints are set in a way so that when you “run” the app\, the elements are fixed at good positions. \n\n\nNotes:\nIf you have any questions\, you may reach out to me at ddjapri@ayclogic.com.
URL:https://www.ayclogic.com/event/7-pm-intro-to-java-darin-10/
CATEGORIES:Introduction To Java,Java
END:VEVENT
BEGIN:VEVENT
DTSTART;TZID=America/Los_Angeles:20240727T183000
DTEND;TZID=America/Los_Angeles:20240727T193000
DTSTAMP:20260421T165931
CREATED:20240728T223658Z
LAST-MODIFIED:20240728T223658Z
UID:26176-1722105000-1722108600@www.ayclogic.com
SUMMARY:6:30 PM - Intro To Java - Darin
DESCRIPTION:What We Did Today:\n\nStarted on the Monster Inheritance project\, going over concepts such as inheritance\, dictionaries vs lists\, design choices for a program.\n\nHomework:\n\nContinue in your monster inheritance project and upload the files to the google drive when you are finished!\n\nhw\n\nimplement the play() method so that a player can be initialized\, and a monster menu is printed out forever\nfor selection.\n\nWithin the play method\, after selecting the monster\, if the monster exists in the system (by checking with the dictionary)\, print out an attack menu.\nYou can copy the attack menu from the following output example:\n\nSample output:\nPlease select from one of the following\n1. Add new monster\n2. List all monsters\n3. Play the game\nEnter your selection (enter “exit” to quit): 3 \nPLAY GAME\nWhat is your name: Darin\nHow much health do you want: 100 \nDarin has 100 health remaining.\nPlease select one of the following monsters:\n– Regenerative Troll – 70 health\n– Troll – 70 health\n– Dragon – 100 health\n– Water Golem – 50 health\nEnter your selection (Enter ‘stop’ to end the game): ha\nWe can not find this monster in our system: ha \nDarin has 100 health remaining.\nPlease select one of the following monsters:\n– Regenerative Troll – 70 health\n– Troll – 70 health\n– Dragon – 100 health\n– Water Golem – 50 health\nEnter your selection (Enter ‘stop’ to end the game): troll \nWhat do you want to do with the troll:\n1. Magic attack\n2. Melee attack\n3. Arrow attack (5 -10 damage)\n4. Heal\nEnter your selection:\n\nYou don’t need to implement the attacks just yet. Just make it so that a menu is printed out and you can enter a selection if a monster is correctly selected. \nNotes:\nYou can email me at ddjapri@ayclogic.com if you have any questions!
URL:https://www.ayclogic.com/event/630-pm-intro-to-java-darin/
CATEGORIES:Introduction To Java,Java
END:VEVENT
BEGIN:VEVENT
DTSTART;TZID=America/Los_Angeles:20240730T090000
DTEND;TZID=America/Los_Angeles:20240730T100000
DTSTAMP:20260421T165931
CREATED:20240731T002039Z
LAST-MODIFIED:20240731T002039Z
UID:26198-1722330000-1722333600@www.ayclogic.com
SUMMARY:9 AM – Intro To Java – Darin
DESCRIPTION:What We Did Today:\n\nLearnt an overview of the structure for android applications\, with activity_main.xml and MainActivity.java\nLearnt how to add elements to the app and adjust their attributes\nLearnt about constraints and how they are necessary for placement of elements.\nLearnt how to implement a simple function that prints a statement when our button is clicked (by adding the function to the onClick attribute of the button)\n\nHomework:\nFinish the practice quiz sent to your email from the previous week! \nNotes:\nIf you have any questions\, feel free to contact me at ddjapri@ayclogic.com.
URL:https://www.ayclogic.com/event/9-am-intro-to-java-darin-2/
CATEGORIES:Introduction To Java,Java
END:VEVENT
BEGIN:VEVENT
DTSTART;TZID=America/Los_Angeles:20240731T190000
DTEND;TZID=America/Los_Angeles:20240731T200000
DTSTAMP:20260421T165931
CREATED:20240801T050634Z
LAST-MODIFIED:20240801T050634Z
UID:26256-1722452400-1722456000@www.ayclogic.com
SUMMARY:7 PM – Intro To Java – Darin
DESCRIPTION:What We Did Today:\n\nContinued Temperature Converter project in Android Studio\, learning how to extend functionality of buttons\n\nHomework:\n\nContinue your Driver System final exam practice if you aren’t done with it already!\n\n\n\nNotes:\nIf you have any questions\, you may reach out to me at ddjapri@ayclogic.com.
URL:https://www.ayclogic.com/event/7-pm-intro-to-java-darin-12/
CATEGORIES:Introduction To Java,Java
END:VEVENT
END:VCALENDAR