BEGIN:VCALENDAR
VERSION:2.0
PRODID:-//American Young Coder - ECPv6.10.1.1//NONSGML v1.0//EN
CALSCALE:GREGORIAN
METHOD:PUBLISH
X-WR-CALNAME:American Young Coder
X-ORIGINAL-URL:https://www.ayclogic.com
X-WR-CALDESC:Events for American Young Coder
REFRESH-INTERVAL;VALUE=DURATION:PT1H
X-Robots-Tag:noindex
X-PUBLISHED-TTL:PT1H
BEGIN:VTIMEZONE
TZID:America/Los_Angeles
BEGIN:DAYLIGHT
TZOFFSETFROM:-0800
TZOFFSETTO:-0700
TZNAME:PDT
DTSTART:20220313T100000
END:DAYLIGHT
BEGIN:STANDARD
TZOFFSETFROM:-0700
TZOFFSETTO:-0800
TZNAME:PST
DTSTART:20221106T090000
END:STANDARD
END:VTIMEZONE
BEGIN:VEVENT
DTSTART;TZID=America/Los_Angeles:20221008T090000
DTEND;TZID=America/Los_Angeles:20221008T100000
DTSTAMP:20260425T204156
CREATED:20221008T163729Z
LAST-MODIFIED:20221021T013945Z
UID:15587-1665219600-1665223200@www.ayclogic.com
SUMMARY:9 AM - Intro To Java - Gamas
DESCRIPTION:Homeworks\n\nContinue working on the Practice Test.\n\nMake sure to have the Driver and NewYorkTaxiDriver classes. The difficult part which is the getTripTime can be ignored until we discuss it next week\nMake sure you have “1. Add driver” feature.\nMake sure you have “3. List All drivers” feature.\nMake sure you have “4. exit”\nMake sure you have “2. Book a Trip”. Don’t worry about the rush hour if you do not know how to do it.
URL:https://www.ayclogic.com/event/9-am-intro-to-java-gamas-20/
CATEGORIES:Introduction To Java,Java
END:VEVENT
BEGIN:VEVENT
DTSTART;TZID=America/Los_Angeles:20221008T130000
DTEND;TZID=America/Los_Angeles:20221008T140000
DTSTAMP:20260425T204156
CREATED:20221008T205707Z
LAST-MODIFIED:20221008T205707Z
UID:15612-1665234000-1665237600@www.ayclogic.com
SUMMARY:1 PM Intro To Java - Alexander Lee
DESCRIPTION:Today We Did:\n\nWe started with the Monster Inheritance project.\nWe were able to create the Monster and add it to a map\, along with listing it out.\nAlso\, we started the play method and were able to create the monsterMenu.\n\nFor Homework:\n\nShorten the creation of the monsterMenu by looking at where we have duplicated code that has already been created in the past.\nAlso\, check to see if the user types in stop\, you should leave the while true loop for the monster menu.\nAlso get the monster from the monsterMap by using the user input you received from the printMonsterMenu() method.\n Check to see if it is null\, and if it is make sure to print out “We could not find this monster in our system: monsterName”
URL:https://www.ayclogic.com/event/1-pm-intro-to-java-alexander-lee-8/
CATEGORIES:Introduction To Java,Java
END:VEVENT
BEGIN:VEVENT
DTSTART;TZID=America/Los_Angeles:20221008T160000
DTEND;TZID=America/Los_Angeles:20221008T170000
DTSTAMP:20260425T204156
CREATED:20221008T235417Z
LAST-MODIFIED:20221008T235417Z
UID:15621-1665244800-1665248400@www.ayclogic.com
SUMMARY:4 PM Intro To Java - Alex Lee
DESCRIPTION:Today We Did:\n\nWe started the first project and were able to get through the variable data types.\nWe learned about how to initialize string\, integer\, double\, and floats for variables.\nAlso\, covered how to get the users input by using Scanner.\n\nFor Homework:\n\nCreate a new file which is titled Oct8_VariableDataTypesHomework.java\nThe link to the homework is here https://www.ayclogic.com/java-variables-datatypes/
URL:https://www.ayclogic.com/event/4-pm-intro-to-java-alex-lee/
CATEGORIES:Introduction To Java,Java
END:VEVENT
END:VCALENDAR