BEGIN:VCALENDAR
VERSION:2.0
PRODID:-//American Young Coder - ECPv6.10.1.1//NONSGML v1.0//EN
CALSCALE:GREGORIAN
METHOD:PUBLISH
X-WR-CALNAME:American Young Coder
X-ORIGINAL-URL:https://www.ayclogic.com
X-WR-CALDESC:Events for American Young Coder
REFRESH-INTERVAL;VALUE=DURATION:PT1H
X-Robots-Tag:noindex
X-PUBLISHED-TTL:PT1H
BEGIN:VTIMEZONE
TZID:America/Los_Angeles
BEGIN:DAYLIGHT
TZOFFSETFROM:-0800
TZOFFSETTO:-0700
TZNAME:PDT
DTSTART:20220313T100000
END:DAYLIGHT
BEGIN:STANDARD
TZOFFSETFROM:-0700
TZOFFSETTO:-0800
TZNAME:PST
DTSTART:20221106T090000
END:STANDARD
END:VTIMEZONE
BEGIN:VEVENT
DTSTART;TZID=America/Los_Angeles:20221029T130000
DTEND;TZID=America/Los_Angeles:20221029T140000
DTSTAMP:20260425T204149
CREATED:20221105T183852Z
LAST-MODIFIED:20221105T183852Z
UID:16226-1667048400-1667052000@www.ayclogic.com
SUMMARY:1 PM Intro To Java - Alex Lee
DESCRIPTION:Today We Did:\n1. We finished up the Monster Inheritance project. \n2. We covered access modifiers and also how to override methods. \nFor Homework:\n1. Download Android Studio for the next class. https://developer.android.com/studio
URL:https://www.ayclogic.com/event/1-pm-intro-to-java-alex-lee-6/
CATEGORIES:Introduction To Java,Java
END:VEVENT
BEGIN:VEVENT
DTSTART;TZID=America/Los_Angeles:20221029T160000
DTEND;TZID=America/Los_Angeles:20221029T170000
DTSTAMP:20260425T204149
CREATED:20221029T235612Z
LAST-MODIFIED:20221029T235612Z
UID:16085-1667059200-1667062800@www.ayclogic.com
SUMMARY:4 PM Intro To Java - Alex Lee
DESCRIPTION:Today We Did:\n\nWe continued by covering how to use for loops using the index.\nAlso\, we talked about how to use for loops using index with a list.\nWe also went over how to create and use while loops.\n\nFor Homework:\n\nCreate a new file that is titled Oct29_WhileLoopHomework.java\nThe homework is on this link: https://www.ayclogic.com/java-exercise-while-loop/
URL:https://www.ayclogic.com/event/4-pm-intro-to-java-alex-lee-4/
CATEGORIES:Introduction To Java,Java
END:VEVENT
END:VCALENDAR