BEGIN:VCALENDAR
VERSION:2.0
PRODID:-//American Young Coder - ECPv6.10.1.1//NONSGML v1.0//EN
CALSCALE:GREGORIAN
METHOD:PUBLISH
X-WR-CALNAME:American Young Coder
X-ORIGINAL-URL:https://www.ayclogic.com
X-WR-CALDESC:Events for American Young Coder
REFRESH-INTERVAL;VALUE=DURATION:PT1H
X-Robots-Tag:noindex
X-PUBLISHED-TTL:PT1H
BEGIN:VTIMEZONE
TZID:America/Los_Angeles
BEGIN:DAYLIGHT
TZOFFSETFROM:-0800
TZOFFSETTO:-0700
TZNAME:PDT
DTSTART:20230312T100000
END:DAYLIGHT
BEGIN:STANDARD
TZOFFSETFROM:-0700
TZOFFSETTO:-0800
TZNAME:PST
DTSTART:20231105T090000
END:STANDARD
END:VTIMEZONE
BEGIN:VEVENT
DTSTART;TZID=America/Los_Angeles:20230107T130000
DTEND;TZID=America/Los_Angeles:20230107T140000
DTSTAMP:20260425T131910
CREATED:20230111T031502Z
LAST-MODIFIED:20230111T031502Z
UID:17539-1673096400-1673100000@www.ayclogic.com
SUMMARY:1 PM Intro To Java - Alex
DESCRIPTION:Today We Did:\n\nWe continued the Driver System practice by doing the second part and overall reviewing it.\nNext week we will be taking the test so make sure to practice and it will be open book.
URL:https://www.ayclogic.com/event/1-pm-intro-to-java-alex-14/
CATEGORIES:Introduction To Java,Java
END:VEVENT
END:VCALENDAR