BEGIN:VCALENDAR
VERSION:2.0
PRODID:-//American Young Coder - ECPv6.10.1.1//NONSGML v1.0//EN
CALSCALE:GREGORIAN
METHOD:PUBLISH
X-WR-CALNAME:American Young Coder
X-ORIGINAL-URL:https://www.ayclogic.com
X-WR-CALDESC:Events for American Young Coder
REFRESH-INTERVAL;VALUE=DURATION:PT1H
X-Robots-Tag:noindex
X-PUBLISHED-TTL:PT1H
BEGIN:VTIMEZONE
TZID:America/Los_Angeles
BEGIN:DAYLIGHT
TZOFFSETFROM:-0800
TZOFFSETTO:-0700
TZNAME:PDT
DTSTART:20230312T100000
END:DAYLIGHT
BEGIN:STANDARD
TZOFFSETFROM:-0700
TZOFFSETTO:-0800
TZNAME:PST
DTSTART:20231105T090000
END:STANDARD
END:VTIMEZONE
BEGIN:VEVENT
DTSTART;TZID=America/Los_Angeles:20230217T170000
DTEND;TZID=America/Los_Angeles:20230217T180000
DTSTAMP:20260425T092300
CREATED:20230218T015302Z
LAST-MODIFIED:20230218T015302Z
UID:18126-1676653200-1676656800@www.ayclogic.com
SUMMARY:5 PM - Intro To Java - Alex
DESCRIPTION:Today We Did:\n\nReviewed the homework “ForLoopIfElseHW”\nStarted to learn about lists\, and how to add\, get\, and remove things from them.\nAlso\, learned about how to loop through a list and get each of their elements.\n\nFor Homework:\n\nGo to this link for your homework: https://www.ayclogic.com/java-list-forloop/\nYou only have to do the first two problems for today\, make sure to submit them in the folder.
URL:https://www.ayclogic.com/event/5-pm-intro-to-java-alex/
CATEGORIES:Introduction To Java,Java
END:VEVENT
END:VCALENDAR