BEGIN:VCALENDAR
VERSION:2.0
PRODID:-//American Young Coder - ECPv6.10.1.1//NONSGML v1.0//EN
CALSCALE:GREGORIAN
METHOD:PUBLISH
X-ORIGINAL-URL:https://www.ayclogic.com
X-WR-CALDESC:Events for American Young Coder
REFRESH-INTERVAL;VALUE=DURATION:PT1H
X-Robots-Tag:noindex
X-PUBLISHED-TTL:PT1H
BEGIN:VTIMEZONE
TZID:America/Los_Angeles
BEGIN:DAYLIGHT
TZOFFSETFROM:-0800
TZOFFSETTO:-0700
TZNAME:PDT
DTSTART:20230312T100000
END:DAYLIGHT
BEGIN:STANDARD
TZOFFSETFROM:-0700
TZOFFSETTO:-0800
TZNAME:PST
DTSTART:20231105T090000
END:STANDARD
END:VTIMEZONE
BEGIN:VEVENT
DTSTART;TZID=America/Los_Angeles:20230224T170000
DTEND;TZID=America/Los_Angeles:20230224T180000
DTSTAMP:20260425T120001
CREATED:20230225T021103Z
LAST-MODIFIED:20230225T021103Z
UID:18225-1677258000-1677261600@www.ayclogic.com
SUMMARY:5 PM Intro To Java - Alex Lee
DESCRIPTION:Today We Did:\n\nCovered the List and For Loop homework for the first two questions.\nReviewed about for loops and how to loop through a list using them with either index or for each.\nWent over how to create a while loop.\n\nFor Homework:\n\nFirst is to create a new class called GameInventory.java and follow the steps on question number 3: https://www.ayclogic.com/java-list-forloop/\nNext is to create another new file called Feb24_WhileLoopHW.java and follow the link here: https://www.ayclogic.com/java-exercise-while-loop/
URL:https://www.ayclogic.com/event/5-pm-intro-to-java-alex-lee/
CATEGORIES:Introduction To Java,Java
END:VEVENT
END:VCALENDAR