BEGIN:VCALENDAR
VERSION:2.0
PRODID:-//American Young Coder - ECPv6.10.1.1//NONSGML v1.0//EN
CALSCALE:GREGORIAN
METHOD:PUBLISH
X-ORIGINAL-URL:https://www.ayclogic.com
X-WR-CALDESC:Events for American Young Coder
REFRESH-INTERVAL;VALUE=DURATION:PT1H
X-Robots-Tag:noindex
X-PUBLISHED-TTL:PT1H
BEGIN:VTIMEZONE
TZID:America/Los_Angeles
BEGIN:DAYLIGHT
TZOFFSETFROM:-0800
TZOFFSETTO:-0700
TZNAME:PDT
DTSTART:20230312T100000
END:DAYLIGHT
BEGIN:STANDARD
TZOFFSETFROM:-0700
TZOFFSETTO:-0800
TZNAME:PST
DTSTART:20231105T090000
END:STANDARD
END:VTIMEZONE
BEGIN:VEVENT
DTSTART;TZID=America/Los_Angeles:20230420T190000
DTEND;TZID=America/Los_Angeles:20230420T200000
DTSTAMP:20260425T054949
CREATED:20230421T025610Z
LAST-MODIFIED:20230421T025610Z
UID:19043-1682017200-1682020800@www.ayclogic.com
SUMMARY:7 PM - Intro To Java - Alex Lee
DESCRIPTION:Today We Did:\n\nContinued with the TemperatureConverter project\nAdded in the temperature spinner listener\nLearned about the resources\n\nFor Homework:\n\nBe able to change it to Celsius to Kelvin as the header.\nAlso figure out how to pass the information of the conversion type to the convert button on click.\nSo that when you change the spinner option\, it should also change the formula and the result.
URL:https://www.ayclogic.com/event/7-pm-intro-to-java-alex-lee-5/
CATEGORIES:Introduction To Java,Java
END:VEVENT
END:VCALENDAR