BEGIN:VCALENDAR
VERSION:2.0
PRODID:-//American Young Coder - ECPv6.10.1.1//NONSGML v1.0//EN
CALSCALE:GREGORIAN
METHOD:PUBLISH
X-ORIGINAL-URL:https://www.ayclogic.com
X-WR-CALDESC:Events for American Young Coder
REFRESH-INTERVAL;VALUE=DURATION:PT1H
X-Robots-Tag:noindex
X-PUBLISHED-TTL:PT1H
BEGIN:VTIMEZONE
TZID:America/Los_Angeles
BEGIN:DAYLIGHT
TZOFFSETFROM:-0800
TZOFFSETTO:-0700
TZNAME:PDT
DTSTART:20230312T100000
END:DAYLIGHT
BEGIN:STANDARD
TZOFFSETFROM:-0700
TZOFFSETTO:-0800
TZNAME:PST
DTSTART:20231105T090000
END:STANDARD
END:VTIMEZONE
BEGIN:VEVENT
DTSTART;TZID=America/Los_Angeles:20230427T190000
DTEND;TZID=America/Los_Angeles:20230427T200000
DTSTAMP:20260425T054944
CREATED:20230428T031118Z
LAST-MODIFIED:20230428T031118Z
UID:19366-1682622000-1682625600@www.ayclogic.com
SUMMARY:7PM - Intro To Java - Alex Lee
DESCRIPTION:Today We Did:\n\nWe finish up the TemperatureConverter project by adding in the other headers and also figuring out how to change the equation based on the conversion type.\nAlso looked over the practice exam for Driver System.\n\nFor Homework:\n\nGo take the practice exam at the link here: https://forms.gle/cbbTkdGB4vkcXf1h9\nMake sure to finish it before the next class\, preferably a few days before so I get the chance to grade it and go over any errors during the class.\nThe final exam will be the week after we finish reviewing the practice exam.
URL:https://www.ayclogic.com/event/7pm-intro-to-java-alex-lee-2/
CATEGORIES:Introduction To Java,Java
END:VEVENT
END:VCALENDAR