BEGIN:VCALENDAR
VERSION:2.0
PRODID:-//American Young Coder - ECPv6.10.1.1//NONSGML v1.0//EN
CALSCALE:GREGORIAN
METHOD:PUBLISH
X-ORIGINAL-URL:https://www.ayclogic.com
X-WR-CALDESC:Events for American Young Coder
REFRESH-INTERVAL;VALUE=DURATION:PT1H
X-Robots-Tag:noindex
X-PUBLISHED-TTL:PT1H
BEGIN:VTIMEZONE
TZID:America/Los_Angeles
BEGIN:DAYLIGHT
TZOFFSETFROM:-0800
TZOFFSETTO:-0700
TZNAME:PDT
DTSTART:20230312T100000
END:DAYLIGHT
BEGIN:STANDARD
TZOFFSETFROM:-0700
TZOFFSETTO:-0800
TZNAME:PST
DTSTART:20231105T090000
END:STANDARD
END:VTIMEZONE
BEGIN:VEVENT
DTSTART;TZID=America/Los_Angeles:20230623T170000
DTEND;TZID=America/Los_Angeles:20230623T190000
DTSTAMP:20260425T042357
CREATED:20230624T021901Z
LAST-MODIFIED:20230624T022313Z
UID:20349-1687539600-1687546800@www.ayclogic.com
SUMMARY:5 PM - Intro to Java - William
DESCRIPTION:Today we did:\n\nVariables and data types\nGetting user input with java.util.Scanner\nIf-Else statements\nStarted learning lists\n\nHomework:\n\nCreate new Java HW files:\n\nJune23VariableDataTypeHW.java\n\nhttps://www.ayclogic.com/java-variables-datatypes/\n\n\nJune23IfElseScannerHW.java\n\nhttps://www.ayclogic.com/java-exercise-2b-input-from-shell-and-if-else/\n\n\n\n\nThe HW is due Sunday night. Please upload to your assigned Google Drive folders.\n\nIf you have any questions\, please email me at williamsmith@ayclogic.com
URL:https://www.ayclogic.com/event/5pm-summer-java-william/
CATEGORIES:Introduction To Java,Java
END:VEVENT
END:VCALENDAR