BEGIN:VCALENDAR
VERSION:2.0
PRODID:-//American Young Coder - ECPv6.10.1.1//NONSGML v1.0//EN
CALSCALE:GREGORIAN
METHOD:PUBLISH
X-WR-CALNAME:American Young Coder
X-ORIGINAL-URL:https://www.ayclogic.com
X-WR-CALDESC:Events for American Young Coder
REFRESH-INTERVAL;VALUE=DURATION:PT1H
X-Robots-Tag:noindex
X-PUBLISHED-TTL:PT1H
BEGIN:VTIMEZONE
TZID:America/Los_Angeles
BEGIN:DAYLIGHT
TZOFFSETFROM:-0800
TZOFFSETTO:-0700
TZNAME:PDT
DTSTART:20230312T100000
END:DAYLIGHT
BEGIN:STANDARD
TZOFFSETFROM:-0700
TZOFFSETTO:-0800
TZNAME:PST
DTSTART:20231105T090000
END:STANDARD
END:VTIMEZONE
BEGIN:VEVENT
DTSTART;TZID=America/Los_Angeles:20231014T153000
DTEND;TZID=America/Los_Angeles:20231014T163000
DTSTAMP:20260424T161623
CREATED:20231014T233735Z
LAST-MODIFIED:20231014T233735Z
UID:22146-1697297400-1697301000@www.ayclogic.com
SUMMARY:3:30 PM – Intro To Java – William
DESCRIPTION:Today We Did\n\nFinished for loop with indexes\nLearned about while loops\nStarted learning about the Random module\n\nHomework\n\nCreate Oct14_WhileLoopHW.java\n\nFinish the exercises at https://www.ayclogic.com/java-exercise-while-loop/\n\n\n\nUpload your homework to your assigned google drive by Friday night. \nIf you have any questions\, please email me at williamsmith@ayclogic.com.
URL:https://www.ayclogic.com/event/330-pm-intro-to-java-william-4/
CATEGORIES:Introduction To Java,Java
END:VEVENT
END:VCALENDAR