BEGIN:VCALENDAR
VERSION:2.0
PRODID:-//American Young Coder - ECPv6.10.1.1//NONSGML v1.0//EN
CALSCALE:GREGORIAN
METHOD:PUBLISH
X-WR-CALNAME:American Young Coder
X-ORIGINAL-URL:https://www.ayclogic.com
X-WR-CALDESC:Events for American Young Coder
REFRESH-INTERVAL;VALUE=DURATION:PT1H
X-Robots-Tag:noindex
X-PUBLISHED-TTL:PT1H
BEGIN:VTIMEZONE
TZID:America/Los_Angeles
BEGIN:DAYLIGHT
TZOFFSETFROM:-0800
TZOFFSETTO:-0700
TZNAME:PDT
DTSTART:20230312T100000
END:DAYLIGHT
BEGIN:STANDARD
TZOFFSETFROM:-0700
TZOFFSETTO:-0800
TZNAME:PST
DTSTART:20231105T090000
END:STANDARD
END:VTIMEZONE
BEGIN:VEVENT
DTSTART;TZID=America/Los_Angeles:20231021T153000
DTEND;TZID=America/Los_Angeles:20231021T163000
DTSTAMP:20260424T161616
CREATED:20231021T233641Z
LAST-MODIFIED:20231021T233641Z
UID:22246-1697902200-1697905800@www.ayclogic.com
SUMMARY:3:30 PM - Intro to Java - William
DESCRIPTION:Today We Did\n\nContinued with the Random module\nCreated a mini adventure game\n\nHomework\n\nCreate Oct21_Magic8Ball.java\n\nCreate the Java program at https://www.ayclogic.com/intro-to-python/magic-8-ball/\n\n\n\nUpload your homework to your assigned google drive by Friday night. \nIf you have any questions\, please email me at williamsmith@ayclogic.com.
URL:https://www.ayclogic.com/event/330-pm-intro-to-java-william-5/
CATEGORIES:Introduction To Java,Java
END:VEVENT
END:VCALENDAR